BEGIN:VCALENDAR
VERSION:2.0
PRODID:-//Blog knihkupectví Luxor - ECPv6.15.20//NONSGML v1.0//EN
CALSCALE:GREGORIAN
METHOD:PUBLISH
X-WR-CALNAME:Blog knihkupectví Luxor
X-ORIGINAL-URL:https://www.luxor.cz/blog
X-WR-CALDESC:Akce na Blog knihkupectví Luxor
REFRESH-INTERVAL;VALUE=DURATION:PT1H
X-Robots-Tag:noindex
X-PUBLISHED-TTL:PT1H
BEGIN:VTIMEZONE
TZID:Europe/Prague
BEGIN:DAYLIGHT
TZOFFSETFROM:+0100
TZOFFSETTO:+0200
TZNAME:CEST
DTSTART:20180325T010000
END:DAYLIGHT
BEGIN:STANDARD
TZOFFSETFROM:+0200
TZOFFSETTO:+0100
TZNAME:CET
DTSTART:20181028T010000
END:STANDARD
BEGIN:DAYLIGHT
TZOFFSETFROM:+0100
TZOFFSETTO:+0200
TZNAME:CEST
DTSTART:20190331T010000
END:DAYLIGHT
BEGIN:STANDARD
TZOFFSETFROM:+0200
TZOFFSETTO:+0100
TZNAME:CET
DTSTART:20191027T010000
END:STANDARD
BEGIN:DAYLIGHT
TZOFFSETFROM:+0100
TZOFFSETTO:+0200
TZNAME:CEST
DTSTART:20200329T010000
END:DAYLIGHT
BEGIN:STANDARD
TZOFFSETFROM:+0200
TZOFFSETTO:+0100
TZNAME:CET
DTSTART:20201025T010000
END:STANDARD
END:VTIMEZONE
BEGIN:VEVENT
DTSTART;TZID=Europe/Prague:20190331T112300
DTEND;TZID=Europe/Prague:20190331T112300
DTSTAMP:20260422T095041
CREATED:20190831T152619Z
LAST-MODIFIED:20190831T152619Z
UID:1905-1554031380-1554031380@www.luxor.cz
SUMMARY:Sleva 50 % na puzzle Dino
DESCRIPTION:Nabídku všech Dino puzzle s 50% slevou naleznete na https://luxor.cz/akcni-nabidka/Puzzle-Dino-Toys/
URL:https://www.luxor.cz/blog/akce/sleva-50-na-puzzle-dino--1279/
ORGANIZER;CN="Luxor":MAILTO:info@luxor.cz
END:VEVENT
BEGIN:VEVENT
DTSTART;TZID=Europe/Prague:20190331T210000
DTEND;TZID=Europe/Prague:20190331T210000
DTSTAMP:20260422T095041
CREATED:20190831T152616Z
LAST-MODIFIED:20190831T152616Z
UID:1898-1554066000-1554066000@www.luxor.cz
SUMMARY:KUP 1 KNIHU A DALŠÍ 4 ZÍSKEJ ZDARMA!
DESCRIPTION:Po celý březen najdete desítky vybraných titulů ve všech\nnašich knihkupectvích ve speciální nabídce. \nVyberete si totiž 5\nknih\, z nichž zaplatíte jen tu nejdražší. Zbylé 4 dostanete od Luxoru ZDARMA. \n \nNabízené knihy si můžete prohlédnout ZDE \n \nV knihkupectvích najdete knihy označené speciální\nsamolepkou a vystavené všechny na jednom místě\, abyste si mohli pohodlně vybrat. \n \nAkce platí ve všech\nknihkupectvích Luxor a také pro e-shop. \nLuxor\, v knihkupectví jako doma
URL:https://www.luxor.cz/blog/akce/kup-1-knihu-a-dalsi-4-ziskej-zdarma--1272/
ORGANIZER;CN="Luxor":MAILTO:info@luxor.cz
END:VEVENT
END:VCALENDAR