BEGIN:VCALENDAR
VERSION:2.0
PRODID:-//Blog knihkupectví Luxor - ECPv6.15.20//NONSGML v1.0//EN
CALSCALE:GREGORIAN
METHOD:PUBLISH
X-ORIGINAL-URL:https://www.luxor.cz/blog
X-WR-CALDESC:Akce na Blog knihkupectví Luxor
REFRESH-INTERVAL;VALUE=DURATION:PT1H
X-Robots-Tag:noindex
X-PUBLISHED-TTL:PT1H
BEGIN:VTIMEZONE
TZID:Europe/Prague
BEGIN:DAYLIGHT
TZOFFSETFROM:+0100
TZOFFSETTO:+0200
TZNAME:CEST
DTSTART:20180325T010000
END:DAYLIGHT
BEGIN:STANDARD
TZOFFSETFROM:+0200
TZOFFSETTO:+0100
TZNAME:CET
DTSTART:20181028T010000
END:STANDARD
BEGIN:DAYLIGHT
TZOFFSETFROM:+0100
TZOFFSETTO:+0200
TZNAME:CEST
DTSTART:20190331T010000
END:DAYLIGHT
BEGIN:STANDARD
TZOFFSETFROM:+0200
TZOFFSETTO:+0100
TZNAME:CET
DTSTART:20191027T010000
END:STANDARD
BEGIN:DAYLIGHT
TZOFFSETFROM:+0100
TZOFFSETTO:+0200
TZNAME:CEST
DTSTART:20200329T010000
END:DAYLIGHT
BEGIN:STANDARD
TZOFFSETFROM:+0200
TZOFFSETTO:+0100
TZNAME:CET
DTSTART:20201025T010000
END:STANDARD
END:VTIMEZONE
BEGIN:VEVENT
DTSTART;TZID=Europe/Prague:20190326T170000
DTEND;TZID=Europe/Prague:20190326T170000
DTSTAMP:20260422T095137
CREATED:20190831T152618Z
LAST-MODIFIED:20190831T152618Z
UID:1904-1553619600-1553619600@www.luxor.cz
SUMMARY:Křest knihy Violka od Mirky Skočílkové
DESCRIPTION:Marika je\nsamostatná mladá žena\, která se nechce vázat\, a aby si udělala v životě\npořádek\, rozhodne se odletět na Nový Zéland. Její plány zhatí tragická smrt\njejí sestry Violy a jejího manžela – Marika se najednou musí postarat o malou\nneteř Violku\, která po smrti rodičů trpí psychickými problémy\, sehnat peníze na\nzaplacení dluhů sestřina manžela – a hlavně neustále bojuje s Violčinou\nbabičkou\, sestřinou tchyní\, která je po všech stránkách ukázková mrcha. Maričin\nživot najednou nabere úplně jiný směr\, ale přes všechny problémy ale zjišťuje\,\nže je šťastná.
URL:https://www.luxor.cz/blog/akce/krest-knihy-violka-od-mirky-skocilkove--1278/
LOCATION:Palác knih Luxor\, Václavské náměstí 820/41\, Praha 1\, 11000\, Česká republika
ORGANIZER;CN="Luxor":MAILTO:info@luxor.cz
END:VEVENT
END:VCALENDAR