BEGIN:VCALENDAR
VERSION:2.0
PRODID:-//Blog knihkupectví Luxor - ECPv6.15.20//NONSGML v1.0//EN
CALSCALE:GREGORIAN
METHOD:PUBLISH
X-WR-CALNAME:Blog knihkupectví Luxor
X-ORIGINAL-URL:https://www.luxor.cz/blog
X-WR-CALDESC:Akce na Blog knihkupectví Luxor
REFRESH-INTERVAL;VALUE=DURATION:PT1H
X-Robots-Tag:noindex
X-PUBLISHED-TTL:PT1H
BEGIN:VTIMEZONE
TZID:Europe/Prague
BEGIN:DAYLIGHT
TZOFFSETFROM:+0100
TZOFFSETTO:+0200
TZNAME:CEST
DTSTART:20180325T010000
END:DAYLIGHT
BEGIN:STANDARD
TZOFFSETFROM:+0200
TZOFFSETTO:+0100
TZNAME:CET
DTSTART:20181028T010000
END:STANDARD
BEGIN:DAYLIGHT
TZOFFSETFROM:+0100
TZOFFSETTO:+0200
TZNAME:CEST
DTSTART:20190331T010000
END:DAYLIGHT
BEGIN:STANDARD
TZOFFSETFROM:+0200
TZOFFSETTO:+0100
TZNAME:CET
DTSTART:20191027T010000
END:STANDARD
BEGIN:DAYLIGHT
TZOFFSETFROM:+0100
TZOFFSETTO:+0200
TZNAME:CEST
DTSTART:20200329T010000
END:DAYLIGHT
BEGIN:STANDARD
TZOFFSETFROM:+0200
TZOFFSETTO:+0100
TZNAME:CET
DTSTART:20201025T010000
END:STANDARD
END:VTIMEZONE
BEGIN:VEVENT
DTSTART;TZID=Europe/Prague:20190320T170000
DTEND;TZID=Europe/Prague:20190320T170000
DTSTAMP:20260422T095002
CREATED:20190831T152618Z
LAST-MODIFIED:20190831T152618Z
UID:1902-1553101200-1553101200@www.luxor.cz
SUMMARY:Obonete S. Ubam Sedm let v Africe – křest knihy a autogramiáda syna nigerijského krále
DESCRIPTION:Odvahu\nnevzdat boj\, který se zdá předem ztracený\, projevil autor po smrti svého otce\,\nkdyž dobrovolně odešel z Česka do Nigérie\, aby odvrátil pád hrozící jeho\nrodině. Do Afriky se vrací jako dědic otcova trůnu\, následuje volání dávné\nrodové tradice a přebírá odpovědnost za osud rodiny\, kterou však sotva zná. Na\ntéto cestě nachází nejen své kořeny a novou identitu\, ale často se také ocitá\nna pokraji smrti\, opuštěn blízkými i svou životní láskou a vydaný všanc jednomu\nz nejnebezpečnějších míst naší planety. Skutečný příběh přináší čtenářům\nsyrovou výpověď o drsném životě na africkém kontinentu a ukazuje\, že i v\nnejtěžších chvílích si lze zvolit cestu svobody a naplnit své životní poslání.
URL:https://www.luxor.cz/blog/akce/obonete-s-ubam-sedm-let-v-africe-krest-knihy-a-autogramiada-syna-nigerijskeho-krale--1276/
LOCATION:Palác knih Luxor\, Václavské náměstí 820/41\, Praha 1\, 11000\, Česká republika
ORGANIZER;CN="Luxor":MAILTO:info@luxor.cz
END:VEVENT
END:VCALENDAR