BEGIN:VCALENDAR
VERSION:2.0
PRODID:-//Blog knihkupectví Luxor - ECPv6.15.20//NONSGML v1.0//EN
CALSCALE:GREGORIAN
METHOD:PUBLISH
X-WR-CALNAME:Blog knihkupectví Luxor
X-ORIGINAL-URL:https://www.luxor.cz/blog
X-WR-CALDESC:Akce na Blog knihkupectví Luxor
REFRESH-INTERVAL;VALUE=DURATION:PT1H
X-Robots-Tag:noindex
X-PUBLISHED-TTL:PT1H
BEGIN:VTIMEZONE
TZID:Europe/Prague
BEGIN:DAYLIGHT
TZOFFSETFROM:+0100
TZOFFSETTO:+0200
TZNAME:CEST
DTSTART:20180325T010000
END:DAYLIGHT
BEGIN:STANDARD
TZOFFSETFROM:+0200
TZOFFSETTO:+0100
TZNAME:CET
DTSTART:20181028T010000
END:STANDARD
BEGIN:DAYLIGHT
TZOFFSETFROM:+0100
TZOFFSETTO:+0200
TZNAME:CEST
DTSTART:20190331T010000
END:DAYLIGHT
BEGIN:STANDARD
TZOFFSETFROM:+0200
TZOFFSETTO:+0100
TZNAME:CET
DTSTART:20191027T010000
END:STANDARD
BEGIN:DAYLIGHT
TZOFFSETFROM:+0100
TZOFFSETTO:+0200
TZNAME:CEST
DTSTART:20200329T010000
END:DAYLIGHT
BEGIN:STANDARD
TZOFFSETFROM:+0200
TZOFFSETTO:+0100
TZNAME:CET
DTSTART:20201025T010000
END:STANDARD
END:VTIMEZONE
BEGIN:VEVENT
DTSTART;TZID=Europe/Prague:20190306T160000
DTEND;TZID=Europe/Prague:20190306T160000
DTSTAMP:20260422T095003
CREATED:20190831T152616Z
LAST-MODIFIED:20190831T152616Z
UID:1897-1551888000-1551888000@www.luxor.cz
SUMMARY:Křest knihy Historie českého zločinu od Bronislavy Janečkové a Emila Hrušky
DESCRIPTION:V archivech jsou uloženy statisíce dnes už zapomenutých\nsoudních a policejních spisů\, které dokumentují lidská dramata na straně obětí\,\nzločinců i mužů zákona. Patnáct kriminálních případů zpracovaných v této knize\nčerpá právě z těchto dobových dokumentů a přináší pohled na proměnu zločinu v\nletech 1914 až 2004 od časů\, kdy ještě v kriminalistice neexistovala\ndaktyloskopie až po první případ vyřešený metodou porovnání DNA a pátrání v\nkyberprostoru internetu. Skutečné zločiny zasazené v reálných a často také\ndramatických kulisách historie naší republiky. Otec\, který pro svou lásku\nobětuje dítě. Kasař\, který si neváhal změnit tvář. Žena\, která stála za\nzmizením minimálně 47 dětí. Vrah v roli hrdiny\, který dostane vyznamenání od\nprezidenta republiky… Skutečné příběhy\, které jsou často šílenější než\nnespoutaná fantazie spisovatelů. Kniha vychází z oblíbeného rozhlasového cyklu\n„Historie českého zločinu“\, který je od roku 2016 vysílán na stanici Český\nrozhlas Dvojka.
URL:https://www.luxor.cz/blog/akce/krest-knihy-historie-ceskeho-zlocinu-od-bronislavy-janeckove-a-emila-hrusky--1271/
LOCATION:Palác knih Luxor\, Václavské náměstí 820/41\, Praha 1\, 11000\, Česká republika
ORGANIZER;CN="Luxor":MAILTO:info@luxor.cz
END:VEVENT
BEGIN:VEVENT
DTSTART;TZID=Europe/Prague:20190306T180000
DTEND;TZID=Europe/Prague:20190306T180000
DTSTAMP:20260422T095003
CREATED:20190831T152616Z
LAST-MODIFIED:20190831T152616Z
UID:1896-1551895200-1551895200@www.luxor.cz
SUMMARY:NOVÝ SMÍCHOV: Křest knihy Devět nocí a autogramiáda Zuzany Strachotové
DESCRIPTION:Hrozba byla\nzažehnána. Bezprostřední nebezpečí pominulo. Sera a Lee mohou konečně žít své\nživoty\, tak\, jak si je ve vidině svobody vysnili. Jenomže tam\, kde mělo zářit\nhrdinství\, zůstalo v očích lidu selhání. Prosperita Bloku upadá\, zatímco\nCitadela svírá Sabrii v ještě krutější formě diktatury. Bez elektřiny se lidské\npotřeby rychle mění v boj o koryto a povstalecké praktiky se až příliš začínají\npřibližovat těm citadelským. A když je cena za normální život pro Leeho příliš\nvysoká\, rozhodne se Sera zaplatit ještě vyšší. Osud Sabrie leží v rukou toho\, kdo\nse první dostane k memoáru. Zničit. Zachránit. Zneužít. Každá strana má jiné\númysly. Jenomže kolik těch stran vlastně je?
URL:https://www.luxor.cz/blog/akce/novy-smichov-krest-knihy-devet-noci-a-autogramiada-zuzany-strachotove--1270/
LOCATION:Knihkupectví Nový Smíchov\, OC Nový Smíchov\, Praha 5\, 15000\, Česká republika
ORGANIZER;CN="Luxor":MAILTO:info@luxor.cz
END:VEVENT
END:VCALENDAR