BEGIN:VCALENDAR
VERSION:2.0
PRODID:-//Blog knihkupectví Luxor - ECPv6.15.20//NONSGML v1.0//EN
CALSCALE:GREGORIAN
METHOD:PUBLISH
X-WR-CALNAME:Blog knihkupectví Luxor
X-ORIGINAL-URL:https://www.luxor.cz/blog
X-WR-CALDESC:Akce na Blog knihkupectví Luxor
REFRESH-INTERVAL;VALUE=DURATION:PT1H
X-Robots-Tag:noindex
X-PUBLISHED-TTL:PT1H
BEGIN:VTIMEZONE
TZID:Europe/Prague
BEGIN:DAYLIGHT
TZOFFSETFROM:+0100
TZOFFSETTO:+0200
TZNAME:CEST
DTSTART:20180325T010000
END:DAYLIGHT
BEGIN:STANDARD
TZOFFSETFROM:+0200
TZOFFSETTO:+0100
TZNAME:CET
DTSTART:20181028T010000
END:STANDARD
BEGIN:DAYLIGHT
TZOFFSETFROM:+0100
TZOFFSETTO:+0200
TZNAME:CEST
DTSTART:20190331T010000
END:DAYLIGHT
BEGIN:STANDARD
TZOFFSETFROM:+0200
TZOFFSETTO:+0100
TZNAME:CET
DTSTART:20191027T010000
END:STANDARD
BEGIN:DAYLIGHT
TZOFFSETFROM:+0100
TZOFFSETTO:+0200
TZNAME:CEST
DTSTART:20200329T010000
END:DAYLIGHT
BEGIN:STANDARD
TZOFFSETFROM:+0200
TZOFFSETTO:+0100
TZNAME:CET
DTSTART:20201025T010000
END:STANDARD
END:VTIMEZONE
BEGIN:VEVENT
DTSTART;TZID=Europe/Prague:20190226T160000
DTEND;TZID=Europe/Prague:20190226T160000
DTSTAMP:20260422T095004
CREATED:20190831T152614Z
LAST-MODIFIED:20190831T152614Z
UID:1894-1551196800-1551196800@www.luxor.cz
SUMMARY:MLADÁ BOLESLAV: Autogramiáda Vratislava Kulhánka ke knize Cestou na hrad
DESCRIPTION:Kniha\nVratislava Kulhánka Cestou na hrad je shrnutím života muže\, který se vypracoval\nod základních dělnických povolání až k manažerskému vrcholu šéfa\nmladoboleslavské Škodovky. Vzpomíná na začátky\, život mladého muže v době\nsocialismu i tvrdé normalizaci\, o nelehkém překonávání překážek\, které tehdejší\ndoba přinášela\, ale i o radostech ze sportovních úspěchů vrcholového\nvolejbalisty a jezdce automobilových rallye. Po revoluci začala jeho hvězda\nstoupat\, stal se ředitelem českobudějovické firmy Robert Bosch a o pár let\npozději předsedou představenstva Škody Auto. V loňském roce byl jedním z\nuchazečů o funkci prezidenta ČR. Vratislav Kulhánek hodnotí své životní etapy s\nnadhledem a glosuje zejména volební kampaň z pozice aktivního účastníka a\nobjektu zájmu médií. Právě o nich a o jejich moci ovlivňovat myšlení lidí podle\njednoduchých schémat je několik samostatných kapitol.
URL:https://www.luxor.cz/blog/akce/bondy-autogramiada-vratislava-kulhanka-ke-knize-cestou-na-hrad--1268/
LOCATION:Knihkupectví Bondy Centrum\, OC Bondy\, Mladá Boleslav\, 29301\, Česká republika
ORGANIZER;CN="Luxor":MAILTO:info@luxor.cz
END:VEVENT
BEGIN:VEVENT
DTSTART;TZID=Europe/Prague:20190226T170000
DTEND;TZID=Europe/Prague:20190226T170000
DTSTAMP:20260422T095004
CREATED:20190831T152614Z
LAST-MODIFIED:20190831T152614Z
UID:1892-1551200400-1551200400@www.luxor.cz
SUMMARY:Delphine de Vigan: Beseda\, autorské čtení a autogramiáda
DESCRIPTION:
URL:https://www.luxor.cz/blog/akce/delphine-de-vigan-beseda-autorske-cteni-a-autogramiada--1266/
LOCATION:Palác knih Luxor\, Václavské náměstí 820/41\, Praha 1\, 11000\, Česká republika
ORGANIZER;CN="Luxor":MAILTO:info@luxor.cz
END:VEVENT
END:VCALENDAR