BEGIN:VCALENDAR
VERSION:2.0
PRODID:-//Blog knihkupectví Luxor - ECPv6.15.20//NONSGML v1.0//EN
CALSCALE:GREGORIAN
METHOD:PUBLISH
X-WR-CALNAME:Blog knihkupectví Luxor
X-ORIGINAL-URL:https://www.luxor.cz/blog
X-WR-CALDESC:Akce na Blog knihkupectví Luxor
REFRESH-INTERVAL;VALUE=DURATION:PT1H
X-Robots-Tag:noindex
X-PUBLISHED-TTL:PT1H
BEGIN:VTIMEZONE
TZID:Europe/Prague
BEGIN:DAYLIGHT
TZOFFSETFROM:+0100
TZOFFSETTO:+0200
TZNAME:CEST
DTSTART:20180325T010000
END:DAYLIGHT
BEGIN:STANDARD
TZOFFSETFROM:+0200
TZOFFSETTO:+0100
TZNAME:CET
DTSTART:20181028T010000
END:STANDARD
BEGIN:DAYLIGHT
TZOFFSETFROM:+0100
TZOFFSETTO:+0200
TZNAME:CEST
DTSTART:20190331T010000
END:DAYLIGHT
BEGIN:STANDARD
TZOFFSETFROM:+0200
TZOFFSETTO:+0100
TZNAME:CET
DTSTART:20191027T010000
END:STANDARD
BEGIN:DAYLIGHT
TZOFFSETFROM:+0100
TZOFFSETTO:+0200
TZNAME:CEST
DTSTART:20200329T010000
END:DAYLIGHT
BEGIN:STANDARD
TZOFFSETFROM:+0200
TZOFFSETTO:+0100
TZNAME:CET
DTSTART:20201025T010000
END:STANDARD
END:VTIMEZONE
BEGIN:VEVENT
DTSTART;TZID=Europe/Prague:20190213T170000
DTEND;TZID=Europe/Prague:20190213T170000
DTSTAMP:20260422T174951
CREATED:20190831T152612Z
LAST-MODIFIED:20190831T152612Z
UID:1890-1550077200-1550077200@www.luxor.cz
SUMMARY:PLZEŇ: TMBK a Dominik Landsman - Továrna na debilno 2\, beseda a autogramiáda
DESCRIPTION:Skandálně nekorektní politická satira od autora Deníčků\nmoderního fotra a mistra koláží TMBK. Představte si\, že Miloš Zeman zemřel. Co\nby se asi stalo? Plakal by Jiří Ovčáček tisíc dní a nocí a poté se znovu\nprovdal? Jmenoval by se Andrej Babiš císařem? Zastavil by Tomio Okamura konečně\nten svůj islám? Využil by Vojtěch Filip situace a zaslal do Moskvy zvací dopis?\nA co na to Pražská kavárna? To se dozvíte v brutálně ostré politické grotesce.\nVýstraha: Během psaní této knížky nezemřel ani jeden Miloš Zeman. Pokud zemřel\nv době po vydání této knížky\, za to my nemůžeme. To se tak nějak dalo čekat.
URL:https://www.luxor.cz/blog/akce/plzen-tmbk-a-dominik-landsman-tovarna-na-debilno-2-beseda-a-autogramiada--1264/
LOCATION:Knihkupectví Plaza\, OC Plaza\, Plzeň\, 30100\, Česká republika
ORGANIZER;CN="Luxor":MAILTO:info@luxor.cz
END:VEVENT
END:VCALENDAR