BEGIN:VCALENDAR
VERSION:2.0
PRODID:-//Blog knihkupectví Luxor - ECPv6.15.20//NONSGML v1.0//EN
CALSCALE:GREGORIAN
METHOD:PUBLISH
X-WR-CALNAME:Blog knihkupectví Luxor
X-ORIGINAL-URL:https://www.luxor.cz/blog
X-WR-CALDESC:Akce na Blog knihkupectví Luxor
REFRESH-INTERVAL;VALUE=DURATION:PT1H
X-Robots-Tag:noindex
X-PUBLISHED-TTL:PT1H
BEGIN:VTIMEZONE
TZID:Europe/Prague
BEGIN:DAYLIGHT
TZOFFSETFROM:+0100
TZOFFSETTO:+0200
TZNAME:CEST
DTSTART:20180325T010000
END:DAYLIGHT
BEGIN:STANDARD
TZOFFSETFROM:+0200
TZOFFSETTO:+0100
TZNAME:CET
DTSTART:20181028T010000
END:STANDARD
BEGIN:DAYLIGHT
TZOFFSETFROM:+0100
TZOFFSETTO:+0200
TZNAME:CEST
DTSTART:20190331T010000
END:DAYLIGHT
BEGIN:STANDARD
TZOFFSETFROM:+0200
TZOFFSETTO:+0100
TZNAME:CET
DTSTART:20191027T010000
END:STANDARD
BEGIN:DAYLIGHT
TZOFFSETFROM:+0100
TZOFFSETTO:+0200
TZNAME:CEST
DTSTART:20200329T010000
END:DAYLIGHT
BEGIN:STANDARD
TZOFFSETFROM:+0200
TZOFFSETTO:+0100
TZNAME:CET
DTSTART:20201025T010000
END:STANDARD
END:VTIMEZONE
BEGIN:VEVENT
DTSTART;TZID=Europe/Prague:20190210T200000
DTEND;TZID=Europe/Prague:20190210T200000
DTSTAMP:20260422T174952
CREATED:20190831T152609Z
LAST-MODIFIED:20190831T152609Z
UID:1883-1549828800-1549828800@www.luxor.cz
SUMMARY:Kup víc\, zaplať míň!
DESCRIPTION:Akce Kup víc\, zaplať míň znamená možnost vybavit se čtením na dlouho dopředu za příjemnou cenu. Čím více knih si z vybraných titulů zakoupíte\, tím nižší bude cena na účtence. \nJak to funguje? \nVyberte si na pobočkách knihkupectví LUXOR z titulů vybraných do akce Kup víc\, zaplať míň (na prodejně samostatně umístěné) nebo v odpovídající sekci na našem e-shopu. \n \nPodle počtu knih v akci bude výsledná cena vypadat následovně: \nNakupte 15 knih a máte 1 za 39 Kč \nNakupte 10 knih a máte 1 za 49 Kč \nNakupte 5 knih a máte 1 za 79 Kč \nNakupte 3 knihy a máte 1 za 99 Kč \n \nPříjemné čtení!
URL:https://www.luxor.cz/blog/akce/kup-vic-zaplat-min--1255/
ORGANIZER;CN="Luxor":MAILTO:info@luxor.cz
END:VEVENT
END:VCALENDAR