BEGIN:VCALENDAR
VERSION:2.0
PRODID:-//Blog knihkupectví Luxor - ECPv6.15.20//NONSGML v1.0//EN
CALSCALE:GREGORIAN
METHOD:PUBLISH
X-ORIGINAL-URL:https://www.luxor.cz/blog
X-WR-CALDESC:Akce na Blog knihkupectví Luxor
REFRESH-INTERVAL;VALUE=DURATION:PT1H
X-Robots-Tag:noindex
X-PUBLISHED-TTL:PT1H
BEGIN:VTIMEZONE
TZID:Europe/Prague
BEGIN:DAYLIGHT
TZOFFSETFROM:+0100
TZOFFSETTO:+0200
TZNAME:CEST
DTSTART:20180325T010000
END:DAYLIGHT
BEGIN:STANDARD
TZOFFSETFROM:+0200
TZOFFSETTO:+0100
TZNAME:CET
DTSTART:20181028T010000
END:STANDARD
BEGIN:DAYLIGHT
TZOFFSETFROM:+0100
TZOFFSETTO:+0200
TZNAME:CEST
DTSTART:20190331T010000
END:DAYLIGHT
BEGIN:STANDARD
TZOFFSETFROM:+0200
TZOFFSETTO:+0100
TZNAME:CET
DTSTART:20191027T010000
END:STANDARD
BEGIN:DAYLIGHT
TZOFFSETFROM:+0100
TZOFFSETTO:+0200
TZNAME:CEST
DTSTART:20200329T010000
END:DAYLIGHT
BEGIN:STANDARD
TZOFFSETFROM:+0200
TZOFFSETTO:+0100
TZNAME:CET
DTSTART:20201025T010000
END:STANDARD
END:VTIMEZONE
BEGIN:VEVENT
DTSTART;TZID=Europe/Prague:20190207T170000
DTEND;TZID=Europe/Prague:20190207T170000
DTSTAMP:20260422T175716
CREATED:20190831T152611Z
LAST-MODIFIED:20190831T152611Z
UID:1886-1549558800-1549558800@www.luxor.cz
SUMMARY:NOVÝ SMÍCHOV: Jan Mühlfeit a Kateřina Novotná: Odemykání dětského potenciálu
DESCRIPTION:Každé dítě je génius\, jen potřebuje objevit své skryté talenty. Od autora bestselleru Pozitivní leader. \nKnižní zpracování unikátního semináře Odemykání dětského potenciálu\,\nkterý vede světově uznávaný kouč Jan Mühlfeit spolu s lektorkou Katkou\nNovotnou\, vám pomůže pochopit\, v čem vaše děti vynikají. Odhalíte\, proč\nje důležité pomoct dětem objevit skryté talenty a jak je můžete z pozice\n rodičů podpořit v rozvíjení jejich silných stránek\, aby je začali\nefektivně využívat. V životě\, ve studiu a později i v práci.
URL:https://www.luxor.cz/blog/akce/novy-smichov-jan-muhlfeit-a-katerina-novotna-odemykani-detskeho-potencialu--1260/
LOCATION:Knihkupectví Nový Smíchov\, OC Nový Smíchov\, Praha 5\, 15000\, Česká republika
ORGANIZER;CN="Luxor":MAILTO:info@luxor.cz
END:VEVENT
END:VCALENDAR