BEGIN:VCALENDAR
VERSION:2.0
PRODID:-//Blog knihkupectví Luxor - ECPv6.15.20//NONSGML v1.0//EN
CALSCALE:GREGORIAN
METHOD:PUBLISH
X-WR-CALNAME:Blog knihkupectví Luxor
X-ORIGINAL-URL:https://www.luxor.cz/blog
X-WR-CALDESC:Akce na Blog knihkupectví Luxor
REFRESH-INTERVAL;VALUE=DURATION:PT1H
X-Robots-Tag:noindex
X-PUBLISHED-TTL:PT1H
BEGIN:VTIMEZONE
TZID:Europe/Prague
BEGIN:DAYLIGHT
TZOFFSETFROM:+0100
TZOFFSETTO:+0200
TZNAME:CEST
DTSTART:20180325T010000
END:DAYLIGHT
BEGIN:STANDARD
TZOFFSETFROM:+0200
TZOFFSETTO:+0100
TZNAME:CET
DTSTART:20181028T010000
END:STANDARD
BEGIN:DAYLIGHT
TZOFFSETFROM:+0100
TZOFFSETTO:+0200
TZNAME:CEST
DTSTART:20190331T010000
END:DAYLIGHT
BEGIN:STANDARD
TZOFFSETFROM:+0200
TZOFFSETTO:+0100
TZNAME:CET
DTSTART:20191027T010000
END:STANDARD
BEGIN:DAYLIGHT
TZOFFSETFROM:+0100
TZOFFSETTO:+0200
TZNAME:CEST
DTSTART:20200329T010000
END:DAYLIGHT
BEGIN:STANDARD
TZOFFSETFROM:+0200
TZOFFSETTO:+0100
TZNAME:CET
DTSTART:20201025T010000
END:STANDARD
END:VTIMEZONE
BEGIN:VEVENT
DTSTART;TZID=Europe/Prague:20190129T170000
DTEND;TZID=Europe/Prague:20190129T170000
DTSTAMP:20260422T174931
CREATED:20190831T152612Z
LAST-MODIFIED:20190831T152612Z
UID:1889-1548781200-1548781200@www.luxor.cz
SUMMARY:Křest knihy Narušitel  Davida Baldy a Petra Kulta
DESCRIPTION:Příběh vypráví o životě armádních letců z doby 70. a 80. let minulého století. Hlavními postavami jsou čtyři přátelé\, které spojuje jejich velká láska k létání. Nejtalentovanějším z nich je Vladislav Kučera\, který na svazarmovském letišti tráví většinu svého času. Najednou toto idylické prostředí naruší všudypřítomná StB. \nMnohaletí přátelé se s agenty dostávají do blízkého kontaktu a je zcela nemožné se styku s nimi vyhnout. Přátelé rázem stojí proti sobě na různých stranách barikády. Kučerovým hrozí životní nebezpečí\, a proto se odhodlají k riskantnímu řešení. Není jiná možnost. Musí se rozhodnout\, komu můžou věřit\, a kdo pro ně představuje hrozící zradu. Podaří se jim uniknout Státní bezpečnosti a dostat se do bezpečí?
URL:https://www.luxor.cz/blog/akce/krest-knihy-narusitel--1263/
LOCATION:Palác knih Luxor\, Václavské náměstí 820/41\, Praha 1\, 11000\, Česká republika
ORGANIZER;CN="Luxor":MAILTO:info@luxor.cz
END:VEVENT
END:VCALENDAR