BEGIN:VCALENDAR
VERSION:2.0
PRODID:-//Blog knihkupectví Luxor - ECPv6.15.20//NONSGML v1.0//EN
CALSCALE:GREGORIAN
METHOD:PUBLISH
X-ORIGINAL-URL:https://www.luxor.cz/blog
X-WR-CALDESC:Akce na Blog knihkupectví Luxor
REFRESH-INTERVAL;VALUE=DURATION:PT1H
X-Robots-Tag:noindex
X-PUBLISHED-TTL:PT1H
BEGIN:VTIMEZONE
TZID:Europe/Prague
BEGIN:DAYLIGHT
TZOFFSETFROM:+0100
TZOFFSETTO:+0200
TZNAME:CEST
DTSTART:20180325T010000
END:DAYLIGHT
BEGIN:STANDARD
TZOFFSETFROM:+0200
TZOFFSETTO:+0100
TZNAME:CET
DTSTART:20181028T010000
END:STANDARD
BEGIN:DAYLIGHT
TZOFFSETFROM:+0100
TZOFFSETTO:+0200
TZNAME:CEST
DTSTART:20190331T010000
END:DAYLIGHT
BEGIN:STANDARD
TZOFFSETFROM:+0200
TZOFFSETTO:+0100
TZNAME:CET
DTSTART:20191027T010000
END:STANDARD
BEGIN:DAYLIGHT
TZOFFSETFROM:+0100
TZOFFSETTO:+0200
TZNAME:CEST
DTSTART:20200329T010000
END:DAYLIGHT
BEGIN:STANDARD
TZOFFSETFROM:+0200
TZOFFSETTO:+0100
TZNAME:CET
DTSTART:20201025T010000
END:STANDARD
END:VTIMEZONE
BEGIN:VEVENT
DTSTART;TZID=Europe/Prague:20190124T170000
DTEND;TZID=Europe/Prague:20190124T170000
DTSTAMP:20260422T192420
CREATED:20190831T152609Z
LAST-MODIFIED:20190831T152609Z
UID:1884-1548349200-1548349200@www.luxor.cz
SUMMARY:Lenka Klicperová a Markéta Kutilová - Ve válce: Příběhy obyčejných lidí z Iráku a Sýrie
DESCRIPTION:Příběhy obyčejných lidí\, kterým vstoupila do života válka na\núzemí Sýrie a Iráku. Příběhy lidí\, kterým válka vzala vše\, ale i lidí\, kteří z\nní vyšli posílení. Příběhy statečných žen\, jako je Bafrín\, dvacetiletá dívka\,\nkterá poslední tři roky strávila se zbraní v ruce a podílela se na osvobození\nRakky\, bašty IS. Příběhy rodin\, kterým válka vzala vše. Jako rodiny Révan\,\nkterou unesli islamisté a dodnes se neví o jejím osudu nic bližšího. Příběh\nMasúda\, kterého IS unesl a věznil skoro celý rok. Příběh dětských vojáků\,\nmalých jezídských chlapců\, ze kterých IS cvičil oddané bojovníky jdoucí na smrt\nv prvních frontových liniích. Příběh Wahídy\, valkýry pouště\, která se z\nobyčejné policistky stala postrachem IS v Iráku…
URL:https://www.luxor.cz/blog/akce/lenka-klicperova-a-marketa-kutilova-ve-valce-pribehy-obycejnych-lidi-z-iraku-a-syrie--1256/
LOCATION:Palác knih Luxor\, Václavské náměstí 820/41\, Praha 1\, 11000\, Česká republika
ORGANIZER;CN="Luxor":MAILTO:info@luxor.cz
END:VEVENT
END:VCALENDAR