BEGIN:VCALENDAR
VERSION:2.0
PRODID:-//Blog knihkupectví Luxor - ECPv6.15.20//NONSGML v1.0//EN
CALSCALE:GREGORIAN
METHOD:PUBLISH
X-ORIGINAL-URL:https://www.luxor.cz/blog
X-WR-CALDESC:Akce na Blog knihkupectví Luxor
REFRESH-INTERVAL;VALUE=DURATION:PT1H
X-Robots-Tag:noindex
X-PUBLISHED-TTL:PT1H
BEGIN:VTIMEZONE
TZID:Europe/Prague
BEGIN:DAYLIGHT
TZOFFSETFROM:+0100
TZOFFSETTO:+0200
TZNAME:CEST
DTSTART:20180325T010000
END:DAYLIGHT
BEGIN:STANDARD
TZOFFSETFROM:+0200
TZOFFSETTO:+0100
TZNAME:CET
DTSTART:20181028T010000
END:STANDARD
BEGIN:DAYLIGHT
TZOFFSETFROM:+0100
TZOFFSETTO:+0200
TZNAME:CEST
DTSTART:20190331T010000
END:DAYLIGHT
BEGIN:STANDARD
TZOFFSETFROM:+0200
TZOFFSETTO:+0100
TZNAME:CET
DTSTART:20191027T010000
END:STANDARD
BEGIN:DAYLIGHT
TZOFFSETFROM:+0100
TZOFFSETTO:+0200
TZNAME:CEST
DTSTART:20200329T010000
END:DAYLIGHT
BEGIN:STANDARD
TZOFFSETFROM:+0200
TZOFFSETTO:+0100
TZNAME:CET
DTSTART:20201025T010000
END:STANDARD
END:VTIMEZONE
BEGIN:VEVENT
DTSTART;TZID=Europe/Prague:20190123T170000
DTEND;TZID=Europe/Prague:20190123T170000
DTSTAMP:20260422T192519
CREATED:20190831T152608Z
LAST-MODIFIED:20190831T152608Z
UID:1882-1548262800-1548262800@www.luxor.cz
SUMMARY:Křest knihy Vůně moci od Tomáše Sýkory
DESCRIPTION:Kniha „Vůně moci“ je politický thriller z českého prostředí\nposkytující drsný pohled pod pokličku vysoké politiky se všemi jejími\nbezohlednými mechanismy a zákonitostmi. Na pozadí hypotetické prezidentské\nvolby rozehrává příběh\, který odhaluje nečekané motivace\, následky a vzájemná\npropojení\, jejichž výslednicí je nakonec obvyklý mediální obraz prezentovaný\nveřejnosti. Obraz\, který ale – stejně jako arktický ledovec – skryje většinu\nskutečných událostí pod povrchem.
URL:https://www.luxor.cz/blog/akce/krest-knihy-vune-moci-od-tomase-sykory--1254/
LOCATION:Palác knih Luxor\, Václavské náměstí 820/41\, Praha 1\, 11000\, Česká republika
ORGANIZER;CN="Luxor":MAILTO:info@luxor.cz
END:VEVENT
END:VCALENDAR