BEGIN:VCALENDAR
VERSION:2.0
PRODID:-//Blog knihkupectví Luxor - ECPv6.15.20//NONSGML v1.0//EN
CALSCALE:GREGORIAN
METHOD:PUBLISH
X-WR-CALNAME:Blog knihkupectví Luxor
X-ORIGINAL-URL:https://www.luxor.cz/blog
X-WR-CALDESC:Akce na Blog knihkupectví Luxor
REFRESH-INTERVAL;VALUE=DURATION:PT1H
X-Robots-Tag:noindex
X-PUBLISHED-TTL:PT1H
BEGIN:VTIMEZONE
TZID:Europe/Prague
BEGIN:DAYLIGHT
TZOFFSETFROM:+0100
TZOFFSETTO:+0200
TZNAME:CEST
DTSTART:20180325T010000
END:DAYLIGHT
BEGIN:STANDARD
TZOFFSETFROM:+0200
TZOFFSETTO:+0100
TZNAME:CET
DTSTART:20181028T010000
END:STANDARD
BEGIN:DAYLIGHT
TZOFFSETFROM:+0100
TZOFFSETTO:+0200
TZNAME:CEST
DTSTART:20190331T010000
END:DAYLIGHT
BEGIN:STANDARD
TZOFFSETFROM:+0200
TZOFFSETTO:+0100
TZNAME:CET
DTSTART:20191027T010000
END:STANDARD
BEGIN:DAYLIGHT
TZOFFSETFROM:+0100
TZOFFSETTO:+0200
TZNAME:CEST
DTSTART:20200329T010000
END:DAYLIGHT
BEGIN:STANDARD
TZOFFSETFROM:+0200
TZOFFSETTO:+0100
TZNAME:CET
DTSTART:20201025T010000
END:STANDARD
END:VTIMEZONE
BEGIN:VEVENT
DTSTART;TZID=Europe/Prague:20190115T170000
DTEND;TZID=Europe/Prague:20190115T170000
DTSTAMP:20260422T192422
CREATED:20190831T152608Z
LAST-MODIFIED:20190831T152608Z
UID:1881-1547571600-1547571600@www.luxor.cz
SUMMARY:Křest knihy Krásně zdravá od Jany Fabiánové
DESCRIPTION:Zdraví\, krása\, mladistvý vzhled a vnitřní štěstí jsou asi\npřáním každé z nás. Tato čtivě napsaná kniha s předmluvou lékařky\, přináší ženám\na dívkám nenásilné a osvědčené metody\, které autorce\, zpěvačce Janě Fabiánové\,\npřes deset let pomáhají udržovat si vyrovnanou náladu\, pevné zdraví i štíhlou\npostavu. Kniha obsahuje detailní návody pro zlepšení zdravotního stavu žen\,\nvyrovnání pH\, odstranění závislosti na sladkém\, zpevnění pleti i postavy a více\nnež třicet snadných a zdravých veganských receptů od snídaně po dezerty. Kniha\nnás také seznámí s metodami relaxace\, které usnadňují spánek. V poslední části\nknihy se autorka soustředí na důležitý detox mezilidských vztahů i vztahu\,\nkterý máme samy se sebou. Zmiňuje také metody\, pomocí nichž se lze vyvarovat\ntoxických vztahů s lidmi s patologickou poruchou osobnosti\, jak postupovat při\nhledání trvalého láskyplného vztahu\, či jak si správně přát.
URL:https://www.luxor.cz/blog/akce/krest-knihy-krasne-zdrava-od-jany-jany-fabianove--1253/
LOCATION:Palác knih Luxor\, Václavské náměstí 820/41\, Praha 1\, 11000\, Česká republika
ORGANIZER;CN="Luxor":MAILTO:info@luxor.cz
END:VEVENT
END:VCALENDAR