BEGIN:VCALENDAR
VERSION:2.0
PRODID:-//Blog knihkupectví Luxor - ECPv6.15.20//NONSGML v1.0//EN
CALSCALE:GREGORIAN
METHOD:PUBLISH
X-ORIGINAL-URL:https://www.luxor.cz/blog
X-WR-CALDESC:Akce na Blog knihkupectví Luxor
REFRESH-INTERVAL;VALUE=DURATION:PT1H
X-Robots-Tag:noindex
X-PUBLISHED-TTL:PT1H
BEGIN:VTIMEZONE
TZID:Europe/Prague
BEGIN:DAYLIGHT
TZOFFSETFROM:+0100
TZOFFSETTO:+0200
TZNAME:CEST
DTSTART:20180325T010000
END:DAYLIGHT
BEGIN:STANDARD
TZOFFSETFROM:+0200
TZOFFSETTO:+0100
TZNAME:CET
DTSTART:20181028T010000
END:STANDARD
BEGIN:DAYLIGHT
TZOFFSETFROM:+0100
TZOFFSETTO:+0200
TZNAME:CEST
DTSTART:20190331T010000
END:DAYLIGHT
BEGIN:STANDARD
TZOFFSETFROM:+0200
TZOFFSETTO:+0100
TZNAME:CET
DTSTART:20191027T010000
END:STANDARD
BEGIN:DAYLIGHT
TZOFFSETFROM:+0100
TZOFFSETTO:+0200
TZNAME:CEST
DTSTART:20200329T010000
END:DAYLIGHT
BEGIN:STANDARD
TZOFFSETFROM:+0200
TZOFFSETTO:+0100
TZNAME:CET
DTSTART:20201025T010000
END:STANDARD
END:VTIMEZONE
BEGIN:VEVENT
DTSTART;TZID=Europe/Prague:20190110T225700
DTEND;TZID=Europe/Prague:20190110T225700
DTSTAMP:20260422T192421
CREATED:20190831T152607Z
LAST-MODIFIED:20190831T152607Z
UID:1880-1547161020-1547161020@www.luxor.cz
SUMMARY:Novoroční výprodej - SLEVA 30 % na vše\, bez výjimky!
DESCRIPTION:Navštivte ve dnech 27.12. – 10.1.2019 Novoroční výprodej v libereckém Knihkupectví Luxor OC Fórum a nakupte se slevou 30 % na celý nákup! \nSleva 30 % platí na veškeré zboží na prodejně. \nTěšíme se na vaši návštěvu!
URL:https://www.luxor.cz/blog/akce/novorocni-vyprodej-liberec--1252/
LOCATION:Knihkupectví Forum\, OC Forum\, Liberec\, 46001\, Česká republika
ORGANIZER;CN="Luxor":MAILTO:info@luxor.cz
END:VEVENT
END:VCALENDAR