BEGIN:VCALENDAR
VERSION:2.0
PRODID:-//Blog knihkupectví Luxor - ECPv6.15.20//NONSGML v1.0//EN
CALSCALE:GREGORIAN
METHOD:PUBLISH
X-ORIGINAL-URL:https://www.luxor.cz/blog
X-WR-CALDESC:Akce na Blog knihkupectví Luxor
REFRESH-INTERVAL;VALUE=DURATION:PT1H
X-Robots-Tag:noindex
X-PUBLISHED-TTL:PT1H
BEGIN:VTIMEZONE
TZID:Europe/Prague
BEGIN:DAYLIGHT
TZOFFSETFROM:+0100
TZOFFSETTO:+0200
TZNAME:CEST
DTSTART:20170326T010000
END:DAYLIGHT
BEGIN:STANDARD
TZOFFSETFROM:+0200
TZOFFSETTO:+0100
TZNAME:CET
DTSTART:20171029T010000
END:STANDARD
BEGIN:DAYLIGHT
TZOFFSETFROM:+0100
TZOFFSETTO:+0200
TZNAME:CEST
DTSTART:20180325T010000
END:DAYLIGHT
BEGIN:STANDARD
TZOFFSETFROM:+0200
TZOFFSETTO:+0100
TZNAME:CET
DTSTART:20181028T010000
END:STANDARD
BEGIN:DAYLIGHT
TZOFFSETFROM:+0100
TZOFFSETTO:+0200
TZNAME:CEST
DTSTART:20190331T010000
END:DAYLIGHT
BEGIN:STANDARD
TZOFFSETFROM:+0200
TZOFFSETTO:+0100
TZNAME:CET
DTSTART:20191027T010000
END:STANDARD
END:VTIMEZONE
BEGIN:VEVENT
DTSTART;TZID=Europe/Prague:20181201T140000
DTEND;TZID=Europe/Prague:20181201T140000
DTSTAMP:20260423T030019
CREATED:20190831T152602Z
LAST-MODIFIED:20190831T152602Z
UID:1868-1543672800-1543672800@www.luxor.cz
SUMMARY:Atticus – beseda a autogramiáda amerického instagramového básníka
DESCRIPTION:Love Her Wild je sbírkou veršů mladého autora\, který si\nzískal srdce půl milionu fanoušků na sociální síti Instagram. Časopis Teen\nVogue ho označil za nejzajímavějšího básníka\, kterému je třeba věnovat\npozornost a magazín Galore za autora\, jehož slova si lidé nejčastěji tetují na kůži.\nSvé čtenáře okouzlil upřímností a autenticitou s jakou vystihuje ty\nnejdrobnější okamžiky. Jeho krátké a úsporné verše inspiruje láska\, ženská\nduše\, divoká příroda a svoboda\, ve všech jejích podobách…. \nPostav dívkudo měsíčního svitua říkej samou pravdu:pak se z každého mužestane básník.
URL:https://www.luxor.cz/blog/akce/atticus-beseda-a-autogramiada-americkeho-instagramoveho-basnika--1240/
LOCATION:Palác knih Luxor\, Václavské náměstí 820/41\, Praha 1\, 11000\, Česká republika
ORGANIZER;CN="Luxor":MAILTO:info@luxor.cz
END:VEVENT
END:VCALENDAR