BEGIN:VCALENDAR
VERSION:2.0
PRODID:-//Blog knihkupectví Luxor - ECPv6.15.20//NONSGML v1.0//EN
CALSCALE:GREGORIAN
METHOD:PUBLISH
X-WR-CALNAME:Blog knihkupectví Luxor
X-ORIGINAL-URL:https://www.luxor.cz/blog
X-WR-CALDESC:Akce na Blog knihkupectví Luxor
REFRESH-INTERVAL;VALUE=DURATION:PT1H
X-Robots-Tag:noindex
X-PUBLISHED-TTL:PT1H
BEGIN:VTIMEZONE
TZID:Europe/Prague
BEGIN:DAYLIGHT
TZOFFSETFROM:+0100
TZOFFSETTO:+0200
TZNAME:CEST
DTSTART:20170326T010000
END:DAYLIGHT
BEGIN:STANDARD
TZOFFSETFROM:+0200
TZOFFSETTO:+0100
TZNAME:CET
DTSTART:20171029T010000
END:STANDARD
BEGIN:DAYLIGHT
TZOFFSETFROM:+0100
TZOFFSETTO:+0200
TZNAME:CEST
DTSTART:20180325T010000
END:DAYLIGHT
BEGIN:STANDARD
TZOFFSETFROM:+0200
TZOFFSETTO:+0100
TZNAME:CET
DTSTART:20181028T010000
END:STANDARD
BEGIN:DAYLIGHT
TZOFFSETFROM:+0100
TZOFFSETTO:+0200
TZNAME:CEST
DTSTART:20190331T010000
END:DAYLIGHT
BEGIN:STANDARD
TZOFFSETFROM:+0200
TZOFFSETTO:+0100
TZNAME:CET
DTSTART:20191027T010000
END:STANDARD
END:VTIMEZONE
BEGIN:VEVENT
DTSTART;TZID=Europe/Prague:20181130T103400
DTEND;TZID=Europe/Prague:20181130T103400
DTSTAMP:20260422T222014
CREATED:20190831T152553Z
LAST-MODIFIED:20190831T152553Z
UID:1846-1543574040-1543574040@www.luxor.cz
SUMMARY:Sleva 20 % na puzzle EPline
DESCRIPTION:Puzzle EPline najdete v kamenných pobočkách Knihkupectví Luxor nebo na e-shopu: Puzzle EPline a 3D puzzle EPline se slevou 20 %.
URL:https://www.luxor.cz/blog/akce/sleva-20-na-puzzle-epline--1217/
ORGANIZER;CN="Luxor":MAILTO:info@luxor.cz
END:VEVENT
BEGIN:VEVENT
DTSTART;TZID=Europe/Prague:20181130T123300
DTEND;TZID=Europe/Prague:20181130T123300
DTSTAMP:20260422T222014
CREATED:20190831T152551Z
LAST-MODIFIED:20190831T152551Z
UID:1841-1543581180-1543581180@www.luxor.cz
SUMMARY:Sleva 15 % s komiksovými samplery CREW
DESCRIPTION:
URL:https://www.luxor.cz/blog/akce/sleva-15-s-komiksovymi-samplery-crew--1212/
ORGANIZER;CN="Luxor":MAILTO:info@luxor.cz
END:VEVENT
END:VCALENDAR