BEGIN:VCALENDAR
VERSION:2.0
PRODID:-//Blog knihkupectví Luxor - ECPv6.15.20//NONSGML v1.0//EN
CALSCALE:GREGORIAN
METHOD:PUBLISH
X-ORIGINAL-URL:https://www.luxor.cz/blog
X-WR-CALDESC:Akce na Blog knihkupectví Luxor
REFRESH-INTERVAL;VALUE=DURATION:PT1H
X-Robots-Tag:noindex
X-PUBLISHED-TTL:PT1H
BEGIN:VTIMEZONE
TZID:Europe/Prague
BEGIN:DAYLIGHT
TZOFFSETFROM:+0100
TZOFFSETTO:+0200
TZNAME:CEST
DTSTART:20170326T010000
END:DAYLIGHT
BEGIN:STANDARD
TZOFFSETFROM:+0200
TZOFFSETTO:+0100
TZNAME:CET
DTSTART:20171029T010000
END:STANDARD
BEGIN:DAYLIGHT
TZOFFSETFROM:+0100
TZOFFSETTO:+0200
TZNAME:CEST
DTSTART:20180325T010000
END:DAYLIGHT
BEGIN:STANDARD
TZOFFSETFROM:+0200
TZOFFSETTO:+0100
TZNAME:CET
DTSTART:20181028T010000
END:STANDARD
BEGIN:DAYLIGHT
TZOFFSETFROM:+0100
TZOFFSETTO:+0200
TZNAME:CEST
DTSTART:20190331T010000
END:DAYLIGHT
BEGIN:STANDARD
TZOFFSETFROM:+0200
TZOFFSETTO:+0100
TZNAME:CET
DTSTART:20191027T010000
END:STANDARD
END:VTIMEZONE
BEGIN:VEVENT
DTSTART;TZID=Europe/Prague:20181129T100000
DTEND;TZID=Europe/Prague:20181129T100000
DTSTAMP:20260423T012542
CREATED:20190831T152600Z
LAST-MODIFIED:20190831T152600Z
UID:1863-1543485600-1543485600@www.luxor.cz
SUMMARY:Knižní klub Knížata: Ema a kouzelná kniha
DESCRIPTION:Ema si nepamatuje\, že by někdy žila jinde než s ostatními dětmi bez rodičů v Sirotčinci. Moc mezi ně nezapadá.\nDokáže totiž slyšet a vidět věci\, které jiné děti nevidí a neslyší –\ntřeba malé víly… Moc se těší\, až bude mít desáté narozeniny. Čeká ji\ntotiž výlet do úchvatného Města\, které je schované za vysokou zdí.\nNakonec se její čekání ještě o rok prodlouží\, ale stojí to za to. Ema si\n z Města odnáší spoustu dobrodružných zážitků a zkušeností. Hlavně však\nkouzelnou knihu\, která změní život nejen jí\, ale i všem ostatním v\nSirotčinci.
URL:https://www.luxor.cz/blog/akce/knizni-klub-knizataema-a-kouzelna-kniha--1235/
LOCATION:Palác knih Luxor\, Václavské náměstí 820/41\, Praha 1\, 11000\, Česká republika
ORGANIZER;CN="Luxor":MAILTO:info@luxor.cz
END:VEVENT
BEGIN:VEVENT
DTSTART;TZID=Europe/Prague:20181129T160000
DTEND;TZID=Europe/Prague:20181129T160000
DTSTAMP:20260423T012542
CREATED:20190831T152559Z
LAST-MODIFIED:20190831T152559Z
UID:1862-1543507200-1543507200@www.luxor.cz
SUMMARY:NOVÝ SMÍCHOV: Ivan Langer - Sochobásně v Síti
DESCRIPTION:Ivan Langer se narodil 1. ledna 1967 v Olomouci. Vystudoval\nLékařskou fakultu Univerzity Palackého v Olomouci a posléze nastoupil na\nfakultu právnickou. Během studia na právech působil jako tajemník ministra\nspravedlnosti. V roce 1991 vstoupil do ODS\, jejímž členem je dodnes. Později\nbyl také jejím místopředsedou. Během své politické kariéry se stal ministrem\nvnitra. V této funkci setrval po dobu tří let. Langer byl také u zrodu Soukromé\nvysoké školy CEVRO institut. Momentálně je jedním z partnerů Advokátní\nkanceláře Pečený Fučík Langer. Od roku 2012 je součástí regionální rady ODS v\nOlomouckém kraji. S manželkou Markétou má tři děti. Kniha Sochobásně je již\njeho pátou publikací (Racionální drogová politika\, Průvodce muže těhotenstvím\,\nV síti\, V síti 2).
URL:https://www.luxor.cz/blog/akce/novy-smichov-ivan-langer-sochobasne-v-siti--1234/
LOCATION:Knihkupectví Nový Smíchov\, OC Nový Smíchov\, Praha 5\, 15000\, Česká republika
ORGANIZER;CN="Luxor":MAILTO:info@luxor.cz
END:VEVENT
BEGIN:VEVENT
DTSTART;TZID=Europe/Prague:20181129T173000
DTEND;TZID=Europe/Prague:20181129T173000
DTSTAMP:20260423T012542
CREATED:20190831T152600Z
LAST-MODIFIED:20190831T152600Z
UID:1864-1543512600-1543512600@www.luxor.cz
SUMMARY:NOVÝ SMÍCHOV: Katolický kněz Zbigniew Czendlik - Uchem jehly
DESCRIPTION:Kniha rozhovorů kněze Zbigniewa Czendlika vychází z\noblíbeného pořadu České televize Uchem jehly. „Netradiční“ moderátor si zve již\nněkolik let na lanškrounskou faru hosty\, kteří ve svém životě a ve své kariéře\ndosáhli významných úspěchů a jejichž životní zkušenosti mohou být inspirativním\nvzorem. Citlivě a s nadhledem kladené otázky postupně směřují k duchovnímu\nrozměru lidského života\, který každý ze zpovídaných hostů nachází překvapivě i\njinde\, než bychom čekali.\nHosty Zbigniewa Czendlika jsou Stanislav Bernard\, Lucie Bílá\, Věra Čáslavská\,\nLuděk Galuška\, Doris Grozdanovičová\, Radek Jaroš\, Božena Jirků\, Pavlína\nKalousová\, Helena Klímová\, Josef Koutecký\, Mikuláš Kroupa\, Václav Malý\,\nAngelika Pintířová\, Jan Potměšil\, Liběna Rochová\, Tomáš Sedláček\, Hana\nScharffová\, Robert Vano a Miroslav Verner.
URL:https://www.luxor.cz/blog/akce/novy-smichov-katolicky-knez-zbigniew-czendlik-uchem-jehly--1236/
LOCATION:Knihkupectví Nový Smíchov\, OC Nový Smíchov\, Praha 5\, 15000\, Česká republika
ORGANIZER;CN="Luxor":MAILTO:info@luxor.cz
END:VEVENT
BEGIN:VEVENT
DTSTART;TZID=Europe/Prague:20181129T180000
DTEND;TZID=Europe/Prague:20181129T180000
DTSTAMP:20260423T012542
CREATED:20190831T152558Z
LAST-MODIFIED:20190831T152558Z
UID:1860-1543514400-1543514400@www.luxor.cz
SUMMARY:Autogramiáda Báry Nesvadbové a představení její nové knihy Momentky
DESCRIPTION:Povídky známé české spisovatelky a novinářky. Momentky zachycují chvíle\, kdy se náš život láme: jsou to okamžiky hlubokého štěstí i bolestných ztrát nebo fatálních rozhodnutí. „Jsou chvíle\, které zůstanou v hlavě jako v albu. Navždy. Nemusíte je mít na fotkách. I přesto jsou nezapomenutelné. Štěstí se skládá z okamžiků. To ostatní je život.“
URL:https://www.luxor.cz/blog/akce/autogramiada-bary-nesvadbove-a-krest-jeji-nove-knihy-momentky--1232/
LOCATION:Palác knih Luxor\, Václavské náměstí 820/41\, Praha 1\, 11000\, Česká republika
ORGANIZER;CN="Luxor":MAILTO:info@luxor.cz
END:VEVENT
END:VCALENDAR