BEGIN:VCALENDAR
VERSION:2.0
PRODID:-//Blog knihkupectví Luxor - ECPv6.15.20//NONSGML v1.0//EN
CALSCALE:GREGORIAN
METHOD:PUBLISH
X-ORIGINAL-URL:https://www.luxor.cz/blog
X-WR-CALDESC:Akce na Blog knihkupectví Luxor
REFRESH-INTERVAL;VALUE=DURATION:PT1H
X-Robots-Tag:noindex
X-PUBLISHED-TTL:PT1H
BEGIN:VTIMEZONE
TZID:Europe/Prague
BEGIN:DAYLIGHT
TZOFFSETFROM:+0100
TZOFFSETTO:+0200
TZNAME:CEST
DTSTART:20170326T010000
END:DAYLIGHT
BEGIN:STANDARD
TZOFFSETFROM:+0200
TZOFFSETTO:+0100
TZNAME:CET
DTSTART:20171029T010000
END:STANDARD
BEGIN:DAYLIGHT
TZOFFSETFROM:+0100
TZOFFSETTO:+0200
TZNAME:CEST
DTSTART:20180325T010000
END:DAYLIGHT
BEGIN:STANDARD
TZOFFSETFROM:+0200
TZOFFSETTO:+0100
TZNAME:CET
DTSTART:20181028T010000
END:STANDARD
BEGIN:DAYLIGHT
TZOFFSETFROM:+0100
TZOFFSETTO:+0200
TZNAME:CEST
DTSTART:20190331T010000
END:DAYLIGHT
BEGIN:STANDARD
TZOFFSETFROM:+0200
TZOFFSETTO:+0100
TZNAME:CET
DTSTART:20191027T010000
END:STANDARD
END:VTIMEZONE
BEGIN:VEVENT
DTSTART;TZID=Europe/Prague:20181123T160000
DTEND;TZID=Europe/Prague:20181123T160000
DTSTAMP:20260423T074753
CREATED:20190831T152556Z
LAST-MODIFIED:20190831T152556Z
UID:1854-1542988800-1542988800@www.luxor.cz
SUMMARY:ZLÍN: Miroslav Jeřábek - Bonviván Bohuslav Kilian
DESCRIPTION:K pozoruhodným osobnostem první Československé republiky patřil i\nvzdělaný právník\, vydavatel a dobrodruh Bohuslav Kilian. Jeho unikátní\nčasopisy Salon a Měsíc jsou dodnes tichými svědky uměleckého a\nspolečenského života i technického vzestupu této doby.\nKniha přináší podrobnou sondu do života rodiny Kilianovy\, známé pouze\nčástečně z filmu Jiřího Menzela Postřižiny. Prostřednictvím Bohuslava a\njeho sestry Marie se seznamujeme s životem mladých lidí na sklonku\nRakouska-Uherska. V titulu jsou představeny podnikatelské možnosti v\noboru bankovnictví po vzniku Československa\, a to včetně nečekaných\nsouvislostí dobové finanční kriminality.\nV kapitolách o uměleckých revuích nacházíme často neznámé okolnosti dění\n uvnitř vydavatelské sféry i spolupráce s významnými českými (K. Čapek\,\nV. Nezval)\, německými i rakouskými (bratři Mannové\, J. Roth) umělci.\nČtivý text doprovází více než sto šedesát převážně nepublikovaných\ndobových fotografií\, obálek časopisů a barevných reprodukcí.\nKilian byl dynamickou osobností\, až do současnosti představuje jediného\nčeského vydavatele\, který vstoupil na evropský časopisecký trh. Svým\ncharismatem a espritem ovlivnil i literární tvorbu svého synovce\nBohumila Hrabala. \nSoučástí knihy je velkoformátová mapa Velkého Brna 50 x 55 cm.
URL:https://www.luxor.cz/blog/akce/zlin-miroslav-jerabek-bonvivan-bohuslav-kilian--1225/
LOCATION:Knihkupectví Zlaté Jablko\, OC Zlaté Jablko\, Zlín\, 76001\, Česká republika
ORGANIZER;CN="Luxor":MAILTO:info@luxor.cz
END:VEVENT
END:VCALENDAR