BEGIN:VCALENDAR
VERSION:2.0
PRODID:-//Blog knihkupectví Luxor - ECPv6.15.20//NONSGML v1.0//EN
CALSCALE:GREGORIAN
METHOD:PUBLISH
X-WR-CALNAME:Blog knihkupectví Luxor
X-ORIGINAL-URL:https://www.luxor.cz/blog
X-WR-CALDESC:Akce na Blog knihkupectví Luxor
REFRESH-INTERVAL;VALUE=DURATION:PT1H
X-Robots-Tag:noindex
X-PUBLISHED-TTL:PT1H
BEGIN:VTIMEZONE
TZID:Europe/Prague
BEGIN:DAYLIGHT
TZOFFSETFROM:+0100
TZOFFSETTO:+0200
TZNAME:CEST
DTSTART:20170326T010000
END:DAYLIGHT
BEGIN:STANDARD
TZOFFSETFROM:+0200
TZOFFSETTO:+0100
TZNAME:CET
DTSTART:20171029T010000
END:STANDARD
BEGIN:DAYLIGHT
TZOFFSETFROM:+0100
TZOFFSETTO:+0200
TZNAME:CEST
DTSTART:20180325T010000
END:DAYLIGHT
BEGIN:STANDARD
TZOFFSETFROM:+0200
TZOFFSETTO:+0100
TZNAME:CET
DTSTART:20181028T010000
END:STANDARD
BEGIN:DAYLIGHT
TZOFFSETFROM:+0100
TZOFFSETTO:+0200
TZNAME:CEST
DTSTART:20190331T010000
END:DAYLIGHT
BEGIN:STANDARD
TZOFFSETFROM:+0200
TZOFFSETTO:+0100
TZNAME:CET
DTSTART:20191027T010000
END:STANDARD
END:VTIMEZONE
BEGIN:VEVENT
DTSTART;TZID=Europe/Prague:20181122T160000
DTEND;TZID=Europe/Prague:20181122T160000
DTSTAMP:20260423T012256
CREATED:20190831T152555Z
LAST-MODIFIED:20190831T152555Z
UID:1852-1542902400-1542902400@www.luxor.cz
SUMMARY:Autogramiáda Jana Jíchy a beseda o humoristické knize ze školního prostředí Ředitel a hydra
DESCRIPTION:Alfréd nemá\nrád děti. Umí kouzlit\, a tak kouzlí dětem — aby si mohl kupovat cigarety\,\ndát si horkou vanu a další den se posunout o štaci dál. Jeho\nmrtvolnou pohodu naruší až neznámý muž\, který mu předloží podivnou nabídku.\nAlfréd se má stát ředitelem kouzelnické školy v Beďarech. Nikoli kvůli\nmagickému nadání\, nýbrž kvůli titulu z pedagogické fakulty. Blíží se totiž\nobávaná návštěva úřední vrchnosti. A proti ní žádná kouzla nic nezmůžou:\nje nutné vyplnit nekonečnou hromadu papírů. \nRomán Jana\nJíchy Ředitel a hydra je inteligentní parodií\, která se trefuje do\nnejvětších problémů dnešního školství — nesmyslného papírování\, nepřehledné\ndžungle vyhlášek a nařízení\, vyhořelých učitelů a zdivočelých žáků.\nA všudypřítomné hlouposti. Přesto přese všechno je ale hlavně knihou\no dětech\, o lásce k poznání a věčné zvědavosti. A taky\no pečených vrabcích. \nDěti\npřicházejí na svět se schopností divit se a kouzlit. Školní systém\nz nich velmi rychle dokáže vypudit obojí. Oblbování dětí vzdoruje jediná\,\ndobře ukrytá základka. I ta se však ocitá v ohrožení — hydra\ns razítkem se blíží.
URL:https://www.luxor.cz/blog/akce/autogramiada-jana-jichy-a-beseda-o-humoristickem-knize-ze-skolniho-prostredi-reditel-a-hydra--1223/
LOCATION:Palác knih Luxor\, Václavské náměstí 820/41\, Praha 1\, 11000\, Česká republika
ORGANIZER;CN="Luxor":MAILTO:info@luxor.cz
END:VEVENT
BEGIN:VEVENT
DTSTART;TZID=Europe/Prague:20181122T170000
DTEND;TZID=Europe/Prague:20181122T170000
DTSTAMP:20260423T012256
CREATED:20190831T152555Z
LAST-MODIFIED:20190831T152555Z
UID:1851-1542906000-1542906000@www.luxor.cz
SUMMARY:LIBEREC: Autogramiáda Dominika Landsmana a Zuzany Hubeňákové
DESCRIPTION:
URL:https://www.luxor.cz/blog/akce/liberec-autogramiada-dominika-landsmana-a-zuzany-hubenakove--1222/
LOCATION:Knihkupectví Forum\, OC Forum\, Liberec\, 46001\, Česká republika
ORGANIZER;CN="Luxor":MAILTO:info@luxor.cz
END:VEVENT
BEGIN:VEVENT
DTSTART;TZID=Europe/Prague:20181122T180000
DTEND;TZID=Europe/Prague:20181122T180000
DTSTAMP:20260423T012256
CREATED:20190831T152555Z
LAST-MODIFIED:20190831T152555Z
UID:1853-1542909600-1542909600@www.luxor.cz
SUMMARY:Autogramiáda Lucie Nachtigallové a křest knihy Deník fejsbukové matky (ne)končí
DESCRIPTION:Pokud se\nhroutíte\, dělejte to aspoň s úsměvem \nJak to\ndopadne\, když se matka tří dětí rozhodne vydat knížku? Jak se vyrovná její\nrodina s nenadálou popularitou? Známá „fejsbuková“ matka a vítězka MAMAblogu\nroku opět s typickou sebeironií přináší příběhy ze života své obyčejně\nneobyčejné rodiny – to vše s laskavostí a nadhledem. Každodenní slasti i\nstrasti\, které potkávají rodiče\, dvojčata Viki a Fandu\, jejich malou sestru\nBětku a domácí zvěřinec shrnují statusy z let 2015 až 2017.
URL:https://www.luxor.cz/blog/akce/autogramiada-lucie-nachtigallove-a-krest-knihy-denik-fejsbukove-matky-nekonci--1224/
LOCATION:Palác knih Luxor\, Václavské náměstí 820/41\, Praha 1\, 11000\, Česká republika
ORGANIZER;CN="Luxor":MAILTO:info@luxor.cz
END:VEVENT
END:VCALENDAR