BEGIN:VCALENDAR
VERSION:2.0
PRODID:-//Blog knihkupectví Luxor - ECPv6.15.20//NONSGML v1.0//EN
CALSCALE:GREGORIAN
METHOD:PUBLISH
X-ORIGINAL-URL:https://www.luxor.cz/blog
X-WR-CALDESC:Akce na Blog knihkupectví Luxor
REFRESH-INTERVAL;VALUE=DURATION:PT1H
X-Robots-Tag:noindex
X-PUBLISHED-TTL:PT1H
BEGIN:VTIMEZONE
TZID:Europe/Prague
BEGIN:DAYLIGHT
TZOFFSETFROM:+0100
TZOFFSETTO:+0200
TZNAME:CEST
DTSTART:20170326T010000
END:DAYLIGHT
BEGIN:STANDARD
TZOFFSETFROM:+0200
TZOFFSETTO:+0100
TZNAME:CET
DTSTART:20171029T010000
END:STANDARD
BEGIN:DAYLIGHT
TZOFFSETFROM:+0100
TZOFFSETTO:+0200
TZNAME:CEST
DTSTART:20180325T010000
END:DAYLIGHT
BEGIN:STANDARD
TZOFFSETFROM:+0200
TZOFFSETTO:+0100
TZNAME:CET
DTSTART:20181028T010000
END:STANDARD
BEGIN:DAYLIGHT
TZOFFSETFROM:+0100
TZOFFSETTO:+0200
TZNAME:CEST
DTSTART:20190331T010000
END:DAYLIGHT
BEGIN:STANDARD
TZOFFSETFROM:+0200
TZOFFSETTO:+0100
TZNAME:CET
DTSTART:20191027T010000
END:STANDARD
END:VTIMEZONE
BEGIN:VEVENT
DTSTART;TZID=Europe/Prague:20181121T170000
DTEND;TZID=Europe/Prague:20181121T170000
DTSTAMP:20260423T030031
CREATED:20190831T152554Z
LAST-MODIFIED:20190831T152554Z
UID:1848-1542819600-1542819600@www.luxor.cz
SUMMARY:Klára Mandausová: Holky s voctem - S humorem o životě\, jaký je…
DESCRIPTION:Celou\npubertu jsem posilovala břicho\, abych ho měla ploché a pevné. Jenže jsem si\nnevšimla\, že můj zadek připomíná velký měkký gauč.\nŽivot nebývá takový\, jaký si myslíme\, že bude. A někdy je to zatraceně dobře.\nVyrosteme\, najdeme si skvělou práci\, kde budou všichni milí a přející\, a k tomu\npěkného\, hodného a ne úplně chudého kluka. Budeme s ním mít roztomilé děti\, psa\na domek se zahrádkou. Třeba zrovna takový plán máme. Skřřříp. A všechno je\njinak. Něco z toho je\, a něco ne. Anebo se to divně pomotá.\nCo s tím? Brečet? Nadávat na osud? Vyčítat smůle\, že se nám nalepila až na\nzáda? Blbost! Dělat si z toho legraci! Jediné řešení\, jak to všechno zkusit\npřežít. Protože život za tu zábavu stojí.\nKnížka\, kterou držíte v ruce\, je právě o tom. Že nám život občas přehodí\nsměrovku. Místo zářivé žluté jdeme chvíli po temně modré nebo rychlé zelené\,\nabychom pokračovali po vášnivé červené. A pak zjistili\, že jsou značky v\nnedohlednu a v ruce držíme štětec.
URL:https://www.luxor.cz/blog/akce/klara-mandausova-holky-s-voctem-s-humorem-o-zivote-jaky-je--1219/
LOCATION:Palác knih Luxor\, Václavské náměstí 820/41\, Praha 1\, 11000\, Česká republika
ORGANIZER;CN="Luxor":MAILTO:info@luxor.cz
END:VEVENT
BEGIN:VEVENT
DTSTART;TZID=Europe/Prague:20181121T200000
DTEND;TZID=Europe/Prague:20181121T200000
DTSTAMP:20260423T030031
CREATED:20190831T152540Z
LAST-MODIFIED:20190831T152540Z
UID:1811-1542830400-1542830400@www.luxor.cz
SUMMARY:33 titulů s 33% slevou
DESCRIPTION:Všech 33 zlevněných titulů můžete koupit na našich kamenných prodejnách nebo ve speciální sekci zde: https://luxor.cz/akcni-nabidka/33-knih-s-33-procentni-slevou/
URL:https://www.luxor.cz/blog/akce/33-titulu-s-33-slevou--1180/
ORGANIZER;CN="Luxor":MAILTO:info@luxor.cz
END:VEVENT
END:VCALENDAR