BEGIN:VCALENDAR
VERSION:2.0
PRODID:-//Blog knihkupectví Luxor - ECPv6.15.20//NONSGML v1.0//EN
CALSCALE:GREGORIAN
METHOD:PUBLISH
X-ORIGINAL-URL:https://www.luxor.cz/blog
X-WR-CALDESC:Akce na Blog knihkupectví Luxor
REFRESH-INTERVAL;VALUE=DURATION:PT1H
X-Robots-Tag:noindex
X-PUBLISHED-TTL:PT1H
BEGIN:VTIMEZONE
TZID:Europe/Prague
BEGIN:DAYLIGHT
TZOFFSETFROM:+0100
TZOFFSETTO:+0200
TZNAME:CEST
DTSTART:20170326T010000
END:DAYLIGHT
BEGIN:STANDARD
TZOFFSETFROM:+0200
TZOFFSETTO:+0100
TZNAME:CET
DTSTART:20171029T010000
END:STANDARD
BEGIN:DAYLIGHT
TZOFFSETFROM:+0100
TZOFFSETTO:+0200
TZNAME:CEST
DTSTART:20180325T010000
END:DAYLIGHT
BEGIN:STANDARD
TZOFFSETFROM:+0200
TZOFFSETTO:+0100
TZNAME:CET
DTSTART:20181028T010000
END:STANDARD
BEGIN:DAYLIGHT
TZOFFSETFROM:+0100
TZOFFSETTO:+0200
TZNAME:CEST
DTSTART:20190331T010000
END:DAYLIGHT
BEGIN:STANDARD
TZOFFSETFROM:+0200
TZOFFSETTO:+0100
TZNAME:CET
DTSTART:20191027T010000
END:STANDARD
END:VTIMEZONE
BEGIN:VEVENT
DTSTART;TZID=Europe/Prague:20181115T170000
DTEND;TZID=Europe/Prague:20181115T170000
DTSTAMP:20260422T223242
CREATED:20190831T152550Z
LAST-MODIFIED:20190831T152550Z
UID:1840-1542301200-1542301200@www.luxor.cz
SUMMARY:Představení (Motivačního) Diáře 2019 blogerského sesterského dua A Cup of Style
DESCRIPTION:Je to tu! Motivační diář na rok 2019 je konečně k dispozici a\nje lepší\, než kdy předtím. \nMá stejný rozměr jako loni\, tedy A5 a zavírá se pomocí\npraktické gumičky\, díky které se ti nepoškodí stránky uvnitř. \nDiář je týdenní a je v něm ještě více místa na poznámky\,\nto-do listy a plánování. U každého nového měsíce je pak krátký motivační text v\nčeštině\, který jsme pro tebe připravily. Ostatní popisky (názvy měsíců\, svátky\,\ndny v týdnu) jsou i tentokrát jak v češtině\, tak i ve slovenštině.
URL:https://www.luxor.cz/blog/akce/predstaveni-motivacniho-diare-2019-sesterskeho-dua-a-cup-of-style--1211/
LOCATION:Palác knih Luxor\, Václavské náměstí 820/41\, Praha 1\, 11000\, Česká republika
ORGANIZER;CN="Luxor":MAILTO:info@luxor.cz
END:VEVENT
BEGIN:VEVENT
DTSTART;TZID=Europe/Prague:20181115T170000
DTEND;TZID=Europe/Prague:20181115T170000
DTSTAMP:20260422T223242
CREATED:20190831T152552Z
LAST-MODIFIED:20190831T152552Z
UID:1845-1542301200-1542301200@www.luxor.cz
SUMMARY:NOVÝ SMÍCHOV: Jakub Szántó - Křest knihy Za oponou války\, beseda a autogramiáda.
DESCRIPTION:Za oponou války je prvotina z pera válečného reportéra a\nzpravodaje České televize na Blízkém východě. Jakub Szántó v knize přibližuje\nsvé dramatické zážitky z frontových linií\, míst teroristických útoků i státních\npřevratů a revolucí\, které během své kariéry televizního novináře v uplynulých\ndvou dekádách natáčel. Barvitým jazykem zprostředkovává pozadí dějinných\nudálostí pohledem očitého svědka. Zároveň poodhaluje a demýtizuje práci\nžurnalistů uprostřed pohnutých situací a nepředvídatelného vývoje. \nVedle strhujícího vyprávění\, které jako vystudovaný historik\nzasazuje do širšího dějinného kontextu\, kniha dává nahlédnout i do niterných\nvztahů autora k rodině\, novinářským kolegům i přátelům napříč Orientem. To vše\nbalí do lehce sarkastického a sebeironického tónu\, který odhaluje\, nakolik je\nhumor klíčovou ingrediencí pro práci i přežití v situacích\, ze kterých normální\nčlověk raději prchá. Knihu doprovází bohatá obrazová příloha autorových\nfotografií z terénu.
URL:https://www.luxor.cz/blog/akce/jakub-szanto-krest-knihy-za-oponou-valky-beseda-a-autogramiada--1216/
LOCATION:Knihkupectví Nový Smíchov\, OC Nový Smíchov\, Praha 5\, 15000\, Česká republika
ORGANIZER;CN="Luxor":MAILTO:info@luxor.cz
END:VEVENT
END:VCALENDAR