BEGIN:VCALENDAR
VERSION:2.0
PRODID:-//Blog knihkupectví Luxor - ECPv6.15.20//NONSGML v1.0//EN
CALSCALE:GREGORIAN
METHOD:PUBLISH
X-ORIGINAL-URL:https://www.luxor.cz/blog
X-WR-CALDESC:Akce na Blog knihkupectví Luxor
REFRESH-INTERVAL;VALUE=DURATION:PT1H
X-Robots-Tag:noindex
X-PUBLISHED-TTL:PT1H
BEGIN:VTIMEZONE
TZID:Europe/Prague
BEGIN:DAYLIGHT
TZOFFSETFROM:+0100
TZOFFSETTO:+0200
TZNAME:CEST
DTSTART:20170326T010000
END:DAYLIGHT
BEGIN:STANDARD
TZOFFSETFROM:+0200
TZOFFSETTO:+0100
TZNAME:CET
DTSTART:20171029T010000
END:STANDARD
BEGIN:DAYLIGHT
TZOFFSETFROM:+0100
TZOFFSETTO:+0200
TZNAME:CEST
DTSTART:20180325T010000
END:DAYLIGHT
BEGIN:STANDARD
TZOFFSETFROM:+0200
TZOFFSETTO:+0100
TZNAME:CET
DTSTART:20181028T010000
END:STANDARD
BEGIN:DAYLIGHT
TZOFFSETFROM:+0100
TZOFFSETTO:+0200
TZNAME:CEST
DTSTART:20190331T010000
END:DAYLIGHT
BEGIN:STANDARD
TZOFFSETFROM:+0200
TZOFFSETTO:+0100
TZNAME:CET
DTSTART:20191027T010000
END:STANDARD
END:VTIMEZONE
BEGIN:VEVENT
DTSTART;TZID=Europe/Prague:20181113T170000
DTEND;TZID=Europe/Prague:20181113T170000
DTSTAMP:20260422T235325
CREATED:20190831T152550Z
LAST-MODIFIED:20190831T152550Z
UID:1838-1542128400-1542128400@www.luxor.cz
SUMMARY:Vlastina Svátková: Beseda\, autorské čtení a autogramiáda
DESCRIPTION:Kdysi dávno\, hodně dávno\, kdy jsem ještě o životě netušila\nskoro nic a identifikovala jsem jenom stavy hluboké deprese a euforie\, mě\nsprávným směrem nastartovala jedna útlá kniha. Otevřela mi oči\, abych se mohla\nvydat na cestu. Autorka věřila na zázraky a já tehdy potřebovala šíleně moc\nvěřit na zázraky! Dnes na zázraky ani náhody nevěřím. Jsem sarkastická a\nironická\, a v mé knize najdete i pár sprostých slov. Ale smysl mé knihy je\nstejný\, jako té\, která mi před lety zachránila život. Má pomoct těm\, kteří to\npotřebují a hlavně chtějí.  Má dát naději tam\, kde už žádná není. Tato\nkniha je pro ženy\, které opakují stejné chyby\, hledají lásku a pochopení. Je\npro dívky a dcery\, které si připadají divné\, ošklivé a nepochopené. Je pro\nrodiče\, kteří nadevše milují své děti. Je pro muže\, kteří chtějí pochopit své\nženy. Je pro všechny. Protože je o životě. A život je prostor pro duši. Chvíli\njsme nahoře\, chvíli dole na dně. Všichni toužíme nalézt rovnováhu tam někde\nuprostřed. Mezi dnem a hladinou. Mezi smutkem a štěstím.
URL:https://www.luxor.cz/blog/akce/vlastina-svatkova-beseda-autorske-cteni-a-autogramiada--1209/
LOCATION:Palác knih Luxor\, Václavské náměstí 820/41\, Praha 1\, 11000\, Česká republika
ORGANIZER;CN="Luxor":MAILTO:info@luxor.cz
END:VEVENT
END:VCALENDAR