BEGIN:VCALENDAR
VERSION:2.0
PRODID:-//Blog knihkupectví Luxor - ECPv6.15.20//NONSGML v1.0//EN
CALSCALE:GREGORIAN
METHOD:PUBLISH
X-WR-CALNAME:Blog knihkupectví Luxor
X-ORIGINAL-URL:https://www.luxor.cz/blog
X-WR-CALDESC:Akce na Blog knihkupectví Luxor
REFRESH-INTERVAL;VALUE=DURATION:PT1H
X-Robots-Tag:noindex
X-PUBLISHED-TTL:PT1H
BEGIN:VTIMEZONE
TZID:Europe/Prague
BEGIN:DAYLIGHT
TZOFFSETFROM:+0100
TZOFFSETTO:+0200
TZNAME:CEST
DTSTART:20170326T010000
END:DAYLIGHT
BEGIN:STANDARD
TZOFFSETFROM:+0200
TZOFFSETTO:+0100
TZNAME:CET
DTSTART:20171029T010000
END:STANDARD
BEGIN:DAYLIGHT
TZOFFSETFROM:+0100
TZOFFSETTO:+0200
TZNAME:CEST
DTSTART:20180325T010000
END:DAYLIGHT
BEGIN:STANDARD
TZOFFSETFROM:+0200
TZOFFSETTO:+0100
TZNAME:CET
DTSTART:20181028T010000
END:STANDARD
BEGIN:DAYLIGHT
TZOFFSETFROM:+0100
TZOFFSETTO:+0200
TZNAME:CEST
DTSTART:20190331T010000
END:DAYLIGHT
BEGIN:STANDARD
TZOFFSETFROM:+0200
TZOFFSETTO:+0100
TZNAME:CET
DTSTART:20191027T010000
END:STANDARD
END:VTIMEZONE
BEGIN:VEVENT
DTSTART;TZID=Europe/Prague:20181107T160000
DTEND;TZID=Europe/Prague:20181107T160000
DTSTAMP:20260423T012310
CREATED:20190831T152547Z
LAST-MODIFIED:20190831T152547Z
UID:1830-1541606400-1541606400@www.luxor.cz
SUMMARY:NOVÝ SMÍCHOV: Křest knihy Deník raka 2 od Terezy Schillerové. Knihu pokřtí herec Jaroslav Dušek.
DESCRIPTION:Rakovina vás nezmění. Pořád to budete vy. I po uzdravení. Ta\nnemoc vám hodně vezme. Ale taky něco dá. Například vás naučí vážit si\nmaličkostí a okamžiků. Protože okamžiky jsou to jediné\, co vám skutečně patří. \nPřesně to se blogerce Tereze Schillerové podařilo zachytit v období\, které\npacienti nazývají remise. Že to bude klišé? Ani náhodu. Život v této fázi je\ndoslova jízdou na horské dráze. Radost z uzdravení střídá pocit strachu\, že se\nnemoc vrátí. A ten strach je natolik intenzivní\, že vás paralyzuje.  \nKniha zachycuje obavy\, nejistoty\, vnitřní rozpolcenost\, deprese\, vnímání\nagresivity lidí\, rodičů a přehodnocování vztahů a přátel. Pocity a situace\,\nkteré autorka dokázala zachytit s odzbrojující upřímností\, ale také s\nneskrývanou vůlí jít dál\, nevzdávat se a najít smysl života. Nemoc jí vzala\niluze\, ale také ji naučila neodkládat nic na „vhodný okamžik“. Našla sílu pro\ndůležitá rozhodnutí a plnit si sny. \nJejí vyprávění je prokládáno s osudy čtenářů jejího blogu\, retrospektivními\nvzpomínkami na období léčby\, a ještě neuveřejněnými dialogy s její blízkou\nkamarádkou. Blog Deník raka se totiž stal doslova komunitou lidí\, kteří se\nvzájemně podporují a dodávají si sílu.
URL:https://www.luxor.cz/blog/akce/krest-knihy-denik-raka-2-od-terezy-schillerove-knihu-pokrti-herec-jaroslav-dusek--1201/
LOCATION:Knihkupectví Nový Smíchov\, OC Nový Smíchov\, Praha 5\, 15000\, Česká republika
ORGANIZER;CN="Luxor":MAILTO:info@luxor.cz
END:VEVENT
BEGIN:VEVENT
DTSTART;TZID=Europe/Prague:20181107T160000
DTEND;TZID=Europe/Prague:20181107T160000
DTSTAMP:20260423T012310
CREATED:20190831T152550Z
LAST-MODIFIED:20190831T152550Z
UID:1837-1541606400-1541606400@www.luxor.cz
SUMMARY:Křest poslední knihy Marty Davouze (Železné) spojený se vzpomínkou na zesnulou autorku
DESCRIPTION:Poslední román Marty Davouze se tentokrát odehrává v\nČeskoslovensku v mistrně vylíčené atmosféře nadějných šedesátých let\, totalitního\nrežimu i polistopadového procitnutí. Autorka zachycuje příběh vysokoškolského\npedagoga\, který se platonicky\, ale hluboce zamiluje do herečky Miriam\, manželky\nsvého přítele. Je spíš samotář a pozorovatel než bojovník\, přesto se i bez\nvlastního přičinění ocitá v tíživých situacích. Jeho přítel se v Paříži\nzastřelí\, jeho matka věčně naříká\, jeho otec náhle zemře\, jeho manželka ho\nopustí a jemu nezbývá než udiveně všemu přihlížet a ztrácet víru ve smysl své\npráce i celého svého života. Duchovní pouto\, které ho váže k Miriam\, je to\njediné\, co ho vnitřně posiluje\, a snad proto se obává překročit hranici\npřátelství…
URL:https://www.luxor.cz/blog/akce/krest-posledni-knihy-marty-davouze-zelezne-spojeny-se-vzpominkou-na-zesnulou-autorku--1208/
LOCATION:Palác knih Luxor\, Václavské náměstí 820/41\, Praha 1\, 11000\, Česká republika
ORGANIZER;CN="Luxor":MAILTO:info@luxor.cz
END:VEVENT
END:VCALENDAR