BEGIN:VCALENDAR
VERSION:2.0
PRODID:-//Blog knihkupectví Luxor - ECPv6.15.20//NONSGML v1.0//EN
CALSCALE:GREGORIAN
METHOD:PUBLISH
X-WR-CALNAME:Blog knihkupectví Luxor
X-ORIGINAL-URL:https://www.luxor.cz/blog
X-WR-CALDESC:Akce na Blog knihkupectví Luxor
REFRESH-INTERVAL;VALUE=DURATION:PT1H
X-Robots-Tag:noindex
X-PUBLISHED-TTL:PT1H
BEGIN:VTIMEZONE
TZID:Europe/Prague
BEGIN:DAYLIGHT
TZOFFSETFROM:+0100
TZOFFSETTO:+0200
TZNAME:CEST
DTSTART:20170326T010000
END:DAYLIGHT
BEGIN:STANDARD
TZOFFSETFROM:+0200
TZOFFSETTO:+0100
TZNAME:CET
DTSTART:20171029T010000
END:STANDARD
BEGIN:DAYLIGHT
TZOFFSETFROM:+0100
TZOFFSETTO:+0200
TZNAME:CEST
DTSTART:20180325T010000
END:DAYLIGHT
BEGIN:STANDARD
TZOFFSETFROM:+0200
TZOFFSETTO:+0100
TZNAME:CET
DTSTART:20181028T010000
END:STANDARD
BEGIN:DAYLIGHT
TZOFFSETFROM:+0100
TZOFFSETTO:+0200
TZNAME:CEST
DTSTART:20190331T010000
END:DAYLIGHT
BEGIN:STANDARD
TZOFFSETFROM:+0200
TZOFFSETTO:+0100
TZNAME:CET
DTSTART:20191027T010000
END:STANDARD
END:VTIMEZONE
BEGIN:VEVENT
DTSTART;TZID=Europe/Prague:20181106T100000
DTEND;TZID=Europe/Prague:20181106T100000
DTSTAMP:20260422T235250
CREATED:20190831T152553Z
LAST-MODIFIED:20190831T152553Z
UID:1847-1541498400-1541498400@www.luxor.cz
SUMMARY:Knižní klub Knížata: Inspektor Hopkins zasahuje
DESCRIPTION:Detektivní komiks. Dějiny mohly proběhnout úplně jinak – Karel IV. mohl být otráven\, Marco\nPolo mohl na své cestě do Číny zmizet\, a Jan Žižka mohl být poražen hned\n ve své první bitvě.\nNaštěstí je tu Tajná společnost hlídačů historie a její agent inspektor\nHopkins\, který s pomocí svého parního chronoportu pokaždé přijde včas a\nuvede věci na pravou míru. \nVyzkoušejte si svůj postřeh a důvtip při řešení více než čtyř desítek\ndetektivních příběhů z nejrůznějších historických období. Určitě se\npobavíte a dozvíte se věci\, o kterých jste možná neměli ani tušení.
URL:https://www.luxor.cz/blog/akce/knizni-klub-knizata-inspektor-hopkins-zasahuje--1218/
LOCATION:Palác knih Luxor\, Václavské náměstí 820/41\, Praha 1\, 11000\, Česká republika
ORGANIZER;CN="Luxor":MAILTO:info@luxor.cz
END:VEVENT
BEGIN:VEVENT
DTSTART;TZID=Europe/Prague:20181106T170000
DTEND;TZID=Europe/Prague:20181106T170000
DTSTAMP:20260422T235250
CREATED:20190831T152546Z
LAST-MODIFIED:20190831T152546Z
UID:1828-1541523600-1541523600@www.luxor.cz
SUMMARY:Strom života naší rodiny od Moniky Kopřivové. Jedinečnou knihu pokřtí jedinečná kmotra - Taťána Gregor Brzobohatá.
DESCRIPTION:Strom života\nnaší rodiny je originální knížka pro zaznamenání rodokmenu a rodinné historie.\nKnížka je velmi chytře propracovaná\, takže do ní můžete pohodlně zanést své\npředky až do páté generace\, ale zároveň i všechny své potomky. Ke každému\nčlenovi rodiny můžete přidat zajímavé informace o něm a jeho životě včetně\nfotografie. Zároveň máte možnost některé své příbuzné požádat\, aby vám do knihy\nnapsali vzkaz jako do památníku – pro vás a pro vaše děti.\nV knížce se lze výborně orientovat\, takže připomíná velký rodinný atlas. Pěkné\nilustrace dodávají knížce tu pravou atmosféru rodinné pospolitosti a úcty k\nnašim kořenům.\n„Mnoho lidí se mě ptalo\, jestli by šlo vytvořit knížku\, kam by se dala zachytit\nhistorie celé rodiny včetně pěkně a přehledně vyobrazeného rodokmenu. Nebyl to\nsnadný úkol\, ale věřím\, že se to podařilo. Budu ráda\, když se knížka stane\ninspirací pro rodinná setkávání a pátrání v rodinné historii\,“ říká Monika\nKopřivová\, která je autorkou úspěšných knížek Babičko\, vyprávěj a Dědečku\,\nvyprávěj.\nKnížka má velký formát 30 x 30 cm\, vysokou gramáž papíru a díky svému\nreprezentativnímu vzhledu může sloužit jako unikátní dárek k Vánocům\, svatbě\,\nnarozeninám a dalším významným příležitostem.
URL:https://www.luxor.cz/blog/akce/strom-zivota-nasi-rodiny-od-moniky-koprivove-jedinecnou-knihu-porti-jedinecna-kmotra-tatana-gregor-brzobohata--1198/
LOCATION:Palác knih Luxor\, Václavské náměstí 820/41\, Praha 1\, 11000\, Česká republika
ORGANIZER;CN="Luxor":MAILTO:info@luxor.cz
END:VEVENT
END:VCALENDAR