BEGIN:VCALENDAR
VERSION:2.0
PRODID:-//Blog knihkupectví Luxor - ECPv6.15.20//NONSGML v1.0//EN
CALSCALE:GREGORIAN
METHOD:PUBLISH
X-WR-CALNAME:Blog knihkupectví Luxor
X-ORIGINAL-URL:https://www.luxor.cz/blog
X-WR-CALDESC:Akce na Blog knihkupectví Luxor
REFRESH-INTERVAL;VALUE=DURATION:PT1H
X-Robots-Tag:noindex
X-PUBLISHED-TTL:PT1H
BEGIN:VTIMEZONE
TZID:Europe/Prague
BEGIN:DAYLIGHT
TZOFFSETFROM:+0100
TZOFFSETTO:+0200
TZNAME:CEST
DTSTART:20170326T010000
END:DAYLIGHT
BEGIN:STANDARD
TZOFFSETFROM:+0200
TZOFFSETTO:+0100
TZNAME:CET
DTSTART:20171029T010000
END:STANDARD
BEGIN:DAYLIGHT
TZOFFSETFROM:+0100
TZOFFSETTO:+0200
TZNAME:CEST
DTSTART:20180325T010000
END:DAYLIGHT
BEGIN:STANDARD
TZOFFSETFROM:+0200
TZOFFSETTO:+0100
TZNAME:CET
DTSTART:20181028T010000
END:STANDARD
BEGIN:DAYLIGHT
TZOFFSETFROM:+0100
TZOFFSETTO:+0200
TZNAME:CEST
DTSTART:20190331T010000
END:DAYLIGHT
BEGIN:STANDARD
TZOFFSETFROM:+0200
TZOFFSETTO:+0100
TZNAME:CET
DTSTART:20191027T010000
END:STANDARD
END:VTIMEZONE
BEGIN:VEVENT
DTSTART;TZID=Europe/Prague:20181105T160000
DTEND;TZID=Europe/Prague:20181105T160000
DTSTAMP:20260423T012310
CREATED:20190831T152548Z
LAST-MODIFIED:20190831T152548Z
UID:1832-1541433600-1541433600@www.luxor.cz
SUMMARY:Autogramiáda Petra Stančíka a křest jeho nové knihy Fíla\, Žofie a smaragdová deska
DESCRIPTION:Sourozenci\nFíla a Žofie mají problém: jejich maminka je smutná\, protože ztratila zlatý\nprstýnek. Dvojčata to nechtějí nechat jen tak\, snaží se mamince obstarat\nprstýnek nový\, má to ale háček – na koupi prstýnku dětem nestačí ani všechny\njejich úspory v prasátku. Sourozenci se ale nevzdávají\, seznámí se se záhadným\nhadem Uroborcem\, který jim navrhne\, že jim ukáže\, jak se zlato vyrábí. Fíla a\nŽofka se s Uroborcem vydají na dobrodružnou cestu do Říše Alchymie\, během níž\nnavštíví pravou alchymickou svatbu\, společně si přečtou tajemství Smaragdové\ndesky\, poznají (Rudého) krále a (Bílou) královnu\, ze kterých ve spojení s žárem\nlásky vzejde dokonalost\, projdou Velkým dílem a nakonec doputují až na hrad\nMudrcštein\, kde… ale nebudeme prozrazovat konec.\nKaždá z kapitol je doplněna hravým kvízem\, díky čemuž můžou děti příběh dále\nrozvíjet.
URL:https://www.luxor.cz/blog/akce/autogramiada-petra-stancika-a-krest-jeho-nove-knihy-fila-zofka-a-smaragdova-deska--1203/
LOCATION:Palác knih Luxor\, Václavské náměstí 820/41\, Praha 1\, 11000\, Česká republika
ORGANIZER;CN="Luxor":MAILTO:info@luxor.cz
END:VEVENT
END:VCALENDAR