BEGIN:VCALENDAR
VERSION:2.0
PRODID:-//Blog knihkupectví Luxor - ECPv6.15.20//NONSGML v1.0//EN
CALSCALE:GREGORIAN
METHOD:PUBLISH
X-WR-CALNAME:Blog knihkupectví Luxor
X-ORIGINAL-URL:https://www.luxor.cz/blog
X-WR-CALDESC:Akce na Blog knihkupectví Luxor
REFRESH-INTERVAL;VALUE=DURATION:PT1H
X-Robots-Tag:noindex
X-PUBLISHED-TTL:PT1H
BEGIN:VTIMEZONE
TZID:Europe/Prague
BEGIN:DAYLIGHT
TZOFFSETFROM:+0100
TZOFFSETTO:+0200
TZNAME:CEST
DTSTART:20170326T010000
END:DAYLIGHT
BEGIN:STANDARD
TZOFFSETFROM:+0200
TZOFFSETTO:+0100
TZNAME:CET
DTSTART:20171029T010000
END:STANDARD
BEGIN:DAYLIGHT
TZOFFSETFROM:+0100
TZOFFSETTO:+0200
TZNAME:CEST
DTSTART:20180325T010000
END:DAYLIGHT
BEGIN:STANDARD
TZOFFSETFROM:+0200
TZOFFSETTO:+0100
TZNAME:CET
DTSTART:20181028T010000
END:STANDARD
BEGIN:DAYLIGHT
TZOFFSETFROM:+0100
TZOFFSETTO:+0200
TZNAME:CEST
DTSTART:20190331T010000
END:DAYLIGHT
BEGIN:STANDARD
TZOFFSETFROM:+0200
TZOFFSETTO:+0100
TZNAME:CET
DTSTART:20191027T010000
END:STANDARD
END:VTIMEZONE
BEGIN:VEVENT
DTSTART;TZID=Europe/Prague:20181101T142200
DTEND;TZID=Europe/Prague:20181101T142200
DTSTAMP:20260423T025738
CREATED:20190831T152551Z
LAST-MODIFIED:20190831T152551Z
UID:1842-1541082120-1541082120@www.luxor.cz
SUMMARY:YA fantasy čtvrtky v Luxor Fórum Liberec
DESCRIPTION:
URL:https://www.luxor.cz/blog/akce/ya-fantasy-ctvrtky-v-luxor-forum-liberec--1213/
LOCATION:Knihkupectví Forum\, OC Forum\, Liberec\, 46001\, Česká republika
ORGANIZER;CN="Luxor":MAILTO:info@luxor.cz
END:VEVENT
BEGIN:VEVENT
DTSTART;TZID=Europe/Prague:20181101T170000
DTEND;TZID=Europe/Prague:20181101T170000
DTSTAMP:20260423T025738
CREATED:20190831T152546Z
LAST-MODIFIED:20190831T152546Z
UID:1829-1541091600-1541091600@www.luxor.cz
SUMMARY:Jussi Valtonen\, finský spisovatel a neuropsycholog v Praze
DESCRIPTION:Úspěšnýneurovědec Joe Chayefski je muž s mnoha problémy\, a to nejen takovými\, které\nobčas sami zažíváme\, ale i mnohem méně obvyklými. Jeho žena je zahlcena prací\,\ndcera tráví většinu času se smartphonem nejnovější generace a kdosi neznámý\nzačal obtěžovat rodinu protesty proti Joeovým laboratorním pokusům na\nzvířatech. Nějak to pravděpodobně souvisí také s jeho bývalou ženou\, která žije\nve Finsku\, a jejich synem. Ve snaze bránit svoji novou\, americkou rodinu před\nnásilím a svou dceru před zneužíváním bezohlednou technologickou firmou je Joe\ndonucen přehodnotit své postoje a podniknout drastické kroky\, aby zachránil ty\,\nkteré miluje. \nValtonenův velký společenský román\, který se z větší části odehrává v blízké\nbudoucnosti\, přináší vypjaté psychologické drama\, jehož některé pasáže spadají\ndo žánru techno-thrilleru nebo dokonce techno-hororu. Role zločinců přísluší\nbezskrupulózním technologickým firmám\, mediálním monopolům\, farmaceutickému\nprůmyslu a teroristickým buňkám. Hlavní postavy románu pronásleduje neklid a\nnespokojenost se současným světem\, citové odcizení i vzájemné neporozumění mezi\nevropskou a americkou kulturou. Ze všeho nejvíc ale trpí nezamýšlenými důsledky\nsvých vlastních činů v komplikovaném globálním prostředí.  \nVyplatí se přečíst pozorně těch několik set stran? V tomto případě ano.\nValtonenovy postavy – především sám Joe\, jeho bývalá manželka Alina a jejich\nsyn Samuel – jsou komplikované\, plasticky zobrazené osobnosti\, usilující o\nživot v pravdě a současně podléhající klamným iluzím. Na povrch se dostávají\nstaré\, hluboké problémy\, ale také ještě znepokojivější otázky\, které souvisejí\nse zneužíváním digitálních technologií a psychofarmak. Budoucnost\, kterou román\nzachycuje\, se totiž už začala dít\, třebaže kniha dramatičnost jejích projevů\nzatím daleko překonává.
URL:https://www.luxor.cz/blog/akce/jussi-valtonen-finsky-spisovatel-a-neuropsycholog-v-praze--1199/
LOCATION:Palác knih Luxor\, Václavské náměstí 820/41\, Praha 1\, 11000\, Česká republika
ORGANIZER;CN="Luxor":MAILTO:info@luxor.cz
END:VEVENT
END:VCALENDAR