BEGIN:VCALENDAR
VERSION:2.0
PRODID:-//Blog knihkupectví Luxor - ECPv6.15.20//NONSGML v1.0//EN
CALSCALE:GREGORIAN
METHOD:PUBLISH
X-ORIGINAL-URL:https://www.luxor.cz/blog
X-WR-CALDESC:Akce na Blog knihkupectví Luxor
REFRESH-INTERVAL;VALUE=DURATION:PT1H
X-Robots-Tag:noindex
X-PUBLISHED-TTL:PT1H
BEGIN:VTIMEZONE
TZID:Europe/Prague
BEGIN:DAYLIGHT
TZOFFSETFROM:+0100
TZOFFSETTO:+0200
TZNAME:CEST
DTSTART:20170326T010000
END:DAYLIGHT
BEGIN:STANDARD
TZOFFSETFROM:+0200
TZOFFSETTO:+0100
TZNAME:CET
DTSTART:20171029T010000
END:STANDARD
BEGIN:DAYLIGHT
TZOFFSETFROM:+0100
TZOFFSETTO:+0200
TZNAME:CEST
DTSTART:20180325T010000
END:DAYLIGHT
BEGIN:STANDARD
TZOFFSETFROM:+0200
TZOFFSETTO:+0100
TZNAME:CET
DTSTART:20181028T010000
END:STANDARD
BEGIN:DAYLIGHT
TZOFFSETFROM:+0100
TZOFFSETTO:+0200
TZNAME:CEST
DTSTART:20190331T010000
END:DAYLIGHT
BEGIN:STANDARD
TZOFFSETFROM:+0200
TZOFFSETTO:+0100
TZNAME:CET
DTSTART:20191027T010000
END:STANDARD
END:VTIMEZONE
BEGIN:VEVENT
DTSTART;TZID=Europe/Prague:20181031T160000
DTEND;TZID=Europe/Prague:20181031T160000
DTSTAMP:20260423T030010
CREATED:20190831T152543Z
LAST-MODIFIED:20190831T152543Z
UID:1820-1541001600-1541001600@www.luxor.cz
SUMMARY:Zálety Aleny Zárybnické - Blízká setkání rozhlasového druhu
DESCRIPTION:Alena Zárybnická je nejen výraznou tváří České televize\, ale od roku 2015 též oblíbenou moderátorkou a\ndramaturgyní pořadu Zálety vysílaného na vlnách Českého rozhlasu Hradec\nKrálové a Pardubice. Ačkoli sama vášnivě sportuje\, před mikrofon zve\nhosty bez ohledu na profesní zaměření. Posluchači mohou spolu s ní\nprožívat příběhy  populárních a všeobecně známých osobností\, ale i těch\,\n kdo nestojí v centru zájmu médií\, a přesto je jejich život výjimečný a\ninspirující. Lidským přístupem\, bezprostředností a uměním naslouchat\nnavozuje atmosféru „blízkých setkání rozhlasového druhu“\, kterou\npřinášíme čtenářům v tištěné podobě.  Pro stejnojmennou publikaci jsme\nvybrali patnáct z nich. Jsou to: letecký akrobat Martin Šonka\, novinář\nJan Petránek\, architekt Miroslav Řepa\, novinář a pedagog Václav Moravec\,\n modelka a Miss World Taťáňa Kuchařová\, snowboardistka a lyžařka Ester\nLedecká\, kardiochirurg Jan Pirk\, astronom a fotograf Petr Horálek\,\nhistorička Milena Lenderová\, novinářka a fotografka Lenka Klicperová\,\nhokejista Dominik Hašek\, pěvkyně Dagmar Pecková\, biatlonista Michal\nKrčmář\, herečka Simona Stašová a herec a spisovatel Miloň Čepelka.
URL:https://www.luxor.cz/blog/akce/zalety-aleny-zarybnicke-blizka-setkani-rozhlasoveho-druhu--1190/
LOCATION:Palác knih Luxor\, Václavské náměstí 820/41\, Praha 1\, 11000\, Česká republika
ORGANIZER;CN="Luxor":MAILTO:info@luxor.cz
END:VEVENT
BEGIN:VEVENT
DTSTART;TZID=Europe/Prague:20181031T163400
DTEND;TZID=Europe/Prague:20181031T163400
DTSTAMP:20260423T030010
CREATED:20190831T152544Z
LAST-MODIFIED:20190831T152544Z
UID:1821-1541003640-1541003640@www.luxor.cz
SUMMARY:Královské slevy na pobočce Královo Pole
DESCRIPTION:Nově otevřenou brněnskou pobočku Královo Pole najdete zde!
URL:https://www.luxor.cz/blog/akce/kralovske-slevy-na-pobocce-kralovo-pole--1191/
LOCATION:Knihkupectví Královo Pole\, Cimburkova 4\, Brno\, 61200\, Česká republika
ORGANIZER;CN="Luxor":MAILTO:info@luxor.cz
END:VEVENT
BEGIN:VEVENT
DTSTART;TZID=Europe/Prague:20181031T180000
DTEND;TZID=Europe/Prague:20181031T180000
DTSTAMP:20260423T030010
CREATED:20190831T152545Z
LAST-MODIFIED:20190831T152545Z
UID:1824-1541008800-1541008800@www.luxor.cz
SUMMARY:Jan Mühlfeit a Kateřina Novotná: Odemykání dětského potenciálu
DESCRIPTION:Každé dítě je génius\, jen potřebuje objevit své přirozené talenty. Od autora bestselleru Pozitivní leader.\n                             \nKnižní zpracování\nkurzů a seminářů pro rodiče\, děti a studenty\, které vedou světově\nuznávaný kouč Jan Mühlfeit spolu s lektorkou Katkou Novotnou\, vám pomůže\n pochopit\, v čem vaše děti vynikají. Odhalíte\, proč je důležité pomoct\ndětem objevit přirozené talenty a jak je můžete z pozice rodičů podpořit\n v rozvíjení jejich silných stránek\, aby je začaly efektivně využívat. V\n životě\, ve studiu a později i v práci.
URL:https://www.luxor.cz/blog/akce/jan-muhlfeit-a-katerina-novotna-odemykani-detskeho-potencialu--1194/
LOCATION:Palác knih Luxor\, Václavské náměstí 820/41\, Praha 1\, 11000\, Česká republika
ORGANIZER;CN="Luxor":MAILTO:info@luxor.cz
END:VEVENT
END:VCALENDAR