BEGIN:VCALENDAR
VERSION:2.0
PRODID:-//Blog knihkupectví Luxor - ECPv6.15.20//NONSGML v1.0//EN
CALSCALE:GREGORIAN
METHOD:PUBLISH
X-WR-CALNAME:Blog knihkupectví Luxor
X-ORIGINAL-URL:https://www.luxor.cz/blog
X-WR-CALDESC:Akce na Blog knihkupectví Luxor
REFRESH-INTERVAL;VALUE=DURATION:PT1H
X-Robots-Tag:noindex
X-PUBLISHED-TTL:PT1H
BEGIN:VTIMEZONE
TZID:Europe/Prague
BEGIN:DAYLIGHT
TZOFFSETFROM:+0100
TZOFFSETTO:+0200
TZNAME:CEST
DTSTART:20170326T010000
END:DAYLIGHT
BEGIN:STANDARD
TZOFFSETFROM:+0200
TZOFFSETTO:+0100
TZNAME:CET
DTSTART:20171029T010000
END:STANDARD
BEGIN:DAYLIGHT
TZOFFSETFROM:+0100
TZOFFSETTO:+0200
TZNAME:CEST
DTSTART:20180325T010000
END:DAYLIGHT
BEGIN:STANDARD
TZOFFSETFROM:+0200
TZOFFSETTO:+0100
TZNAME:CET
DTSTART:20181028T010000
END:STANDARD
BEGIN:DAYLIGHT
TZOFFSETFROM:+0100
TZOFFSETTO:+0200
TZNAME:CEST
DTSTART:20190331T010000
END:DAYLIGHT
BEGIN:STANDARD
TZOFFSETFROM:+0200
TZOFFSETTO:+0100
TZNAME:CET
DTSTART:20191027T010000
END:STANDARD
END:VTIMEZONE
BEGIN:VEVENT
DTSTART;TZID=Europe/Prague:20181030T160000
DTEND;TZID=Europe/Prague:20181030T160000
DTSTAMP:20260423T025739
CREATED:20190831T152546Z
LAST-MODIFIED:20190831T152546Z
UID:1826-1540915200-1540915200@www.luxor.cz
SUMMARY:Křest knihy Hrad mrtvých a autogramiáda Jana Bauera
DESCRIPTION:Šlechtic Raimund z Pušperku doprovázel Elišku Přemyslovnu na její svatbu s Janem Lucemburským ve Špýru. S\nkrálovskými manželi se také vrátil do Čech a po Janově slavné korunovaci\n konečně zamířil domů na svůj hrad Pušperk v podhůří Šumavy. Ke svému\nzděšení zjistil\, že Pušperk je zcela pustý\, jeho manželka Voršila a\ndcera Anna kamsi zmizely\, zbylí obyvatelé hradu byli povražděni. Raimund\n našel jen jejich zohavené mrtvoly. V zoufalství se obrátí na komorníka\nčeského království Petra z Rožmberka\, který mu doporučí královského\nsoudce Melichara z Roupova. Melichar a jeho pomocník Božetěch se nyní\npokoušejí vypátrat\, kdo povraždil obyvatele Pušperku a co se stalo s\nVoršilou a její dcerou Annou. Unesl je snad někdo? A proč? Podaří se je\nosvobodit a zatknout vrahy?
URL:https://www.luxor.cz/blog/akce/krest-knihy-hrad-mrtvych-a-autogramiada-jana-bauera--1196/
LOCATION:Palác knih Luxor\, Václavské náměstí 820/41\, Praha 1\, 11000\, Česká republika
ORGANIZER;CN="Luxor":MAILTO:info@luxor.cz
END:VEVENT
BEGIN:VEVENT
DTSTART;TZID=Europe/Prague:20181030T180000
DTEND;TZID=Europe/Prague:20181030T180000
DTSTAMP:20260423T025739
CREATED:20190831T152542Z
LAST-MODIFIED:20190831T152542Z
UID:1819-1540922400-1540922400@www.luxor.cz
SUMMARY:Jonáš Ledecký: křest knihy Kapsy
DESCRIPTION:První komiksové zpracování Povídek z první a druhé kapsy Karla Čapka \nMladý policista se snaží zjistit\, jak se to má s tou slavnou i proklínanou intuicí a štěstím.\nMuž trpící závratí\, bude muset čelit vlastním hříchům.\nPoslední soud člověka odhalí nejen to zvrácené v lidské duši\, ale i nevinnost a smutek nad ztracenou skleněnkou.\nZáhadný pokus o vraždu donutí sebestředného namyšlence zpytovat svědomí.\nHon na vražedného zločince se stává otázkou zákona\, pomsty i stavovské cti… \nSlavné povídky Karla Čapka ožívají v nové\, komiksové podobě. Plné\nbarev\, odvážných řešení\, ale i pokory k původnímu textu. V rukou\nnejmladší komiksové generace vzniklo dílo\, které potěší všechny čtenáře\nbez rozdílu věku!
URL:https://www.luxor.cz/blog/akce/jonas-ledecky-krest-knihy-kapsy--1189/
LOCATION:Palác knih Luxor\, Václavské náměstí 820/41\, Praha 1\, 11000\, Česká republika
ORGANIZER;CN="Luxor":MAILTO:info@luxor.cz
END:VEVENT
END:VCALENDAR