BEGIN:VCALENDAR
VERSION:2.0
PRODID:-//Blog knihkupectví Luxor - ECPv6.15.20//NONSGML v1.0//EN
CALSCALE:GREGORIAN
METHOD:PUBLISH
X-ORIGINAL-URL:https://www.luxor.cz/blog
X-WR-CALDESC:Akce na Blog knihkupectví Luxor
REFRESH-INTERVAL;VALUE=DURATION:PT1H
X-Robots-Tag:noindex
X-PUBLISHED-TTL:PT1H
BEGIN:VTIMEZONE
TZID:Europe/Prague
BEGIN:DAYLIGHT
TZOFFSETFROM:+0100
TZOFFSETTO:+0200
TZNAME:CEST
DTSTART:20170326T010000
END:DAYLIGHT
BEGIN:STANDARD
TZOFFSETFROM:+0200
TZOFFSETTO:+0100
TZNAME:CET
DTSTART:20171029T010000
END:STANDARD
BEGIN:DAYLIGHT
TZOFFSETFROM:+0100
TZOFFSETTO:+0200
TZNAME:CEST
DTSTART:20180325T010000
END:DAYLIGHT
BEGIN:STANDARD
TZOFFSETFROM:+0200
TZOFFSETTO:+0100
TZNAME:CET
DTSTART:20181028T010000
END:STANDARD
BEGIN:DAYLIGHT
TZOFFSETFROM:+0100
TZOFFSETTO:+0200
TZNAME:CEST
DTSTART:20190331T010000
END:DAYLIGHT
BEGIN:STANDARD
TZOFFSETFROM:+0200
TZOFFSETTO:+0100
TZNAME:CET
DTSTART:20191027T010000
END:STANDARD
END:VTIMEZONE
BEGIN:VEVENT
DTSTART;TZID=Europe/Prague:20181022T170000
DTEND;TZID=Europe/Prague:20181022T170000
DTSTAMP:20260423T060834
CREATED:20190831T152540Z
LAST-MODIFIED:20190831T152540Z
UID:1814-1540227600-1540227600@www.luxor.cz
SUMMARY:Marta Kučíková a Italské dvojhubky - křest knihy a autogramiáda autorky
DESCRIPTION:Proč si italští šviháci plní své letité sny v jakémkoli věku? Proč zbytečně neremcají? Proč by Ital nikdy nepozřel\nmargarín? Proč i v nejmenší vesnici bývá stejný počet barů a\nkadeřnictví? Jak lze vyzrát na pech vysoko v horách? A proč jsou všechny\n Italky po jednom kafi zkušenými psycholožkami manželských vztahů? Co\nasi dělá\, podle českého přísloví\, správný Ital každou středu? Jak se\nelegantně zbavit dotěry? Co ve skutečnosti znamená být nevěrná až za\nhrob? Čím si typický Ital hýčká svoji drahou ženu? V čem tkví tajemství\njejich precizně uklizených domovů – a jak Italky zvládají být i při tom\nfofru stále upravené a elegantní? Proč netloustnou\, i když se cpou\npizzou o půlnoci? Jak se cítí Češky a Slovenky provdané za své italské\nmuže? Proč má Ital laskavé srdce? A proč jste důležití právě VY?\nO dalších lehkostech a nelehkostech žití v podhorském italském\nmaloměstě\, viděných nejen ze zpovědní kasy hokynářského krámku\, vypráví\nautorka\, žijící v těchto končinách téměř patnáct let\, opět s jemným\nvtipem a nadhledem.
URL:https://www.luxor.cz/blog/akce/marta-kucikova-a-italske-dvojhubky-krest-knihy-a-autogramiada-autorky--1183/
LOCATION:Palác knih Luxor\, Václavské náměstí 820/41\, Praha 1\, 11000\, Česká republika
ORGANIZER;CN="Luxor":MAILTO:info@luxor.cz
END:VEVENT
END:VCALENDAR