BEGIN:VCALENDAR
VERSION:2.0
PRODID:-//Blog knihkupectví Luxor - ECPv6.15.20//NONSGML v1.0//EN
CALSCALE:GREGORIAN
METHOD:PUBLISH
X-ORIGINAL-URL:https://www.luxor.cz/blog
X-WR-CALDESC:Akce na Blog knihkupectví Luxor
REFRESH-INTERVAL;VALUE=DURATION:PT1H
X-Robots-Tag:noindex
X-PUBLISHED-TTL:PT1H
BEGIN:VTIMEZONE
TZID:Europe/Prague
BEGIN:DAYLIGHT
TZOFFSETFROM:+0100
TZOFFSETTO:+0200
TZNAME:CEST
DTSTART:20170326T010000
END:DAYLIGHT
BEGIN:STANDARD
TZOFFSETFROM:+0200
TZOFFSETTO:+0100
TZNAME:CET
DTSTART:20171029T010000
END:STANDARD
BEGIN:DAYLIGHT
TZOFFSETFROM:+0100
TZOFFSETTO:+0200
TZNAME:CEST
DTSTART:20180325T010000
END:DAYLIGHT
BEGIN:STANDARD
TZOFFSETFROM:+0200
TZOFFSETTO:+0100
TZNAME:CET
DTSTART:20181028T010000
END:STANDARD
BEGIN:DAYLIGHT
TZOFFSETFROM:+0100
TZOFFSETTO:+0200
TZNAME:CEST
DTSTART:20190331T010000
END:DAYLIGHT
BEGIN:STANDARD
TZOFFSETFROM:+0200
TZOFFSETTO:+0100
TZNAME:CET
DTSTART:20191027T010000
END:STANDARD
END:VTIMEZONE
BEGIN:VEVENT
DTSTART;TZID=Europe/Prague:20181020T140000
DTEND;TZID=Europe/Prague:20181020T140000
DTSTAMP:20260423T030103
CREATED:20190831T152545Z
LAST-MODIFIED:20190831T152545Z
UID:1825-1540044000-1540044000@www.luxor.cz
SUMMARY:PALLADIUM: Lucie van Koten - beseda a autogramiáda
DESCRIPTION:Držitelka ocenění Blogerka roku vzpomíná na své dětství\, aby popsala paradoxy své dospělosti.\nPo maturitě se známá blogerka vdá za holandského učitele a vědce\,\nstěhuje se s ním do Florencie a doprovází ho Evropou. Do Čech se vrací\nzcestovalá\, ale neukotvená. Krach manželství jí mění život\, ale musí jít\n dál. Minulost je totiž třeba brát s humorem\, přítomnost se sebeúctou\,\nbudoucnost s vděkem… a vždy u toho skvěle vypadat! 
URL:https://www.luxor.cz/blog/akce/palladium-lucie-van-koten-beseda-a-autogramiada--1195/
LOCATION:Knihkupectví Palladium\, Náměstí republiky 1\, NC Palladium\, Praha 1\, 11000
ORGANIZER;CN="Luxor":MAILTO:info@luxor.cz
END:VEVENT
END:VCALENDAR