BEGIN:VCALENDAR
VERSION:2.0
PRODID:-//Blog knihkupectví Luxor - ECPv6.15.20//NONSGML v1.0//EN
CALSCALE:GREGORIAN
METHOD:PUBLISH
X-ORIGINAL-URL:https://www.luxor.cz/blog
X-WR-CALDESC:Akce na Blog knihkupectví Luxor
REFRESH-INTERVAL;VALUE=DURATION:PT1H
X-Robots-Tag:noindex
X-PUBLISHED-TTL:PT1H
BEGIN:VTIMEZONE
TZID:Europe/Prague
BEGIN:DAYLIGHT
TZOFFSETFROM:+0100
TZOFFSETTO:+0200
TZNAME:CEST
DTSTART:20170326T010000
END:DAYLIGHT
BEGIN:STANDARD
TZOFFSETFROM:+0200
TZOFFSETTO:+0100
TZNAME:CET
DTSTART:20171029T010000
END:STANDARD
BEGIN:DAYLIGHT
TZOFFSETFROM:+0100
TZOFFSETTO:+0200
TZNAME:CEST
DTSTART:20180325T010000
END:DAYLIGHT
BEGIN:STANDARD
TZOFFSETFROM:+0200
TZOFFSETTO:+0100
TZNAME:CET
DTSTART:20181028T010000
END:STANDARD
BEGIN:DAYLIGHT
TZOFFSETFROM:+0100
TZOFFSETTO:+0200
TZNAME:CEST
DTSTART:20190331T010000
END:DAYLIGHT
BEGIN:STANDARD
TZOFFSETFROM:+0200
TZOFFSETTO:+0100
TZNAME:CET
DTSTART:20191027T010000
END:STANDARD
END:VTIMEZONE
BEGIN:VEVENT
DTSTART;TZID=Europe/Prague:20181004T163000
DTEND;TZID=Europe/Prague:20181004T163000
DTSTAMP:20260423T074351
CREATED:20190831T152536Z
LAST-MODIFIED:20190831T152536Z
UID:1804-1538670600-1538670600@www.luxor.cz
SUMMARY:Mnislav Zelený Atapana a křest jeho knihy Pokrokem k zániku
DESCRIPTION:Během svého\npůsobení nejen v Latinské Americe Mnislav Zelený Atapana publikoval řadu článků\nv různých novinách\, časopisech či na internetových stránkách. Tato kniha\npřináší výběr těch nejzajímavějších\, které vyšly v letech 1970–2016. V jediném\nsvazku tak máme možnost zachytit autorův vřelý vztah k Latinské Americe\,\namazonským indiánům\, zpětně nahlédnout na politický vývoj v této oblasti prostřednictvím\nzpráv o revolucích\, guerillách\, narkomafii\, superkorupci\, Che Guevarovi\,\nChávezovi\, Correyovi\, Gabovi Marquézovi či Šakalovi. Autorovi není lhostejný\nani politicko-ekonomický vývoj v Evropě a vyjadřuje se k problému globalizace\,\nbere si na mušku úředního molocha EU i politickou korektnost\, terorismus\,\nmigraci\, naši politickou reprezentaci\, lidskou neomalenost a nepokoru. I další\ntémata jako xenofobie\, kontinuita lidské existence na Zemi\, drogy a smrt\nneodbytně pokládají otázku další existence a zániku naší civilizace.
URL:https://www.luxor.cz/blog/akce/mnislav-zeleny-atapana-a-krest-jeho-knihy-pokrokem-k-zaniku--1171/
LOCATION:Palác knih Luxor\, Václavské náměstí 820/41\, Praha 1\, 11000\, Česká republika
ORGANIZER;CN="Luxor":MAILTO:info@luxor.cz
END:VEVENT
END:VCALENDAR