BEGIN:VCALENDAR
VERSION:2.0
PRODID:-//Blog knihkupectví Luxor - ECPv6.15.20//NONSGML v1.0//EN
CALSCALE:GREGORIAN
METHOD:PUBLISH
X-ORIGINAL-URL:https://www.luxor.cz/blog
X-WR-CALDESC:Akce na Blog knihkupectví Luxor
REFRESH-INTERVAL;VALUE=DURATION:PT1H
X-Robots-Tag:noindex
X-PUBLISHED-TTL:PT1H
BEGIN:VTIMEZONE
TZID:Europe/Prague
BEGIN:DAYLIGHT
TZOFFSETFROM:+0100
TZOFFSETTO:+0200
TZNAME:CEST
DTSTART:20170326T010000
END:DAYLIGHT
BEGIN:STANDARD
TZOFFSETFROM:+0200
TZOFFSETTO:+0100
TZNAME:CET
DTSTART:20171029T010000
END:STANDARD
BEGIN:DAYLIGHT
TZOFFSETFROM:+0100
TZOFFSETTO:+0200
TZNAME:CEST
DTSTART:20180325T010000
END:DAYLIGHT
BEGIN:STANDARD
TZOFFSETFROM:+0200
TZOFFSETTO:+0100
TZNAME:CET
DTSTART:20181028T010000
END:STANDARD
BEGIN:DAYLIGHT
TZOFFSETFROM:+0100
TZOFFSETTO:+0200
TZNAME:CEST
DTSTART:20190331T010000
END:DAYLIGHT
BEGIN:STANDARD
TZOFFSETFROM:+0200
TZOFFSETTO:+0100
TZNAME:CET
DTSTART:20191027T010000
END:STANDARD
END:VTIMEZONE
BEGIN:VEVENT
DTSTART;TZID=Europe/Prague:20181003T163000
DTEND;TZID=Europe/Prague:20181003T163000
DTSTAMP:20260423T060831
CREATED:20190831T152536Z
LAST-MODIFIED:20190831T152536Z
UID:1802-1538584200-1538584200@www.luxor.cz
SUMMARY:Karel Felt - Naši nejlepší fotbaloví trenéři. Křest knihy a autogramiáda.
DESCRIPTION:Portréty\nnejslavnějších a nejúspěšnějších českých a československých fotbalových\ntrenérů\, kteří se nesmazatelně zapsali do historie nejen československého\nfotbalu\, ale úspěšně působili i v zahraničí. Víte\, kdo byl první opravdu\nprofesionální trenér v československé lize? Kdo stál za největšími úspěchy\nnašich reprezentačních týmů či kdo se prosadil v nejlepších zahraničních\nligách? Kniha je doprovázena vizitkami a fotografiemi.
URL:https://www.luxor.cz/blog/akce/karel-felt-nasi-nejlepsi-fotbalovi-treneri-krest-knihy-a-autogramiada--1169/
LOCATION:Palác knih Luxor\, Václavské náměstí 820/41\, Praha 1\, 11000\, Česká republika
ORGANIZER;CN="Luxor":MAILTO:info@luxor.cz
END:VEVENT
BEGIN:VEVENT
DTSTART;TZID=Europe/Prague:20181003T180000
DTEND;TZID=Europe/Prague:20181003T180000
DTSTAMP:20260423T060831
CREATED:20190831T152536Z
LAST-MODIFIED:20190831T152536Z
UID:1803-1538589600-1538589600@www.luxor.cz
SUMMARY:Autogramiáda Karolíny Kamberské a křest její nové kuchařky Každý den je svátek
DESCRIPTION:Gastronomická\nnovinářka a televizní kuchařka Karolína Kamberská je přesvědčená\, že každý den\nmůže být malou slavností\, pokud chceme… Po předchozích bestsellerech\nKarolína\, domácí kuchařka (2014)\, Štěstí z kuchyně (2015) a Jídlo jako vášeň\n(2016) se Karolína rozhodla shromáždit recepty\, které může každý využít při\ndomácích oslavách\, ale i naopak – dodat díky nim slavnostní lesk i běžnému dni\,\nprotože Každý den je svátek. \n“Já myslím\, že je vždycky co slavit\,” dodává Karolína. “Třeba jen to\, že jsme\nještě naživu\, žijeme v příjemné a bezpečné zemi\, máme střechu nad hlavou\, dobré\njídlo na plotně a někoho\, s kým se o něj rádi podělíme. I to je velký luxus\, a\nsnažím se za něj být vděčná i ve dnech\, kdy mi jinak všechno padá na hlavu.” \nVánoce a Nový rok\, dětské i dámské mejdany\, romantické večeře i slavnosti pod\nširým nebem – ale také obyčejný den\, kterému chcete dodat třpyt. To jsou\npříležitosti\, při kterých se vám bude hodit tato kniha. Pečlivě napsané\nKarolíniny recepty jsou jednoduše zvládnutelné i pro nezkušené nebo unavené\nkuchaře a kuchařky. Zkuste to. Udělejte z každého dne malý svátek. A z velkých\nsvátků udělejte nezapomenutelné slavnosti…
URL:https://www.luxor.cz/blog/akce/autogramiada-karoliny-kamberske-a-krest-jeji-nove-kucharky-kazdy-den-je-svatek--1170/
LOCATION:Palác knih Luxor\, Václavské náměstí 820/41\, Praha 1\, 11000\, Česká republika
ORGANIZER;CN="Luxor":MAILTO:info@luxor.cz
END:VEVENT
END:VCALENDAR