BEGIN:VCALENDAR
VERSION:2.0
PRODID:-//Blog knihkupectví Luxor - ECPv6.15.20//NONSGML v1.0//EN
CALSCALE:GREGORIAN
METHOD:PUBLISH
X-WR-CALNAME:Blog knihkupectví Luxor
X-ORIGINAL-URL:https://www.luxor.cz/blog
X-WR-CALDESC:Akce na Blog knihkupectví Luxor
REFRESH-INTERVAL;VALUE=DURATION:PT1H
X-Robots-Tag:noindex
X-PUBLISHED-TTL:PT1H
BEGIN:VTIMEZONE
TZID:Europe/Prague
BEGIN:DAYLIGHT
TZOFFSETFROM:+0100
TZOFFSETTO:+0200
TZNAME:CEST
DTSTART:20170326T010000
END:DAYLIGHT
BEGIN:STANDARD
TZOFFSETFROM:+0200
TZOFFSETTO:+0100
TZNAME:CET
DTSTART:20171029T010000
END:STANDARD
BEGIN:DAYLIGHT
TZOFFSETFROM:+0100
TZOFFSETTO:+0200
TZNAME:CEST
DTSTART:20180325T010000
END:DAYLIGHT
BEGIN:STANDARD
TZOFFSETFROM:+0200
TZOFFSETTO:+0100
TZNAME:CET
DTSTART:20181028T010000
END:STANDARD
BEGIN:DAYLIGHT
TZOFFSETFROM:+0100
TZOFFSETTO:+0200
TZNAME:CEST
DTSTART:20190331T010000
END:DAYLIGHT
BEGIN:STANDARD
TZOFFSETFROM:+0200
TZOFFSETTO:+0100
TZNAME:CET
DTSTART:20191027T010000
END:STANDARD
END:VTIMEZONE
BEGIN:VEVENT
DTSTART;TZID=Europe/Prague:20180925T163000
DTEND;TZID=Europe/Prague:20180925T163000
DTSTAMP:20260423T042446
CREATED:20190831T152526Z
LAST-MODIFIED:20190831T152526Z
UID:1792-1537893000-1537893000@www.luxor.cz
SUMMARY:Křest a autogramiáda audioknihy Gustav Husák od Michala Macháčka
DESCRIPTION:Kniha vychází z výzkumu dosud neznámých pramenů z českých\, slovenských a ruských archivů i materiálů ze soukromého archivu rodiny Gustáva\nHusáka. \nJméno Gustáva Husáka (1913–1991) je nejsilněji spojeno s obdobím\nnormalizace 70. a 80. let\, kdy přicházela na svět generace „Husákových\ndětí“. Nová Husákova biografie z pera historika Michala Macháčka sleduje\n dlouhou kariéru posledního prezidenta komunistického Československa od\nsamých počátků\, zaměřuje se na Husákův původ a rodinné zázemí\, mládí\,\nstudia a vstup do Komunistické strany Československa\, jeho působení za\nválky a za Slovenského národního povstání\, v poválečné politice\, jeho\nodsouzení v procesu se slovenskými „buržoazními nacionalisty“\, úspěšně\nzavršené úsilí o rehabilitaci a postupný návrat na mocenské výsluní.\nStranou nezůstává ani Husákův osobní život\, i zde přináší kniha nová\nzjištění. Symbol zatuhlosti a stagnace normalizační doby tak v\nMacháčkově knize vystupuje jako osobnost mnohovrstevnatější\, než jak\nbývá obvykle vnímána. Kniha vychází z výzkumu dosud neznámých pramenů z\nčeských\, slovenských a ruských archivů i materiálů ze soukromého archivu\n rodiny Gustáva Husáka. Je první ucelenou husákovskou monografií nejen v\n české historiografické produkci.
URL:https://www.luxor.cz/blog/akce/krest-a-autogramiada-audioknihy-gustav-husak-od-michala-machacka--1159/
LOCATION:Palác knih Luxor\, Václavské náměstí 820/41\, Praha 1\, 11000\, Česká republika
ORGANIZER;CN="Luxor":MAILTO:info@luxor.cz
END:VEVENT
END:VCALENDAR