BEGIN:VCALENDAR
VERSION:2.0
PRODID:-//Blog knihkupectví Luxor - ECPv6.15.20//NONSGML v1.0//EN
CALSCALE:GREGORIAN
METHOD:PUBLISH
X-WR-CALNAME:Blog knihkupectví Luxor
X-ORIGINAL-URL:https://www.luxor.cz/blog
X-WR-CALDESC:Akce na Blog knihkupectví Luxor
REFRESH-INTERVAL;VALUE=DURATION:PT1H
X-Robots-Tag:noindex
X-PUBLISHED-TTL:PT1H
BEGIN:VTIMEZONE
TZID:Europe/Prague
BEGIN:DAYLIGHT
TZOFFSETFROM:+0100
TZOFFSETTO:+0200
TZNAME:CEST
DTSTART:20170326T010000
END:DAYLIGHT
BEGIN:STANDARD
TZOFFSETFROM:+0200
TZOFFSETTO:+0100
TZNAME:CET
DTSTART:20171029T010000
END:STANDARD
BEGIN:DAYLIGHT
TZOFFSETFROM:+0100
TZOFFSETTO:+0200
TZNAME:CEST
DTSTART:20180325T010000
END:DAYLIGHT
BEGIN:STANDARD
TZOFFSETFROM:+0200
TZOFFSETTO:+0100
TZNAME:CET
DTSTART:20181028T010000
END:STANDARD
BEGIN:DAYLIGHT
TZOFFSETFROM:+0100
TZOFFSETTO:+0200
TZNAME:CEST
DTSTART:20190331T010000
END:DAYLIGHT
BEGIN:STANDARD
TZOFFSETFROM:+0200
TZOFFSETTO:+0100
TZNAME:CET
DTSTART:20191027T010000
END:STANDARD
END:VTIMEZONE
BEGIN:VEVENT
DTSTART;TZID=Europe/Prague:20180921T140000
DTEND;TZID=Europe/Prague:20180921T140000
DTSTAMP:20260423T060024
CREATED:20190831T152534Z
LAST-MODIFIED:20190831T152534Z
UID:1799-1537538400-1537538400@www.luxor.cz
SUMMARY:ČESKÉ BUDĚJOVICE: Autogramiáda Gabriely Koukalové
DESCRIPTION:Zažila slávu\, úspěchy\, medaile. Ale taky spoustu okamžiků\, o kterých dosud nikomu neřekla. O některých proto\, že se bála\, o dalších proto\, že\n se styděla. Teď je Gabriela Koukalová poprvé odhaluje ve své biografii.\n Vychází sportovní i osobní zpověď nejlepší biatlonistky naší historie.\nMistryně světa\, olympijské medailistky\, vítězky Světového poháru. Kniha\nje psaná autenticky v první osobě a odhaluje zákulisí tréninkové dřiny\,\nnejdůležitějších závodů i mysli vrcholové sportovkyně v těch\nnejvypjatějších momentech. Gabriela jde ve svých pocitech na dřeň.\nPopisuje nejen velké výhry\, ale i to\, co se skrývá za nimi. Třeba\ndesítky probrečených nocí\, spory s rodiči a trenéry\, ne vždy ideální\natmosféra v týmu nebo těžká nemoc\, kterou před světem dlouho tajila…\nSoučástí knihy jsou i dosud nezveřejněné fotografie.
URL:https://www.luxor.cz/blog/akce/autogramiada-gabriely-koukalove--1166/
LOCATION:Knihkupectví U Černé věže\, U Černé věže 15\, České Budějovice\, 37001\, Česká republika
ORGANIZER;CN="Luxor":MAILTO:info@luxor.cz
END:VEVENT
BEGIN:VEVENT
DTSTART;TZID=Europe/Prague:20180921T170000
DTEND;TZID=Europe/Prague:20180921T170000
DTSTAMP:20260423T060024
CREATED:20190831T152524Z
LAST-MODIFIED:20190831T152524Z
UID:1789-1537549200-1537549200@www.luxor.cz
SUMMARY:Zahraniční host: Jan Guillou\, autor série Velké století
DESCRIPTION:Jan Guillou je pravděpodobně nejoblíbenější švédský spisovatel. Jeho knihy byly přeloženy do více než dvaceti jazyků a jen ve Švédsku se jich prodalo\npřes deset milionů. Je tvůrcem dvou nejúspěšnějších švédských\nbeletristických počinů všech dob: série thrillerů o agentu Carlu\nHamiltonovi a „křižácké trilogie“.
URL:https://www.luxor.cz/blog/akce/zahranicni-host-jan-guillou-autor-serie-velke-stoleti--1156/
LOCATION:Palác knih Luxor\, Václavské náměstí 820/41\, Praha 1\, 11000\, Česká republika
ORGANIZER;CN="Luxor":MAILTO:info@luxor.cz
END:VEVENT
BEGIN:VEVENT
DTSTART;TZID=Europe/Prague:20180921T180000
DTEND;TZID=Europe/Prague:20180921T180000
DTSTAMP:20260423T060024
CREATED:20190831T152534Z
LAST-MODIFIED:20190831T152534Z
UID:1798-1537552800-1537552800@www.luxor.cz
SUMMARY:Batman Days
DESCRIPTION:15. 9. slavíme mezinárodní Batman Day! V Luxoru to protahujeme na týden! Batman Days v Luxoru znamená 25% slevu na vybrané komiksy s Batmanem ! Od 15. do 21. září na všech pobočkách probíhá v Luxoru Batman Days. Zakoupit můžete vybrané komiksy s 25% slevou a k nákupu nejnovějšího komiksu Batman: Můj temný princ získáte plakát s Mariniho kresbou zdarma. Nakupovat můžete i na e-shopu. Akci nelze ji kombinovat s jinými slevami. \n \nPřijďte se v době trvání akce vyfotit se svým oblíbeným hrdinou a fotku si rovnou odnesete domů. Vyfotit se můžete od 14 do 18 hodin v Paláci knih Luxor na Václavském náměstí. \n \nBatman: Můj temný princ \nsérie: Enrico Marini \nMariniho nespoutaná kresba se nedá přehlédnout. Výrazné barvy\, obrovské postavy a nádherná malba. A tohle všechno teď věnoval Batmanovi a\nstvořil komiks Můj temný princ. \nV centru příběhu je souboj mezi dvěma největšími protivníky. Batmanem a\nJokerem. A mezi nimi je malá holčička\, která je\, podle všeho\, dcerou\nBruce Waynea. Ano\, toho Bruce\, který po nocích běhá v masce netopýra.  \nPokud jí má Bruce získat\, musí přinést vzácný šperk z velkolepé dražby.\nJenže Jokerovi se nedá věřit… a navíc\, jak už to v Gothamu bývá\, na ten\nšperk zálusk má i někdo jiný. Někdo\, kdo je sexy a nosí kočičí kostým. \nMůj Temný princ je samostatný komiks\, který pracuje s legendární postavou sice s respektem\, ale po svém.  \nhttps://luxor.cz/beletrie/batman-muj-temny-princ–377806/
URL:https://www.luxor.cz/blog/akce/batman-day--1165/
ORGANIZER;CN="Luxor":MAILTO:info@luxor.cz
END:VEVENT
END:VCALENDAR