BEGIN:VCALENDAR
VERSION:2.0
PRODID:-//Blog knihkupectví Luxor - ECPv6.15.20//NONSGML v1.0//EN
CALSCALE:GREGORIAN
METHOD:PUBLISH
X-WR-CALNAME:Blog knihkupectví Luxor
X-ORIGINAL-URL:https://www.luxor.cz/blog
X-WR-CALDESC:Akce na Blog knihkupectví Luxor
REFRESH-INTERVAL;VALUE=DURATION:PT1H
X-Robots-Tag:noindex
X-PUBLISHED-TTL:PT1H
BEGIN:VTIMEZONE
TZID:Europe/Prague
BEGIN:DAYLIGHT
TZOFFSETFROM:+0100
TZOFFSETTO:+0200
TZNAME:CEST
DTSTART:20170326T010000
END:DAYLIGHT
BEGIN:STANDARD
TZOFFSETFROM:+0200
TZOFFSETTO:+0100
TZNAME:CET
DTSTART:20171029T010000
END:STANDARD
BEGIN:DAYLIGHT
TZOFFSETFROM:+0100
TZOFFSETTO:+0200
TZNAME:CEST
DTSTART:20180325T010000
END:DAYLIGHT
BEGIN:STANDARD
TZOFFSETFROM:+0200
TZOFFSETTO:+0100
TZNAME:CET
DTSTART:20181028T010000
END:STANDARD
BEGIN:DAYLIGHT
TZOFFSETFROM:+0100
TZOFFSETTO:+0200
TZNAME:CEST
DTSTART:20190331T010000
END:DAYLIGHT
BEGIN:STANDARD
TZOFFSETFROM:+0200
TZOFFSETTO:+0100
TZNAME:CET
DTSTART:20191027T010000
END:STANDARD
END:VTIMEZONE
BEGIN:VEVENT
DTSTART;TZID=Europe/Prague:20180920T170000
DTEND;TZID=Europe/Prague:20180920T170000
DTSTAMP:20260423T060110
CREATED:20190831T152524Z
LAST-MODIFIED:20190831T152524Z
UID:1788-1537462800-1537462800@www.luxor.cz
SUMMARY:DBK Budějovická: Beseda a autogramiáda Michala Brozmana
DESCRIPTION:Michal Brozman působí jako lektor\, osobní kouč a mentor.\nTématy jeho práce jsou hlavně radost a láska v životě\, partnerské vztahy\nnebo přijetí sebe sama. Své úvahy o životě a vztazích vložil do několika\núspěšných knih\, například Jak vzniká ne-moc aneb Pravdivost srdce\, 50 vzkazů\nženám či Jak se zbavit svého Ega? Michal pravidelně pořádá semináře\, přednášky\na besedy. Přijďte se jej do knihkupectví Luxor zeptat na to\, co vás doopravdy\nzajímá\, a nechte si podepsat svou oblíbenou knihu!
URL:https://www.luxor.cz/blog/akce/dbk-budejovicka-michal-brozman-beseda-a-autogramiada--1155/
LOCATION:Knihkupectví DBK Budějovická\, OC DBK Budějovická\, Praha 4\, 14000\, Česká republika
ORGANIZER;CN="Luxor":MAILTO:info@luxor.cz
END:VEVENT
END:VCALENDAR