BEGIN:VCALENDAR
VERSION:2.0
PRODID:-//Blog knihkupectví Luxor - ECPv6.15.20//NONSGML v1.0//EN
CALSCALE:GREGORIAN
METHOD:PUBLISH
X-ORIGINAL-URL:https://www.luxor.cz/blog
X-WR-CALDESC:Akce na Blog knihkupectví Luxor
REFRESH-INTERVAL;VALUE=DURATION:PT1H
X-Robots-Tag:noindex
X-PUBLISHED-TTL:PT1H
BEGIN:VTIMEZONE
TZID:Europe/Prague
BEGIN:DAYLIGHT
TZOFFSETFROM:+0100
TZOFFSETTO:+0200
TZNAME:CEST
DTSTART:20170326T010000
END:DAYLIGHT
BEGIN:STANDARD
TZOFFSETFROM:+0200
TZOFFSETTO:+0100
TZNAME:CET
DTSTART:20171029T010000
END:STANDARD
BEGIN:DAYLIGHT
TZOFFSETFROM:+0100
TZOFFSETTO:+0200
TZNAME:CEST
DTSTART:20180325T010000
END:DAYLIGHT
BEGIN:STANDARD
TZOFFSETFROM:+0200
TZOFFSETTO:+0100
TZNAME:CET
DTSTART:20181028T010000
END:STANDARD
BEGIN:DAYLIGHT
TZOFFSETFROM:+0100
TZOFFSETTO:+0200
TZNAME:CEST
DTSTART:20190331T010000
END:DAYLIGHT
BEGIN:STANDARD
TZOFFSETFROM:+0200
TZOFFSETTO:+0100
TZNAME:CET
DTSTART:20191027T010000
END:STANDARD
END:VTIMEZONE
BEGIN:VEVENT
DTSTART;TZID=Europe/Prague:20180913T160000
DTEND;TZID=Europe/Prague:20180913T160000
DTSTAMP:20260423T042851
CREATED:20190831T152523Z
LAST-MODIFIED:20190831T152523Z
UID:1786-1536854400-1536854400@www.luxor.cz
SUMMARY:Autogramiáda a křest knihy Neboj se\, vždyť máš česnek! od Pavla Brycze
DESCRIPTION:Emil si vždycky myslel\, že nemá žádnou babičku ani dědečka. O prázdninách se nudí na sídlišti. To všechno se má\n změnit\, když přijde pohled z Hrobu. Píšou mu jeho dlouho zamlčovaní\nprarodiče a zvou ho k sobě. Emila čekají zatím ty nejdobrodružnější\nprázdniny v životě. Babička s dědou žijí a pracují… na hřbitově. Mají\nobrovského bernardýna a od rána do večera jedí česnek. Proč\, to Emil\nbrzy zjistí – na hřbitově se ukrývá rodinka vyhládlých upírů. V boji s\nnimi Emil zažije nejednu horkou chvilku. Všechno dobře končí\, ale\nvlastně teprve začíná. Emil je živý a upíři nejsou mrtví… \nBohatě ilustrovaná knížka vhodná i pro začínající čtenáře.
URL:https://www.luxor.cz/blog/akce/autogrmiada-a-krest-knihy-neboj-se-vzdyt-mas-cesnek-od-pavla-brycze--1153/
LOCATION:Palác knih Luxor\, Václavské náměstí 820/41\, Praha 1\, 11000\, Česká republika
ORGANIZER;CN="Luxor":MAILTO:info@luxor.cz
END:VEVENT
END:VCALENDAR