BEGIN:VCALENDAR
VERSION:2.0
PRODID:-//Blog knihkupectví Luxor - ECPv6.15.20//NONSGML v1.0//EN
CALSCALE:GREGORIAN
METHOD:PUBLISH
X-WR-CALNAME:Blog knihkupectví Luxor
X-ORIGINAL-URL:https://www.luxor.cz/blog
X-WR-CALDESC:Akce na Blog knihkupectví Luxor
REFRESH-INTERVAL;VALUE=DURATION:PT1H
X-Robots-Tag:noindex
X-PUBLISHED-TTL:PT1H
BEGIN:VTIMEZONE
TZID:Europe/Prague
BEGIN:DAYLIGHT
TZOFFSETFROM:+0100
TZOFFSETTO:+0200
TZNAME:CEST
DTSTART:20170326T010000
END:DAYLIGHT
BEGIN:STANDARD
TZOFFSETFROM:+0200
TZOFFSETTO:+0100
TZNAME:CET
DTSTART:20171029T010000
END:STANDARD
BEGIN:DAYLIGHT
TZOFFSETFROM:+0100
TZOFFSETTO:+0200
TZNAME:CEST
DTSTART:20180325T010000
END:DAYLIGHT
BEGIN:STANDARD
TZOFFSETFROM:+0200
TZOFFSETTO:+0100
TZNAME:CET
DTSTART:20181028T010000
END:STANDARD
BEGIN:DAYLIGHT
TZOFFSETFROM:+0100
TZOFFSETTO:+0200
TZNAME:CEST
DTSTART:20190331T010000
END:DAYLIGHT
BEGIN:STANDARD
TZOFFSETFROM:+0200
TZOFFSETTO:+0100
TZNAME:CET
DTSTART:20191027T010000
END:STANDARD
END:VTIMEZONE
BEGIN:VEVENT
DTSTART;TZID=Europe/Prague:20180905T170000
DTEND;TZID=Europe/Prague:20180905T170000
DTSTAMP:20260423T042447
CREATED:20190831T152524Z
LAST-MODIFIED:20190831T152524Z
UID:1790-1536166800-1536166800@www.luxor.cz
SUMMARY:Autogramiáda Jaromíra Bosáka a křest jeho knihy Fotbalové pozdravy z Ruska: Mistrovství světa den po dni
DESCRIPTION:Fotbalové pozdravy z Ruska – s podtitulem Mistrovství světa den po dni. Tak se jmenuje dnes již tradiční fotbalový\n deník populárního sportovního komentátora Jaromíra Bosáka (poprvé vyšel\n před rovnými dvaceti lety v roce 1998 po mistrovství světa ve Francii).\n Autor na 280 stranách provází čtenáře celým turnajem\, komentuje\njednotlivé zápasy\, výkony týmů i hráčů\, ale především zavede fanoušky do\n zákulisí této největší a nejsledovanější sportovní akce\, která se letos\n konala v Putinově Rusku. Takže bylo od počátku zřejmé\, že politiky\nnezůstaneme tak úplně ušetřeni.
URL:https://www.luxor.cz/blog/akce/autogramiada-jaromira-bosaka-a-krest-jeho-knihy-fotbalove-pozdravy-z-ruska-mistrovstvi-sveta-den-po-dni--1157/
LOCATION:Palác knih Luxor\, Václavské náměstí 820/41\, Praha 1\, 11000\, Česká republika
ORGANIZER;CN="Luxor":MAILTO:info@luxor.cz
END:VEVENT
END:VCALENDAR