BEGIN:VCALENDAR
VERSION:2.0
PRODID:-//Blog knihkupectví Luxor - ECPv6.15.20//NONSGML v1.0//EN
CALSCALE:GREGORIAN
METHOD:PUBLISH
X-ORIGINAL-URL:https://www.luxor.cz/blog
X-WR-CALDESC:Akce na Blog knihkupectví Luxor
REFRESH-INTERVAL;VALUE=DURATION:PT1H
X-Robots-Tag:noindex
X-PUBLISHED-TTL:PT1H
BEGIN:VTIMEZONE
TZID:Europe/Prague
BEGIN:DAYLIGHT
TZOFFSETFROM:+0100
TZOFFSETTO:+0200
TZNAME:CEST
DTSTART:20170326T010000
END:DAYLIGHT
BEGIN:STANDARD
TZOFFSETFROM:+0200
TZOFFSETTO:+0100
TZNAME:CET
DTSTART:20171029T010000
END:STANDARD
BEGIN:DAYLIGHT
TZOFFSETFROM:+0100
TZOFFSETTO:+0200
TZNAME:CEST
DTSTART:20180325T010000
END:DAYLIGHT
BEGIN:STANDARD
TZOFFSETFROM:+0200
TZOFFSETTO:+0100
TZNAME:CET
DTSTART:20181028T010000
END:STANDARD
BEGIN:DAYLIGHT
TZOFFSETFROM:+0100
TZOFFSETTO:+0200
TZNAME:CEST
DTSTART:20190331T010000
END:DAYLIGHT
BEGIN:STANDARD
TZOFFSETFROM:+0200
TZOFFSETTO:+0100
TZNAME:CET
DTSTART:20191027T010000
END:STANDARD
END:VTIMEZONE
BEGIN:VEVENT
DTSTART;TZID=Europe/Prague:20180904T160000
DTEND;TZID=Europe/Prague:20180904T160000
DTSTAMP:20260423T060237
CREATED:20190831T152522Z
LAST-MODIFIED:20190831T152522Z
UID:1783-1536076800-1536076800@www.luxor.cz
SUMMARY:Kafkonomie: Z boží vůle bankéř a diskuse Tomáše Sedláčka a Romana Chlupatého
DESCRIPTION:KAFKONOMIE: Z BOŽÍ VŮLE BANKÉŘ přináší ve formě živého rozhovoru unikátní vhled do světa lidí\, kteří rozhodují o vzniku a\n toku peněz. Od pádu investiční banky Lehman Brothers ?v roce 2008\,\nnejvětšího korporátního krachu v historii USA\, uplynulo deset let. Mnohé\n se od té doby změnilo\, ale samotné základy včetně přesvědčení o\nvýjimečnosti bankéřů odolaly.\n \nPřední český ekonom Tomáš Sedláček si společně s publicistou a\nkonzultantem Romanem Chlupatým přizvali k debatě Jorise Luyendijka.\nTento nizozemský antropolog a spisovatel zkoumal v londýnské City\nbankéře coby specifický druh\, který´ je podepsán pod nejhlubší krizí\nglobální ekonomiky od Velké deprese ve 30. letech 20. století. \nKniha je volným pokračováním úspěšných rozhovorů Tomáše Sedláčka a\nRomana Chlupatého s kanadským matematikem Davidem Orrellem a americkým\nantropologem Davidem Graeberem. Vychází jako třetí závěrečný´ díl\n(post)krizové trilogie.
URL:https://www.luxor.cz/blog/akce/kafkonomie-z-bozi-vule-banker-a-diskuse-tomase-sedlacka-a-romana-chlupateho--1150/
LOCATION:Palác knih Luxor\, Václavské náměstí 820/41\, Praha 1\, 11000\, Česká republika
ORGANIZER;CN="Luxor":MAILTO:info@luxor.cz
END:VEVENT
END:VCALENDAR