BEGIN:VCALENDAR
VERSION:2.0
PRODID:-//Blog knihkupectví Luxor - ECPv6.15.20//NONSGML v1.0//EN
CALSCALE:GREGORIAN
METHOD:PUBLISH
X-WR-CALNAME:Blog knihkupectví Luxor
X-ORIGINAL-URL:https://www.luxor.cz/blog
X-WR-CALDESC:Akce na Blog knihkupectví Luxor
REFRESH-INTERVAL;VALUE=DURATION:PT1H
X-Robots-Tag:noindex
X-PUBLISHED-TTL:PT1H
BEGIN:VTIMEZONE
TZID:Europe/Prague
BEGIN:DAYLIGHT
TZOFFSETFROM:+0100
TZOFFSETTO:+0200
TZNAME:CEST
DTSTART:20170326T010000
END:DAYLIGHT
BEGIN:STANDARD
TZOFFSETFROM:+0200
TZOFFSETTO:+0100
TZNAME:CET
DTSTART:20171029T010000
END:STANDARD
BEGIN:DAYLIGHT
TZOFFSETFROM:+0100
TZOFFSETTO:+0200
TZNAME:CEST
DTSTART:20180325T010000
END:DAYLIGHT
BEGIN:STANDARD
TZOFFSETFROM:+0200
TZOFFSETTO:+0100
TZNAME:CET
DTSTART:20181028T010000
END:STANDARD
BEGIN:DAYLIGHT
TZOFFSETFROM:+0100
TZOFFSETTO:+0200
TZNAME:CEST
DTSTART:20190331T010000
END:DAYLIGHT
BEGIN:STANDARD
TZOFFSETFROM:+0200
TZOFFSETTO:+0100
TZNAME:CET
DTSTART:20191027T010000
END:STANDARD
END:VTIMEZONE
BEGIN:VEVENT
DTSTART;TZID=Europe/Prague:20180830T170000
DTEND;TZID=Europe/Prague:20180830T170000
DTSTAMP:20260423T060643
CREATED:20190831T152521Z
LAST-MODIFIED:20190831T152521Z
UID:1781-1535648400-1535648400@www.luxor.cz
SUMMARY:Autogramiáda Kláry Janečkové a křest její knihy Pád do tmy
DESCRIPTION:Tereza Brašová uteče ve svých osmnácti letech z domova\, aby se zbavila svého otčíma\, který ji léta sexuálně zneužíval. Bezpečí najde ve\nslovinských jeskyních\, kde začne pracovat jako průvodkyně v největším\nkrasu Evropy a později se proslaví jako záchranářka. Petr Brašov\, který\nmezitím udělal politickou kariéru\, Terezu donutí vrátit se do Prahy\, aby\n její popularity využil pro svou mediální kampaň.\nNetuší však\, že právě to se mu stane osudným…
URL:https://www.luxor.cz/blog/akce/autogramiada-klary-janeckove-a-krest-jeji-knihy-pad-do-tmy--1148/
LOCATION:Palác knih Luxor\, Václavské náměstí 820/41\, Praha 1\, 11000\, Česká republika
ORGANIZER;CN="Luxor":MAILTO:info@luxor.cz
END:VEVENT
END:VCALENDAR