BEGIN:VCALENDAR
VERSION:2.0
PRODID:-//Blog knihkupectví Luxor - ECPv6.15.20//NONSGML v1.0//EN
CALSCALE:GREGORIAN
METHOD:PUBLISH
X-WR-CALNAME:Blog knihkupectví Luxor
X-ORIGINAL-URL:https://www.luxor.cz/blog
X-WR-CALDESC:Akce na Blog knihkupectví Luxor
REFRESH-INTERVAL;VALUE=DURATION:PT1H
X-Robots-Tag:noindex
X-PUBLISHED-TTL:PT1H
BEGIN:VTIMEZONE
TZID:Europe/Prague
BEGIN:DAYLIGHT
TZOFFSETFROM:+0100
TZOFFSETTO:+0200
TZNAME:CEST
DTSTART:20170326T010000
END:DAYLIGHT
BEGIN:STANDARD
TZOFFSETFROM:+0200
TZOFFSETTO:+0100
TZNAME:CET
DTSTART:20171029T010000
END:STANDARD
BEGIN:DAYLIGHT
TZOFFSETFROM:+0100
TZOFFSETTO:+0200
TZNAME:CEST
DTSTART:20180325T010000
END:DAYLIGHT
BEGIN:STANDARD
TZOFFSETFROM:+0200
TZOFFSETTO:+0100
TZNAME:CET
DTSTART:20181028T010000
END:STANDARD
BEGIN:DAYLIGHT
TZOFFSETFROM:+0100
TZOFFSETTO:+0200
TZNAME:CEST
DTSTART:20190331T010000
END:DAYLIGHT
BEGIN:STANDARD
TZOFFSETFROM:+0200
TZOFFSETTO:+0100
TZNAME:CET
DTSTART:20191027T010000
END:STANDARD
END:VTIMEZONE
BEGIN:VEVENT
DTSTART;TZID=Europe/Prague:20180801T170000
DTEND;TZID=Europe/Prague:20180801T170000
DTSTAMP:20260423T074042
CREATED:20190831T152518Z
LAST-MODIFIED:20190831T152518Z
UID:1774-1533142800-1533142800@www.luxor.cz
SUMMARY:CHODOV: Autorské čtení a beseda Tomáše Šebka
DESCRIPTION:„Tak mám tu malárii\, nebo nemám?“Toto je autentická zpověď z Jižního Súdánu\, nejmladšího státu světa\,\njehož území už celá desetiletí sužují ozbrojené konflikty. Na začátku\nroku 2017\, kdy zemi navíc zasáhla vlna kritického nedostatku potravin\,\nse do míst\, kde se až příliš daří infekčním a tropickým nemocem\, vydal\nna misi Lékařů bez hranic chirurg Tomáš Šebek. Po zkušenostech s\núrazovou chirurgií z kolébky vúdú na Haiti a válečnou medicínou v\nseverním Afghánistánu se spolu s kolegy ocitl v prostředí\, kde má\ntradiční léčitel a jeho alternativní přístup k pacientovi daleko větší\nrespekt než lékař vzdělaný na Západě. Proti fixaci zlomenin papírem\nanebo poléváním vařící vodou může reputaci chirurgického týmu v očích\nmístních pozvednout snad jen tím\, že v absolutní pustině obklopující\nnemocnici v Agoku provede první operaci mozku dospívajícího Jihosúdánce.\n Zápisky Tomáše Šebka\, doprovázené strhujícími fotografiemi\, představují\n jedinečný pohled na místa\, o nichž se z médií nedozvíte.
URL:https://www.luxor.cz/blog/akce/chodov-autorske-cteni-a-beseda-tomase-sebka--1140/
LOCATION:Knihkupectví Chodov\, Centrum Chodov\, Praha 4\, 14000\, Česká republika
ORGANIZER;CN="Luxor":MAILTO:info@luxor.cz
END:VEVENT
END:VCALENDAR