BEGIN:VCALENDAR
VERSION:2.0
PRODID:-//Blog knihkupectví Luxor - ECPv6.15.20//NONSGML v1.0//EN
CALSCALE:GREGORIAN
METHOD:PUBLISH
X-WR-CALNAME:Blog knihkupectví Luxor
X-ORIGINAL-URL:https://www.luxor.cz/blog
X-WR-CALDESC:Akce na Blog knihkupectví Luxor
REFRESH-INTERVAL;VALUE=DURATION:PT1H
X-Robots-Tag:noindex
X-PUBLISHED-TTL:PT1H
BEGIN:VTIMEZONE
TZID:Europe/Prague
BEGIN:DAYLIGHT
TZOFFSETFROM:+0100
TZOFFSETTO:+0200
TZNAME:CEST
DTSTART:20170326T010000
END:DAYLIGHT
BEGIN:STANDARD
TZOFFSETFROM:+0200
TZOFFSETTO:+0100
TZNAME:CET
DTSTART:20171029T010000
END:STANDARD
BEGIN:DAYLIGHT
TZOFFSETFROM:+0100
TZOFFSETTO:+0200
TZNAME:CEST
DTSTART:20180325T010000
END:DAYLIGHT
BEGIN:STANDARD
TZOFFSETFROM:+0200
TZOFFSETTO:+0100
TZNAME:CET
DTSTART:20181028T010000
END:STANDARD
BEGIN:DAYLIGHT
TZOFFSETFROM:+0100
TZOFFSETTO:+0200
TZNAME:CEST
DTSTART:20190331T010000
END:DAYLIGHT
BEGIN:STANDARD
TZOFFSETFROM:+0200
TZOFFSETTO:+0100
TZNAME:CET
DTSTART:20191027T010000
END:STANDARD
END:VTIMEZONE
BEGIN:VEVENT
DTSTART;TZID=Europe/Prague:20180621T153000
DTEND;TZID=Europe/Prague:20180621T153000
DTSTAMP:20260423T122401
CREATED:20190831T152516Z
LAST-MODIFIED:20190831T152516Z
UID:1767-1529595000-1529595000@www.luxor.cz
SUMMARY:Křest a autogramiáda knihy Malý průvodce po hrobech velkých III. od Miloše Dvořáka
DESCRIPTION:Již třetí pokračování úspěšného stejnojmenného titulu. Je překvapující\, že nás\, kteří se rádi procházíme mezi náhrobky ve stínu starých stromů\,\nje tolik. Tahle zvláštní (a z pohledu mnohých trochu morbidní) záliba má\n dokonce svůj odborný název – tafofilie. Všem\, které oslovuje mystická\natmosféra hřbitovů\, je určena tato kniha\, jejíž autor sjezdil\ns fotoaparátem celou naši republiku a během pátrání mnohdy téměř\ndetektivního hledal místa odpočinku dalších více než 250 osobností\,\nkteré si zasloužily najít své místo i na jejích stránkách. Bohužel\,\ntahle kniha nebude nikdy dokončena. I v minulém roce přibylo několik\nlidí\, kteří si zaslouží fotografii a připomenutí v Průvodci…
URL:https://www.luxor.cz/blog/akce/krest-a-autogramiada-knihy-maly-pruvodce-po-hrobech-velkych-iii-od-milose-dvoraka--1133/
LOCATION:Palác knih Luxor\, Václavské náměstí 820/41\, Praha 1\, 11000\, Česká republika
ORGANIZER;CN="Luxor":MAILTO:info@luxor.cz
END:VEVENT
END:VCALENDAR