BEGIN:VCALENDAR
VERSION:2.0
PRODID:-//Blog knihkupectví Luxor - ECPv6.15.20//NONSGML v1.0//EN
CALSCALE:GREGORIAN
METHOD:PUBLISH
X-WR-CALNAME:Blog knihkupectví Luxor
X-ORIGINAL-URL:https://www.luxor.cz/blog
X-WR-CALDESC:Akce na Blog knihkupectví Luxor
REFRESH-INTERVAL;VALUE=DURATION:PT1H
X-Robots-Tag:noindex
X-PUBLISHED-TTL:PT1H
BEGIN:VTIMEZONE
TZID:Europe/Prague
BEGIN:DAYLIGHT
TZOFFSETFROM:+0100
TZOFFSETTO:+0200
TZNAME:CEST
DTSTART:20170326T010000
END:DAYLIGHT
BEGIN:STANDARD
TZOFFSETFROM:+0200
TZOFFSETTO:+0100
TZNAME:CET
DTSTART:20171029T010000
END:STANDARD
BEGIN:DAYLIGHT
TZOFFSETFROM:+0100
TZOFFSETTO:+0200
TZNAME:CEST
DTSTART:20180325T010000
END:DAYLIGHT
BEGIN:STANDARD
TZOFFSETFROM:+0200
TZOFFSETTO:+0100
TZNAME:CET
DTSTART:20181028T010000
END:STANDARD
BEGIN:DAYLIGHT
TZOFFSETFROM:+0100
TZOFFSETTO:+0200
TZNAME:CEST
DTSTART:20190331T010000
END:DAYLIGHT
BEGIN:STANDARD
TZOFFSETFROM:+0200
TZOFFSETTO:+0100
TZNAME:CET
DTSTART:20191027T010000
END:STANDARD
END:VTIMEZONE
BEGIN:VEVENT
DTSTART;TZID=Europe/Prague:20180531T170000
DTEND;TZID=Europe/Prague:20180531T170000
DTSTAMP:20260423T164939
CREATED:20190831T152510Z
LAST-MODIFIED:20190831T152510Z
UID:1752-1527786000-1527786000@www.luxor.cz
SUMMARY:Beseda a autogramiáda ke knize Jaroslava Kmenty Boss Babiš
DESCRIPTION:Boss Babiš je reportážní kniha o temném světe miliardáře a politika Andreje Babiše. Shrnuje\, v čem je oligarcha Babiš nebezpečný\, jak zbohatl\, s kým se zapletl a co všechno ještě tají. Popisuje nejen jeho skutečný podnikatelský zrod a nemilosrdné praktiky v byznysu\, ale přibližuje i jeho roli ve polosvětě kolem kmotrů Františka Mrázka\, Tomáše Pitra či Radovana Krejčíře. Kniha je zčásti postavená na reportážích časopisu Reportér. Přináší však celou řadu novinek a dosud nepublikovaných informací\, které tvoří zatím nejucelenější obraz oligarchy Babiše.
URL:https://www.luxor.cz/blog/akce/beseda-a-autogramiada-ke-knize-jaroslava-kmenty-boss-babis--1115/
LOCATION:Palác knih Luxor\, Václavské náměstí 820/41\, Praha 1\, 11000\, Česká republika
ORGANIZER;CN="Luxor":MAILTO:info@luxor.cz
END:VEVENT
END:VCALENDAR