BEGIN:VCALENDAR
VERSION:2.0
PRODID:-//Blog knihkupectví Luxor - ECPv6.15.20//NONSGML v1.0//EN
CALSCALE:GREGORIAN
METHOD:PUBLISH
X-WR-CALNAME:Blog knihkupectví Luxor
X-ORIGINAL-URL:https://www.luxor.cz/blog
X-WR-CALDESC:Akce na Blog knihkupectví Luxor
REFRESH-INTERVAL;VALUE=DURATION:PT1H
X-Robots-Tag:noindex
X-PUBLISHED-TTL:PT1H
BEGIN:VTIMEZONE
TZID:Europe/Prague
BEGIN:DAYLIGHT
TZOFFSETFROM:+0100
TZOFFSETTO:+0200
TZNAME:CEST
DTSTART:20170326T010000
END:DAYLIGHT
BEGIN:STANDARD
TZOFFSETFROM:+0200
TZOFFSETTO:+0100
TZNAME:CET
DTSTART:20171029T010000
END:STANDARD
BEGIN:DAYLIGHT
TZOFFSETFROM:+0100
TZOFFSETTO:+0200
TZNAME:CEST
DTSTART:20180325T010000
END:DAYLIGHT
BEGIN:STANDARD
TZOFFSETFROM:+0200
TZOFFSETTO:+0100
TZNAME:CET
DTSTART:20181028T010000
END:STANDARD
BEGIN:DAYLIGHT
TZOFFSETFROM:+0100
TZOFFSETTO:+0200
TZNAME:CEST
DTSTART:20190331T010000
END:DAYLIGHT
BEGIN:STANDARD
TZOFFSETFROM:+0200
TZOFFSETTO:+0100
TZNAME:CET
DTSTART:20191027T010000
END:STANDARD
END:VTIMEZONE
BEGIN:VEVENT
DTSTART;TZID=Europe/Prague:20180425T170000
DTEND;TZID=Europe/Prague:20180425T170000
DTSTAMP:20260423T164333
CREATED:20190831T152058Z
LAST-MODIFIED:20190831T152058Z
UID:1727-1524675600-1524675600@www.luxor.cz
SUMMARY:Autogramiáda a beseda s Erikem Taberym ke knize Opuštěná společnost
DESCRIPTION:Žijeme v době\, kdy jeden lživý příspěvek na Twitteru či Facebooku má větší dosah než systematická práce investigativních novinářů. Posilují populisté\, kteří sbírají body kritikou establishmentu\, i když sami mají z vlastního elitního postavení dlouhodobý prospěch. Výdobytky demokracie jako svoboda slova či nezávislost médií jsou necelých třicet let po listopadu 1989 zpochybňovány. Šéfredaktor týdeníku Respekt popisuje dobrodružnou českou cestu od vzniku republiky po současnost a zasazuje dnešní politické a společenské události do historického a evropského kontextu. Je to svým způsobem rozmluva s minulostí o naší budoucnosti\, v níž myšlenkový rámec dávají autorovi úvahy K. H. Borovského\, H. G. Schauera\, T. G. Masaryka\, Ferdinanda Peroutky\, Václava Černého\, Jana Patočky\, Erazima Koháka či Václava Havla. S odkazem na velké kritické duchy demokratické tradice Tabery jasně ukazuje\, že rizikům přítomnosti se nejlépe čelí nikoliv panikou\, ale chladnou hlavou a rozhodností.
URL:https://www.luxor.cz/blog/akce/autogramiada-a-beseda-s-erikem-taberym-ke-knize-opustena-spolecnost--1099/
LOCATION:Palác knih Luxor\, Václavské náměstí 820/41\, Praha 1\, 11000\, Česká republika
ORGANIZER;CN="Luxor":MAILTO:info@luxor.cz
END:VEVENT
END:VCALENDAR