BEGIN:VCALENDAR
VERSION:2.0
PRODID:-//Blog knihkupectví Luxor - ECPv6.15.20//NONSGML v1.0//EN
CALSCALE:GREGORIAN
METHOD:PUBLISH
X-WR-CALNAME:Blog knihkupectví Luxor
X-ORIGINAL-URL:https://www.luxor.cz/blog
X-WR-CALDESC:Akce na Blog knihkupectví Luxor
REFRESH-INTERVAL;VALUE=DURATION:PT1H
X-Robots-Tag:noindex
X-PUBLISHED-TTL:PT1H
BEGIN:VTIMEZONE
TZID:Europe/Prague
BEGIN:DAYLIGHT
TZOFFSETFROM:+0100
TZOFFSETTO:+0200
TZNAME:CEST
DTSTART:20170326T010000
END:DAYLIGHT
BEGIN:STANDARD
TZOFFSETFROM:+0200
TZOFFSETTO:+0100
TZNAME:CET
DTSTART:20171029T010000
END:STANDARD
BEGIN:DAYLIGHT
TZOFFSETFROM:+0100
TZOFFSETTO:+0200
TZNAME:CEST
DTSTART:20180325T010000
END:DAYLIGHT
BEGIN:STANDARD
TZOFFSETFROM:+0200
TZOFFSETTO:+0100
TZNAME:CET
DTSTART:20181028T010000
END:STANDARD
BEGIN:DAYLIGHT
TZOFFSETFROM:+0100
TZOFFSETTO:+0200
TZNAME:CEST
DTSTART:20190331T010000
END:DAYLIGHT
BEGIN:STANDARD
TZOFFSETFROM:+0200
TZOFFSETTO:+0100
TZNAME:CET
DTSTART:20191027T010000
END:STANDARD
END:VTIMEZONE
BEGIN:VEVENT
DTSTART;TZID=Europe/Prague:20180424T160000
DTEND;TZID=Europe/Prague:20180424T160000
DTSTAMP:20260423T164247
CREATED:20190831T152053Z
LAST-MODIFIED:20190831T152055Z
UID:1719-1524585600-1524585600@www.luxor.cz
SUMMARY:Křest knihy Martina Fendrycha Šaman
DESCRIPTION:Má schopnost vidět druhým do hlavy. Je to prokletí\, nebo dar? Když se s těmito paranormálními vlohami narodí v rodině vysoce postaveného estébáka v době normalizace\, má zaděláno na složitou cestu životem i k sobě samému. Otec chce jeho schopností využít „pro stát“. On sám umí předvídat hru druhých a učí to mladé tenisty. Stane se vyhledávaným trenérem anticipace. Narodil se ale pro sport? Neměl by být raději šamanem? Uvěřitelná fikce\, anebo se ten příběh doopravdy stal? Autor k tomu říká: „Jakákoliv shoda se skutečnými postavami a jejich životními příběhy je náhodná.“
URL:https://www.luxor.cz/blog/akce/krest-knihy-martina-fendrycha-saman--1096/
LOCATION:Palác knih Luxor\, Václavské náměstí 820/41\, Praha 1\, 11000\, Česká republika
ORGANIZER;CN="Luxor":MAILTO:info@luxor.cz
END:VEVENT
BEGIN:VEVENT
DTSTART;TZID=Europe/Prague:20180424T180000
DTEND;TZID=Europe/Prague:20180424T180000
DTSTAMP:20260423T164247
CREATED:20190831T152054Z
LAST-MODIFIED:20190831T152055Z
UID:1720-1524592800-1524592800@www.luxor.cz
SUMMARY:Křest knihy Alfreda Stieglitze Město za řekou
DESCRIPTION:Američan Alfred Stieglitz (1864–1946) nejenže nechybí vžádných vážně míněných dějinách světové fotografie. Patří k nejdůležitějším\nosobnostem západního umění. Evropa\, kde začal fotografovat\, mu nabídla také\nzkušenost s uvolňováním vazeb výtvarných děl k předlohám a vnějším reáliím\nobecně. Americké umělce i veřejnost s tíhnutím k nefigurativnosti soustavně\nseznamoval již před první světovou válkou. Odtud též důraz na oduševnělost jeho\nvlastního fotografování. V New Yorku se uplatnil coby fotograf a zároveň\nredaktor\, publicista\, vydavatel\, organizátor\, galerista\, kurátor\, mecenáš a\nsběratel. Pod hlavičkami The Little Galleries of the Photo-Secession\, 291\, The\nIntimate Gallery a An American Place zpřístupňoval během čtyř dekád díla\nuznávaných i začínajících amerických a evropských tvůrců. Náleží k těm\, kteří\nsvými zájmy a vkusem proměňovali mínění o tom\, čím vlastně moderní umění je a\njak může vypadat. Zvláště se zasadil o přijetí fotografie mezi disciplíny\nvyhovující nárokům vysoké kultury. \nReprodukce otištěné v druhé české monografii Alfreda\nStieglitze pocházejí ze sbírek Metropolitního muzea v New Yorku.
URL:https://www.luxor.cz/blog/akce/krest-knihy-alfreda-stieglitze-mesto-nad-rekou--1097/
LOCATION:Palác knih Luxor\, Václavské náměstí 820/41\, Praha 1\, 11000\, Česká republika
ORGANIZER;CN="Luxor":MAILTO:info@luxor.cz
END:VEVENT
END:VCALENDAR