BEGIN:VCALENDAR
VERSION:2.0
PRODID:-//Blog knihkupectví Luxor - ECPv6.15.20//NONSGML v1.0//EN
CALSCALE:GREGORIAN
METHOD:PUBLISH
X-WR-CALNAME:Blog knihkupectví Luxor
X-ORIGINAL-URL:https://www.luxor.cz/blog
X-WR-CALDESC:Akce na Blog knihkupectví Luxor
REFRESH-INTERVAL;VALUE=DURATION:PT1H
X-Robots-Tag:noindex
X-PUBLISHED-TTL:PT1H
BEGIN:VTIMEZONE
TZID:Europe/Prague
BEGIN:DAYLIGHT
TZOFFSETFROM:+0100
TZOFFSETTO:+0200
TZNAME:CEST
DTSTART:20170326T010000
END:DAYLIGHT
BEGIN:STANDARD
TZOFFSETFROM:+0200
TZOFFSETTO:+0100
TZNAME:CET
DTSTART:20171029T010000
END:STANDARD
BEGIN:DAYLIGHT
TZOFFSETFROM:+0100
TZOFFSETTO:+0200
TZNAME:CEST
DTSTART:20180325T010000
END:DAYLIGHT
BEGIN:STANDARD
TZOFFSETFROM:+0200
TZOFFSETTO:+0100
TZNAME:CET
DTSTART:20181028T010000
END:STANDARD
BEGIN:DAYLIGHT
TZOFFSETFROM:+0100
TZOFFSETTO:+0200
TZNAME:CEST
DTSTART:20190331T010000
END:DAYLIGHT
BEGIN:STANDARD
TZOFFSETFROM:+0200
TZOFFSETTO:+0100
TZNAME:CET
DTSTART:20191027T010000
END:STANDARD
END:VTIMEZONE
BEGIN:VEVENT
DTSTART;TZID=Europe/Prague:20180423T100000
DTEND;TZID=Europe/Prague:20180423T100000
DTSTAMP:20260423T164334
CREATED:20190831T152102Z
LAST-MODIFIED:20190831T152102Z
UID:1731-1524477600-1524477600@www.luxor.cz
SUMMARY:Kniha ti sluší 2018 - Slavnostní zahájení kampaně
DESCRIPTION:Trable s tátou – Jana Klimentová\nMarkétka se zcela nečekaně ocitá v náročné rodinné situaci – tatínek jednoho dne oznámí\, že se zamiloval do jiné ženy\, a odchází z domova. Mamince se hroutí svět a Markétka se musí chvílemi vypořádávat s novou situací\, které nerozumí\, sama. Naštěstí má kolem sebe chápavé kamarádky i příbuzné a také největšího přítele v podobných chvílích – čas. Konec skvěle napsané knihy pro mladší dívky o palčivém problému současných rodin vyznívá nadějně a nabízí léčivý pohled na svět. \n \nStrašidlář – Mezi námi cizokrajnými strašidly – Hynek Klimek\nVypravěčem pohádkových příběhů o strašidlech a příšerách z cizích zemí je domýšlivý\, avšak velice sečtělý a vzdělaný severský elf. Dozvíte se od něj\, jak se z tuleních žen stávají na pobřeží Skotska krásné dívky\, jak se skandinávští trollové zmenšují až do trpasličí velikosti\, jak nebezpečné jsou polské redunice\, proradné bosorky ze Slovenska nebo škodolibé řecké harpyje.  \n \nKarel IV. očima opata Neplacha a rytíře Smila – Tomáš Němeček\n \nDruhý díl série popisující naše velikány tak\, jak je neznáte. Čeká vás plno pikantních zajímavostí\, vtipných komentářů a komiksových ilustrací. Průvodci vám budou rytíř a básník Smil Flaška z Pardubic a opat Jan Neplach – historické postavy\, které krále Karla IV. zažily. A dvě „laskavé čtenářky“\, které kladou všetečné otázky.
URL:https://www.luxor.cz/blog/akce/kniha-ti-slusi-2018-slavnostni-zahajeni-kampane--1103/
LOCATION:Palác knih Luxor\, Václavské náměstí 820/41\, Praha 1\, 11000\, Česká republika
ORGANIZER;CN="Luxor":MAILTO:info@luxor.cz
END:VEVENT
BEGIN:VEVENT
DTSTART;TZID=Europe/Prague:20180423T150000
DTEND;TZID=Europe/Prague:20180423T150000
DTSTAMP:20260423T164334
CREATED:20190831T152101Z
LAST-MODIFIED:20190831T152101Z
UID:1730-1524495600-1524495600@www.luxor.cz
SUMMARY:Křest a autogramiáda knihy k filmu Pepa
DESCRIPTION:Hlavní hrdina Pepa (Michal Suchánek) od útlého věku čeká na to\, až začne ten opravdový a šťastný život. Ve školce nebyl oblíbeným dítětem paní učitelky\, ve škole s ním nikdo moc nekamarádil. Na gymnáziu patřil mezi vyložené outsidery. Dlouho mu trvalo\, než se osamostatnil\, našel si práci\, ženu\, založil rodinu. V současnosti pracuje jako obyčejný úředník\, který žije se svou ženou Zdenou (Petra Špalková) a dospívající dcerkou Zdeničkou (Natálie Grossová). Každý týden chodí s manželkou hrát karty ke svému dobrému kamarádovi Tondovi (Filip Blažek) a jeho ženě Jarmile (Alice Bendová). Zdá se\, že Pepovi nic nechybí a vede obyčejný\, ale šťastný život jako celá řada jiných lidí. Možná ale\, že to není život\, o kterém snil. A možná\, že ho čeká život úplně jiný. Přijde opravdu ten správný zvrat v jeho životě\, když k němu do kanceláře nastoupí nová kolegyně mladá a krásná Pavlína (Alena Doláková)? Nebo když potká svou vysněnou krásku (recepční – Anička Stopnická)\, kterou občas sleduje dalekohledem a díky které dokáže uniknout alespoň na chvíli z nudné a stereotypní reality jeho běžného života? Paralelně s životem Pepy se nám otevírá i život již zmíněné recepční Ireny\, která v soužití se svým přítelem Emanem (Martin Pechlát) není úplně šťastná\, avšak stále se snaží otěhotnět.
URL:https://www.luxor.cz/blog/akce/krest-a-autogramiada-knihy-k-filmu-pepa--1102/
LOCATION:Palác knih Luxor\, Václavské náměstí 820/41\, Praha 1\, 11000\, Česká republika
ORGANIZER;CN="Luxor":MAILTO:info@luxor.cz
END:VEVENT
END:VCALENDAR