BEGIN:VCALENDAR
VERSION:2.0
PRODID:-//Blog knihkupectví Luxor - ECPv6.15.20//NONSGML v1.0//EN
CALSCALE:GREGORIAN
METHOD:PUBLISH
X-WR-CALNAME:Blog knihkupectví Luxor
X-ORIGINAL-URL:https://www.luxor.cz/blog
X-WR-CALDESC:Akce na Blog knihkupectví Luxor
REFRESH-INTERVAL;VALUE=DURATION:PT1H
X-Robots-Tag:noindex
X-PUBLISHED-TTL:PT1H
BEGIN:VTIMEZONE
TZID:Europe/Prague
BEGIN:DAYLIGHT
TZOFFSETFROM:+0100
TZOFFSETTO:+0200
TZNAME:CEST
DTSTART:20170326T010000
END:DAYLIGHT
BEGIN:STANDARD
TZOFFSETFROM:+0200
TZOFFSETTO:+0100
TZNAME:CET
DTSTART:20171029T010000
END:STANDARD
BEGIN:DAYLIGHT
TZOFFSETFROM:+0100
TZOFFSETTO:+0200
TZNAME:CEST
DTSTART:20180325T010000
END:DAYLIGHT
BEGIN:STANDARD
TZOFFSETFROM:+0200
TZOFFSETTO:+0100
TZNAME:CET
DTSTART:20181028T010000
END:STANDARD
BEGIN:DAYLIGHT
TZOFFSETFROM:+0100
TZOFFSETTO:+0200
TZNAME:CEST
DTSTART:20190331T010000
END:DAYLIGHT
BEGIN:STANDARD
TZOFFSETFROM:+0200
TZOFFSETTO:+0100
TZNAME:CET
DTSTART:20191027T010000
END:STANDARD
END:VTIMEZONE
BEGIN:VEVENT
DTSTART;TZID=Europe/Prague:20180418T173000
DTEND;TZID=Europe/Prague:20180418T173000
DTSTAMP:20260423T164333
CREATED:20190831T152053Z
LAST-MODIFIED:20190831T152054Z
UID:1717-1524072600-1524072600@www.luxor.cz
SUMMARY:Křest knihy Hastrman a autogramiáda herců ze stejnojmenného filmu
DESCRIPTION:Novodobá utopie\, dílo pozdního romantismu\, pohádka pro lid držený pod krkem svou vlastní politickou reprezentací – tak lze charakterizovat Hastrmana\, potenciální černou knihu ekoterorismu…\, kdyby to nebyla kniha zelená. \nPrvní kniha zavádí čtenáře do třicátých let devatenáctého století. Do Staré Vsi přijíždí její pán\, volnomyšlenkářský šlechtic a podivínský diplomat\, který se dlouhá léta zdržoval v cizině a pak se rozhodl pro klidný život ve staré vlasti. Nepočítal však s tím\, že v nepatrné vesnici objeví celý nový svět. \nDruhá kniha vrhá hrdinu do dnešního dne\, přímo doprostřed odporné přítomnosti se všemi jejími zlořády a nečistotami. Hrdina bere do rukou zbraň\, aby v zemi udělal pořádek a vydobyl zpět to\, oč moderní doba připravila člověka. \nKniha obdržela cenu Litera za nejlepší knihu roku 2001 v kategorii próza.
URL:https://www.luxor.cz/blog/akce/krest-knihy-hastrman-a-autogramiada-hercu-ze-stejnojmenneho-filmu--1093/
LOCATION:Palác knih Luxor\, Václavské náměstí 820/41\, Praha 1\, 11000\, Česká republika
ORGANIZER;CN="Luxor":MAILTO:info@luxor.cz
END:VEVENT
END:VCALENDAR