BEGIN:VCALENDAR
VERSION:2.0
PRODID:-//Blog knihkupectví Luxor - ECPv6.15.20//NONSGML v1.0//EN
CALSCALE:GREGORIAN
METHOD:PUBLISH
X-ORIGINAL-URL:https://www.luxor.cz/blog
X-WR-CALDESC:Akce na Blog knihkupectví Luxor
REFRESH-INTERVAL;VALUE=DURATION:PT1H
X-Robots-Tag:noindex
X-PUBLISHED-TTL:PT1H
BEGIN:VTIMEZONE
TZID:Europe/Prague
BEGIN:DAYLIGHT
TZOFFSETFROM:+0100
TZOFFSETTO:+0200
TZNAME:CEST
DTSTART:20170326T010000
END:DAYLIGHT
BEGIN:STANDARD
TZOFFSETFROM:+0200
TZOFFSETTO:+0100
TZNAME:CET
DTSTART:20171029T010000
END:STANDARD
BEGIN:DAYLIGHT
TZOFFSETFROM:+0100
TZOFFSETTO:+0200
TZNAME:CEST
DTSTART:20180325T010000
END:DAYLIGHT
BEGIN:STANDARD
TZOFFSETFROM:+0200
TZOFFSETTO:+0100
TZNAME:CET
DTSTART:20181028T010000
END:STANDARD
BEGIN:DAYLIGHT
TZOFFSETFROM:+0100
TZOFFSETTO:+0200
TZNAME:CEST
DTSTART:20190331T010000
END:DAYLIGHT
BEGIN:STANDARD
TZOFFSETFROM:+0200
TZOFFSETTO:+0100
TZNAME:CET
DTSTART:20191027T010000
END:STANDARD
END:VTIMEZONE
BEGIN:VEVENT
DTSTART;TZID=Europe/Prague:20180411T160000
DTEND;TZID=Europe/Prague:20180411T160000
DTSTAMP:20260423T152750
CREATED:20190831T152050Z
LAST-MODIFIED:20190831T152051Z
UID:1711-1523462400-1523462400@www.luxor.cz
SUMMARY:Křest knihy Kapka do žil Jiřího Wericha Petráška
DESCRIPTION:„Nikdy jsem si nemyslel\, že někdy vydám knihu. Když mi však jedna věrná posluchačka napsala\, že se jí líbí moje glosy\, které pravidelně zněly z Českého rozhlasu\, a když se mi začaly množit zážitky a historky\, o nichž vyprávím na besedách\, bylo rozhodnuto\,“ říká o své knize Jiří Werich Petrášek. Kniha je koláží autorových textů\, glos\, aforismů\, citátů\, ale hlavně milých vzpomínek ze života\, například na otce Jana Wericha\, na setkávání se zajímavými lidmi\, na dětství\, a dojde i na historky z natáčení či divadelních prken…
URL:https://www.luxor.cz/blog/akce/krest-knihy-kapka-do-zil-jiriho-wericha-petraska--1092/
LOCATION:Palác knih Luxor\, Václavské náměstí 820/41\, Praha 1\, 11000\, Česká republika
ORGANIZER;CN="Luxor":MAILTO:info@luxor.cz
END:VEVENT
END:VCALENDAR