BEGIN:VCALENDAR
VERSION:2.0
PRODID:-//Blog knihkupectví Luxor - ECPv6.15.20//NONSGML v1.0//EN
CALSCALE:GREGORIAN
METHOD:PUBLISH
X-WR-CALNAME:Blog knihkupectví Luxor
X-ORIGINAL-URL:https://www.luxor.cz/blog
X-WR-CALDESC:Akce na Blog knihkupectví Luxor
REFRESH-INTERVAL;VALUE=DURATION:PT1H
X-Robots-Tag:noindex
X-PUBLISHED-TTL:PT1H
BEGIN:VTIMEZONE
TZID:Europe/Prague
BEGIN:DAYLIGHT
TZOFFSETFROM:+0100
TZOFFSETTO:+0200
TZNAME:CEST
DTSTART:20170326T010000
END:DAYLIGHT
BEGIN:STANDARD
TZOFFSETFROM:+0200
TZOFFSETTO:+0100
TZNAME:CET
DTSTART:20171029T010000
END:STANDARD
BEGIN:DAYLIGHT
TZOFFSETFROM:+0100
TZOFFSETTO:+0200
TZNAME:CEST
DTSTART:20180325T010000
END:DAYLIGHT
BEGIN:STANDARD
TZOFFSETFROM:+0200
TZOFFSETTO:+0100
TZNAME:CET
DTSTART:20181028T010000
END:STANDARD
BEGIN:DAYLIGHT
TZOFFSETFROM:+0100
TZOFFSETTO:+0200
TZNAME:CEST
DTSTART:20190331T010000
END:DAYLIGHT
BEGIN:STANDARD
TZOFFSETFROM:+0200
TZOFFSETTO:+0100
TZNAME:CET
DTSTART:20191027T010000
END:STANDARD
END:VTIMEZONE
BEGIN:VEVENT
DTSTART;TZID=Europe/Prague:20180322T150000
DTEND;TZID=Europe/Prague:20180322T150000
DTSTAMP:20260423T180003
CREATED:20190831T152042Z
LAST-MODIFIED:20190831T152044Z
UID:1688-1521730800-1521730800@www.luxor.cz
SUMMARY:Křest knihy Zakázané uvolnění Jitky Ludvíkové
DESCRIPTION:Zakázané uvolnění je soubor hořkosladkých povídek o lásce\, vášni\, nenávisti\, žárlivosti\, bolesti i zklamání. Kniha ukazuje různé pohledy na partnerské vztahy a naše osobní limity. Jedno však mají všechny povídky společné\, překvapivé rozuzlení příběhu\, vtip a ironii\, které jsou pro tvorbu spisovatelky Jitky Ludvíkové tak typické. Co jsme ochotni obětovat? Co si necháme líbit a co jsme schopni unést? Kde jsou naše hranice? Jak dlouho lze snášet bolest? Jak dlouho můžeme věřit? Co je láska? Nejen nad těmito otázkami se autorka knihy zamýšlí.
URL:https://www.luxor.cz/blog/akce/krest-knihy-zakazane-uvolneni-jitky-ludvikove--1078/
LOCATION:Palác knih Luxor\, Václavské náměstí 820/41\, Praha 1\, 11000\, Česká republika
ORGANIZER;CN="Luxor":MAILTO:info@luxor.cz
END:VEVENT
BEGIN:VEVENT
DTSTART;TZID=Europe/Prague:20180322T170000
DTEND;TZID=Europe/Prague:20180322T170000
DTSTAMP:20260423T180003
CREATED:20190831T152043Z
LAST-MODIFIED:20190831T152044Z
UID:1689-1521738000-1521738000@www.luxor.cz
SUMMARY:Křest knihy Styly interiérů architektky Veroniky Haroldové
DESCRIPTION:Kniha je napsaná pro Vás všechny\, které nejen baví a zajímá interiérový design\, ale současně rádi přemýšlíte o souvislostech mezi svým domovem a životem. Publikace přehledně shrnující současné styly interiérů na trhu dosud citelně chyběla. Kniha plná atraktivních fotografií podrobně představuje sedmnáct interiérových stylů\, které přehledně rozděluje do čtyř skupin: moderní\, venkovské\, romantické a avantgardní. Stranou zůstává pouze eklektický styl\, který ostatní styly svobodně míchá. Výpravná publikace nabízí přehledné a podrobné informace o jednotlivých stylech\, jejich typických materiálech\, barevnosti\, nábytku\, svítidlech\, doplňcích a textilu\, zkrátka o všem\, co s tvorbou a charakterem stylu souvisí. V úvodu kapitoly je každý styl propojen s typem osobnosti\, pro kterou se ideálně hodí\, které se bude líbit a bude jí nejlépe vyhovovat. \nVydavatelství Baron ve své produkci primárně oprašuje staré časy pomocí dobových pohlednic prostřednictvím jedinečné knižní edice. Od roku 1997 vydalo 9745 druhů místopisných pohlednic ČR.
URL:https://www.luxor.cz/blog/akce/krest-knihy-styly-interieru-architektky-veroniky-haroldove--1079/
LOCATION:Palác knih Luxor\, Václavské náměstí 820/41\, Praha 1\, 11000\, Česká republika
ORGANIZER;CN="Luxor":MAILTO:info@luxor.cz
END:VEVENT
END:VCALENDAR