BEGIN:VCALENDAR
VERSION:2.0
PRODID:-//Blog knihkupectví Luxor - ECPv6.15.20//NONSGML v1.0//EN
CALSCALE:GREGORIAN
METHOD:PUBLISH
X-ORIGINAL-URL:https://www.luxor.cz/blog
X-WR-CALDESC:Akce na Blog knihkupectví Luxor
REFRESH-INTERVAL;VALUE=DURATION:PT1H
X-Robots-Tag:noindex
X-PUBLISHED-TTL:PT1H
BEGIN:VTIMEZONE
TZID:Europe/Prague
BEGIN:DAYLIGHT
TZOFFSETFROM:+0100
TZOFFSETTO:+0200
TZNAME:CEST
DTSTART:20170326T010000
END:DAYLIGHT
BEGIN:STANDARD
TZOFFSETFROM:+0200
TZOFFSETTO:+0100
TZNAME:CET
DTSTART:20171029T010000
END:STANDARD
BEGIN:DAYLIGHT
TZOFFSETFROM:+0100
TZOFFSETTO:+0200
TZNAME:CEST
DTSTART:20180325T010000
END:DAYLIGHT
BEGIN:STANDARD
TZOFFSETFROM:+0200
TZOFFSETTO:+0100
TZNAME:CET
DTSTART:20181028T010000
END:STANDARD
BEGIN:DAYLIGHT
TZOFFSETFROM:+0100
TZOFFSETTO:+0200
TZNAME:CEST
DTSTART:20190331T010000
END:DAYLIGHT
BEGIN:STANDARD
TZOFFSETFROM:+0200
TZOFFSETTO:+0100
TZNAME:CET
DTSTART:20191027T010000
END:STANDARD
END:VTIMEZONE
BEGIN:VEVENT
DTSTART;TZID=Europe/Prague:20180315T170000
DTEND;TZID=Europe/Prague:20180315T170000
DTSTAMP:20260423T180029
CREATED:20190831T152039Z
LAST-MODIFIED:20190831T152040Z
UID:1680-1521133200-1521133200@www.luxor.cz
SUMMARY:Autogramiáda a křest knihy Jiřího Slívy Rádio opět hlásí
DESCRIPTION:Známý český kreslíř poprvé připravil druhou autorskou knihubásniček a kreseb. Slívův kreslený humor je obvykle postaven na paradoxu –\npostavení jinak seriózních a běžných námětů do nečekaných kontrastů. \nJeho nadhled a inteligentní pohled na svět kolem nás vytváří\nv jeho kresbách a grafikách jemný gentlemanský humor\, který v dnešní době\ntrochu chybí. \nVýznamný český grafik\, výtvarník\, ilustrátor a karikaturista\nJiří Slíva se ve své knize představuje jako autor kresleného humoru a mistr\nslovní zkratky a břitkého\, ač vlastně laskavého vtipu.. 
URL:https://www.luxor.cz/blog/akce/autogramiada-a-krest-knihy-jiriho-slivy-radio-hlasi--1075/
LOCATION:Palác knih Luxor\, Václavské náměstí 820/41\, Praha 1\, 11000\, Česká republika
ORGANIZER;CN="Luxor":MAILTO:info@luxor.cz
END:VEVENT
END:VCALENDAR