BEGIN:VCALENDAR
VERSION:2.0
PRODID:-//Blog knihkupectví Luxor - ECPv6.15.20//NONSGML v1.0//EN
CALSCALE:GREGORIAN
METHOD:PUBLISH
X-WR-CALNAME:Blog knihkupectví Luxor
X-ORIGINAL-URL:https://www.luxor.cz/blog
X-WR-CALDESC:Akce na Blog knihkupectví Luxor
REFRESH-INTERVAL;VALUE=DURATION:PT1H
X-Robots-Tag:noindex
X-PUBLISHED-TTL:PT1H
BEGIN:VTIMEZONE
TZID:Europe/Prague
BEGIN:DAYLIGHT
TZOFFSETFROM:+0100
TZOFFSETTO:+0200
TZNAME:CEST
DTSTART:20170326T010000
END:DAYLIGHT
BEGIN:STANDARD
TZOFFSETFROM:+0200
TZOFFSETTO:+0100
TZNAME:CET
DTSTART:20171029T010000
END:STANDARD
BEGIN:DAYLIGHT
TZOFFSETFROM:+0100
TZOFFSETTO:+0200
TZNAME:CEST
DTSTART:20180325T010000
END:DAYLIGHT
BEGIN:STANDARD
TZOFFSETFROM:+0200
TZOFFSETTO:+0100
TZNAME:CET
DTSTART:20181028T010000
END:STANDARD
BEGIN:DAYLIGHT
TZOFFSETFROM:+0100
TZOFFSETTO:+0200
TZNAME:CEST
DTSTART:20190331T010000
END:DAYLIGHT
BEGIN:STANDARD
TZOFFSETFROM:+0200
TZOFFSETTO:+0100
TZNAME:CET
DTSTART:20191027T010000
END:STANDARD
END:VTIMEZONE
BEGIN:VEVENT
DTSTART;TZID=Europe/Prague:20180228T101200
DTEND;TZID=Europe/Prague:20180228T101200
DTSTAMP:20260423T164414
CREATED:20190831T152031Z
LAST-MODIFIED:20190831T152033Z
UID:1661-1519812720-1519812720@www.luxor.cz
SUMMARY:Zamilujte se dvakrát - Valentýnské 1+1
DESCRIPTION:Od 1. do 28. února v našich knihkupectvích zakoupíte dva libovolné tituly z naší valentýnské nabídky za cenu jednoho (levnější titul je vždy zdarma). Tak pojďte svým druhým polovičkám\, přátelům nebo jen sobě udělat radost. Akce platí ve všech kamenných prodejnách (ne v e-shopu) do vyprodání zásob.
URL:https://www.luxor.cz/blog/akce/zamilujte-se-dvakrat-valentynske-1-1--1066/
ORGANIZER;CN="Luxor":MAILTO:info@luxor.cz
END:VEVENT
BEGIN:VEVENT
DTSTART;TZID=Europe/Prague:20180228T150000
DTEND;TZID=Europe/Prague:20180228T150000
DTSTAMP:20260423T164414
CREATED:20190831T152035Z
LAST-MODIFIED:20190831T152037Z
UID:1671-1519830000-1519830000@www.luxor.cz
SUMMARY:OSTRAVA: Křest učebnice New Maturita Activator
DESCRIPTION:Kapacita je omezena na 25 osob.  \nVíce informací a možnost registrace na: https://www.venturesbooks.cz/konference-a-vzdelavani/krest-new-maturita-activator-ostrava
URL:https://www.luxor.cz/blog/akce/ostrava-krest-ucebnice-new-maturita-activator--1071/
LOCATION:Knihkupectví Laso\, OC Laso\, Ostrava\, 70200\, Česká republika
ORGANIZER;CN="Luxor":MAILTO:info@luxor.cz
END:VEVENT
END:VCALENDAR