BEGIN:VCALENDAR
VERSION:2.0
PRODID:-//Blog knihkupectví Luxor - ECPv6.15.20//NONSGML v1.0//EN
CALSCALE:GREGORIAN
METHOD:PUBLISH
X-WR-CALNAME:Blog knihkupectví Luxor
X-ORIGINAL-URL:https://www.luxor.cz/blog
X-WR-CALDESC:Akce na Blog knihkupectví Luxor
REFRESH-INTERVAL;VALUE=DURATION:PT1H
X-Robots-Tag:noindex
X-PUBLISHED-TTL:PT1H
BEGIN:VTIMEZONE
TZID:Europe/Prague
BEGIN:DAYLIGHT
TZOFFSETFROM:+0100
TZOFFSETTO:+0200
TZNAME:CEST
DTSTART:20170326T010000
END:DAYLIGHT
BEGIN:STANDARD
TZOFFSETFROM:+0200
TZOFFSETTO:+0100
TZNAME:CET
DTSTART:20171029T010000
END:STANDARD
BEGIN:DAYLIGHT
TZOFFSETFROM:+0100
TZOFFSETTO:+0200
TZNAME:CEST
DTSTART:20180325T010000
END:DAYLIGHT
BEGIN:STANDARD
TZOFFSETFROM:+0200
TZOFFSETTO:+0100
TZNAME:CET
DTSTART:20181028T010000
END:STANDARD
BEGIN:DAYLIGHT
TZOFFSETFROM:+0100
TZOFFSETTO:+0200
TZNAME:CEST
DTSTART:20190331T010000
END:DAYLIGHT
BEGIN:STANDARD
TZOFFSETFROM:+0200
TZOFFSETTO:+0100
TZNAME:CET
DTSTART:20191027T010000
END:STANDARD
END:VTIMEZONE
BEGIN:VEVENT
DTSTART;TZID=Europe/Prague:20180227T150000
DTEND;TZID=Europe/Prague:20180227T150000
DTSTAMP:20260423T164529
CREATED:20190831T152035Z
LAST-MODIFIED:20190831T152037Z
UID:1670-1519743600-1519743600@www.luxor.cz
SUMMARY:HRADEC KRÁLOVÉ: Křest učebnice New Maturita Activator
DESCRIPTION:Kapacita jeomezena na 25 osob. \nVíce\ninformací a možnost registrace na: https://www.venturesbooks.cz/konference-a-vzdelavani/krest-new-maturita-activator-hradec-kralove
URL:https://www.luxor.cz/blog/akce/hradec-kralove-krest-ucebnice-new-maturita-activator--1070/
LOCATION:Knihkupectví Futurum\, OC Futurum\, Hradec Králové\, 50009\, Česká republika
ORGANIZER;CN="Luxor":MAILTO:info@luxor.cz
END:VEVENT
BEGIN:VEVENT
DTSTART;TZID=Europe/Prague:20180227T173000
DTEND;TZID=Europe/Prague:20180227T173000
DTSTAMP:20260423T164529
CREATED:20190831T152027Z
LAST-MODIFIED:20190831T152029Z
UID:1648-1519752600-1519752600@www.luxor.cz
SUMMARY:Beseda a autogramiáda Tomáše Šebka
DESCRIPTION:Africká zima \n„Tak mám tu malárii\, nebo nemám?“ Toto je autentická zpověď z Jižního Súdánu\, nejmladšího státu světa\, jehož území už celá desetiletí sužují ozbrojené konflikty. Na začátku roku 2017\, kdy zemi navíc zasáhla vlna kritického nedostatku potravin\, se do míst\, kde se až příliš daří infekčním a tropickým nemocem\, vydal na misi Lékařů bez hranic chirurg Tomáš Šebek. Po zkušenostech s úrazovou chirurgií z kolébky vúdú na Haiti a válečnou medicínou v severním Afghánistánu se spolu s kolegy ocitl v prostředí\, kde má tradiční léčitel a jeho alternativní přístup k pacientovi daleko větší respekt než lékař vzdělaný na Západě. \nProti fixaci zlomenin papírem anebo poléváním vařící vodou může reputaci chirurgického týmu v očích místních pozvednout snad jen tím\, že v absolutní pustině obklopující nemocnici v Agoku provede první operaci mozku dospívajícího Jihosúdánce. Zápisky Tomáše Šebka\, doprovázené strhujícími fotografiemi\, představují jedinečný pohled na místa\, o nichž se z médií nedozvíte. \nMise Afghánistán \nPět měsíců s Lékaři bez hranic: „Desetiletý Rahmudin přišel s proraženou lebkou. Nevěřil jsem\, že se kdy probudí z kómatu. A po operaci ten malej syčák chodí!“ \nTomáš Šebek byl v Afghánistánu dvakrát\, v roce 2013 a 2015\, pokaždé s Lékaři bez hranic. Mezi zákroky\, při nichž operoval těžce zraněné z bojů i léčil docela „běžné“ úrazy\, fotil a psal. Výsledkem je soubor záznamů\, které zaujmou nejen autentickou a syrovou výpovědí\, ale i neotřelým pohledem na život v pusté hornaté krajině. Šebkovo vyprávění je osobité a mnohdy humorné. Je to nepatetické svědectví lékaře a přítele Afghánců\, jejichž zemi už několik desetiletí sužují teror a válečné konflikty.  \nKoupí těchto knih podpoříte organizaci Lékaři bez hranic.
URL:https://www.luxor.cz/blog/akce/beseda-a-autogramiada-tomase-sebka--1056/
LOCATION:Palác knih Luxor\, Václavské náměstí 820/41\, Praha 1\, 11000\, Česká republika
ORGANIZER;CN="Luxor":MAILTO:info@luxor.cz
END:VEVENT
END:VCALENDAR